PDS_VERSION_ID = PDS3
/* FILE DATA ELEMENTS */
RECORD_TYPE = STREAM
/* POINTERS TO DATA OBJECTS */
^COMPRESSED_FILE = "H5726_0001_S23.JP2"
/* IDENTIFICATION DATA ELEMENTS */
DATA_SET_ID = "MEX-M-HRSC-5-REFDR-MAPPROJECTED-V3.0"
DATA_SET_NAME = "MARS EXPRESS HRSC MAP PROJECTED REFDR V3.0"
DETECTOR_ID = MEX_HRSC_S2
EVENT_TYPE = "MARS-REGIONAL-MAPPING-Im-Gl"
INSTRUMENT_HOST_ID = MEX
INSTRUMENT_HOST_NAME = "MARS EXPRESS"
INSTRUMENT_ID = HRSC
INSTRUMENT_NAME = "HIGH RESOLUTION STEREO CAMERA"
MISSION_NAME = "MARS EXPRESS"
MISSION_PHASE_NAME = ME_Phase_13
PROCESSING_LEVEL_ID = 3
PRODUCT_CREATION_TIME = 2016-05-15T20:04:19.000Z
PRODUCT_ID = "H5726_0001_S23.JP2"
RELEASE_ID = 0065
REVISION_ID = 0000
/* QUALITY DATA ELEMENTS */
DATA_QUALITY_ID = 1
DATA_QUALITY_DESC = "Data calculated based on original SPICE kernels"
/* TIME DATA ELEMENTS */
SPACECRAFT_CLOCK_START_COUNT = "1/0161784709.07291"
SPACECRAFT_CLOCK_STOP_COUNT = "1/0161784993.56429"
START_TIME = 2008-06-17T12:11:52.728Z
STOP_TIME = 2008-06-17T12:14:06.456Z
/* ORBITAL DATA ELEMENTS */
ASCENDING_NODE_LONGITUDE = 109.37
MAXIMUM_RESOLUTION = 44.3
FOOTPRINT_POINT_LATITUDE = (78.3497,78.4252,78.4949,78.5584, 78.6155,78.6661,78.7274,78.4352,78.2053 ,77.8963,77.6648,77.5102,77.274,77.0373 ,76.8023,76.6452,76.4847,76.3235, 76.1632,75.9225,75.7602,75.597,75.4339, 75.2706,75.1075,74.9413,74.6924,74.4433 ,74.192,74.0242,73.8554,73.6022,73.3453 ,73.09,72.9185,72.7437,72.5686,72.3948, 72.2204,72.0431,71.865,71.688,71.5109, 71.331,71.1513,70.882,70.609,70.4268, 70.2448,70.1959,70.1843,70.171,70.1421, 70.1218,70.0833,70.0517,70.0272,70.0004 ,69.9752,70.1554,70.3356,70.5162, 70.7837,70.9611,71.1388,71.3152,71.4899 ,71.6645,71.8393,72.0128,72.1847, 72.3569,72.615,72.7843,73.0373,73.2913, 73.4583,73.6234,73.7894,73.9555,74.1203 ,74.2835,74.5282,74.6913,74.8532, 75.0934,75.2535,75.4125,75.6519,75.8087 ,75.9658,76.2008,76.3574,76.5881, 76.8186,76.972,77.3516,77.6522,78.0263, 78.3497)
FOOTPRINT_POINT_LONGITUDE = (155.105,156.386,157.689,159.014, 160.358,161.722,163.718,164.353,164.543 ,164.786,164.959,165.072,165.238, 165.398,165.549,165.646,165.745,165.843 ,165.936,166.073,166.162,166.25,166.335 ,166.418,166.5,166.582,166.699,166.813, 166.924,166.994,167.065,167.169,167.269 ,167.363,167.427,167.492,167.555, 167.615,167.675,167.735,167.794,167.85, 167.906,167.961,168.015,168.094,168.171 ,168.221,168.27,167.381,166.87,166.361, 165.413,164.847,163.909,163.226,162.731 ,162.239,161.787,161.709,161.629, 161.547,161.422,161.337,161.25,161.162, 161.072,160.981,160.887,160.792,160.695 ,160.597,160.445,160.342,160.184,160.02 ,159.909,159.796,159.68,159.562,159.442 ,159.32,159.132,159.002,158.871,158.67, 158.532,158.391,158.174,158.027,157.875 ,157.642,157.481,157.237,156.984,156.81 ,156.359,155.98,155.48,155.105)
ORBIT_NUMBER = 5726
ORBITAL_ECCENTRICITY = 0.568
ORBITAL_INCLINATION = 86.74
ORBITAL_SEMIMAJOR_AXIS = 8644.47
PERIAPSIS_ALTITUDE = 358.93
PERIAPSIS_ARGUMENT_ANGLE = 71.17
PERIAPSIS_TIME = 2008-06-17T12:04:46.000Z
SPACECRAFT_ORIENTATION = (0.0,1.0,0.0)
^MEX_ORIENTATION_DESC = "MEX_ORIENTATION_DESC.TXT"
SPACECRAFT_POINTING_MODE = ACROSSTRACK
^MEX_POINTING_DESC = "MEX_POINTING_DESC.TXT"
RIGHT_ASCENSION = -1e+32
DECLINATION = -1e+32
OFFSET_ANGLE = 0.458
SPACECRAFT_SOLAR_DISTANCE = 2.48292e+08
TARGET_NAME = MARS
/* CAMERA DATA ELEMENTS */
DETECTOR_TEMPERATURE = 19.5939
FOCAL_PLANE_TEMPERATURE = 7.7677
INST_CMPRS_NAME = "DISCRETE COSINE TRANSFORMATION (DCT)"
INST_CMPRS_RATIO = 11.8378
INST_CMPRS_QUALITY = 0
INST_CMPRS_QUANTZ_TBL_ID = 0
INSTRUMENT_TEMPERATURE = 12.4574
LENS_TEMPERATURE = 8.5833
MACROPIXEL_SIZE = 2
MISSING_FRAMES = 0
PIXEL_SUBSAMPLING_FLAG = N
SIGNAL_CHAIN_ID = 1
/* RADIOMETRIC DATA ELEMENTS */
BANDWIDTH = 178.0
CENTER_FILTER_WAVELENGTH = 679.0
RADIANCE_OFFSET = 4.23822
RADIANCE_SCALING_FACTOR = 0.0338642
REFLECTANCE_SCALING_FACTOR = 0.00110559
MEX:REFLECTANCE_OFFSET = 0.138369
/* IMAGE OBJECT DEFINITIONS */
OBJECT = IMAGE
  INTERCHANGE_FORMAT = BINARY
  LINES = 10262
  LINE_SAMPLES = 4084
  SAMPLE_TYPE = UNSIGNED_INTEGER
  SAMPLE_BITS = 8
  BANDS = 1
  BAND_STORAGE_TYPE = BAND_SEQUENTIAL
  MAXIMUM = 255
  MEAN = 89.5888
  MINIMUM = 1
  STANDARD_DEVIATION = 44.49
END_OBJECT = IMAGE
/* MAP OBJECT DEFINITIONS */
OBJECT = IMAGE_MAP_PROJECTION
  ^DATA_SET_MAP_PROJECTION_CATALOG= "DSMAP.CAT"
  A_AXIS_RADIUS = 3396.0
  B_AXIS_RADIUS = 3396.0
  C_AXIS_RADIUS = 3396.0
  CENTER_LATITUDE = 0.0
  CENTER_LONGITUDE = 163.0
  COORDINATE_SYSTEM_NAME = PLANETOGRAPHIC
  COORDINATE_SYSTEM_TYPE = "BODY-FIXED ROTATING"
  EASTERNMOST_LONGITUDE = 168.27
  FIRST_STANDARD_PARALLEL = "N/A"
  LINE_FIRST_PIXEL = 1
  LINE_LAST_PIXEL = 10262
  LINE_PROJECTION_OFFSET = 93201.75
  MAP_PROJECTION_ROTATION = 0.0
  MAP_PROJECTION_TYPE = SINUSOIDAL
  MAP_RESOLUTION = 1185.42760773333
  MAP_SCALE = 0.05
  MAXIMUM_LATITUDE = 78.7274
  MINIMUM_LATITUDE = 69.9752
  POSITIVE_LONGITUDE_DIRECTION = EAST
  REFERENCE_LATITUDE = "N/A"
  REFERENCE_LONGITUDE = "N/A"
  SAMPLE_FIRST_PIXEL = 1
  SAMPLE_LAST_PIXEL = 4084
  SAMPLE_PROJECTION_OFFSET = 1947.25
  SECOND_STANDARD_PARALLEL = "N/A"
  WESTERNMOST_LONGITUDE = 155.105
END_OBJECT = IMAGE_MAP_PROJECTION
/* The JPEG2000 image data file associated with this label. */
OBJECT = COMPRESSED_FILE
  FILE_NAME = "H5726_0001_S23.JP2"
  RECORD_TYPE = UNDEFINED
  FILE_RECORDS = UNK
  ENCODING_TYPE = "JP2"
  INTERCHANGE_FORMAT = BINARY
  UNCOMPRESSED_FILE_NAME = "H5726_0001_S23.IMG"
  REQUIRED_STORAGE_BYTES = "41934512"
  ^DESCRIPTION = "JP2INFO.TXT"
END_OBJECT = COMPRESSED_FILE
END
