PDS_VERSION_ID = PDS3
/* FILE DATA ELEMENTS */
RECORD_TYPE = STREAM
/* POINTERS TO DATA OBJECTS */
^COMPRESSED_FILE = "H5727_0000_ND3.JP2"
/* IDENTIFICATION DATA ELEMENTS */
DATA_SET_ID = "MEX-M-HRSC-5-REFDR-MAPPROJECTED-V3.0"
DATA_SET_NAME = "MARS EXPRESS HRSC MAP PROJECTED REFDR V3.0"
DETECTOR_ID = MEX_HRSC_NADIR
EVENT_TYPE = "MARS-REGIONAL-MAPPING-Gl-La"
INSTRUMENT_HOST_ID = MEX
INSTRUMENT_HOST_NAME = "MARS EXPRESS"
INSTRUMENT_ID = HRSC
INSTRUMENT_NAME = "HIGH RESOLUTION STEREO CAMERA"
MISSION_NAME = "MARS EXPRESS"
MISSION_PHASE_NAME = ME_Phase_13
PROCESSING_LEVEL_ID = 3
PRODUCT_CREATION_TIME = 2016-05-15T20:04:19.000Z
PRODUCT_ID = "H5727_0000_ND3.JP2"
RELEASE_ID = 0065
REVISION_ID = 0000
/* QUALITY DATA ELEMENTS */
DATA_QUALITY_ID = 1
DATA_QUALITY_DESC = "Data calculated based on original SPICE kernels"
/* TIME DATA ELEMENTS */
SPACECRAFT_CLOCK_START_COUNT = "1/0161809142.09033"
SPACECRAFT_CLOCK_STOP_COUNT = "1/0161809442.17621"
START_TIME = 2008-06-17T18:59:43.327Z
STOP_TIME = 2008-06-17T19:03:04.338Z
/* ORBITAL DATA ELEMENTS */
ASCENDING_NODE_LONGITUDE = 109.34
MAXIMUM_RESOLUTION = 16
FOOTPRINT_POINT_LATITUDE = (85.7122,85.9901,86.389,86.6601,87.0773 ,87.2956,87.447,87.4944,87.5207,87.5238 ,87.5049,87.4639,87.401,87.3171,87.2153 ,87.0968,86.964,86.7363,86.5707,86.3962 ,86.2139,86.0206,85.8213,85.6171, 85.4085,85.0819,84.8598,84.6351,84.4081 ,84.1792,83.9485,83.7164,83.4831, 83.2486,83.0132,82.7771,82.5402,82.3026 ,82.0645,81.8261,81.5872,81.3481, 81.1089,80.8693,80.6298,80.3899,80.1501 ,79.9103,79.6704,79.4306,79.3561, 79.2314,79.1388,79.0314,78.9348,79.1006 ,79.3301,79.5592,79.7877,80.0157,80.243 ,80.4696,80.6954,80.9203,81.1447, 81.3679,81.5892,81.8096,82.0282,82.2452 ,82.4604,82.6733,82.8842,83.0923, 83.2975,83.4995,83.6981,83.8927,84.1763 ,84.3588,84.5321,84.6994,84.8602, 85.0859,85.224,85.3533,85.4731,85.5823, 85.6783,85.7628,85.8351,85.8944,85.9399 ,85.9712,85.9888,85.9926,85.9581, 85.8712,85.7353,85.7122)
FOOTPRINT_POINT_LONGITUDE = (316.369,314.265,310.572,307.441, 312.524,320.865,330.41,335.639,341.049, 346.518,351.949,357.245,362.396,367.31, 371.894,376.122,379.995,385.274,388.386 ,391.2,393.747,396.104,398.237,400.171, 401.93,404.325,405.751,407.055,408.253, 409.354,410.37,411.31,412.184,412.991, 413.744,414.452,415.109,415.721,416.298 ,416.84,417.349,417.831,418.289,418.716 ,419.128,419.509,419.875,420.223, 420.553,420.866,419.28,416.73,415.096, 413.396,412.006,410.688,410.219,409.728 ,409.213,408.672,408.104,407.507, 406.879,406.219,405.528,404.799,404.021 ,403.204,402.337,401.42,400.449,399.416 ,398.323,397.158,395.917,394.595, 393.187,391.684,389.239,387.472,385.627 ,383.66,381.563,378.186,375.799,373.269 ,370.597,367.786,364.903,361.893, 358.765,355.533,352.245,348.941,345.593 ,342.224,335.532,329.175,323.141, 316.369)
ORBIT_NUMBER = 5727
ORBITAL_ECCENTRICITY = 0.568
ORBITAL_INCLINATION = 86.75
ORBITAL_SEMIMAJOR_AXIS = 8642.51
PERIAPSIS_ALTITUDE = 357.43
PERIAPSIS_ARGUMENT_ANGLE = 71.02
PERIAPSIS_TIME = 2008-06-17T18:55:20.000Z
SPACECRAFT_ORIENTATION = (0.0,1.0,0.0)
^MEX_ORIENTATION_DESC = "MEX_ORIENTATION_DESC.TXT"
SPACECRAFT_POINTING_MODE = NADIR
^MEX_POINTING_DESC = "MEX_POINTING_DESC.TXT"
RIGHT_ASCENSION = -1e+32
DECLINATION = -1e+32
OFFSET_ANGLE = -1e+32
SPACECRAFT_SOLAR_DISTANCE = 2.48277e+08
TARGET_NAME = MARS
/* CAMERA DATA ELEMENTS */
DETECTOR_TEMPERATURE = 17.7588
FOCAL_PLANE_TEMPERATURE = 7.5638
INST_CMPRS_NAME = "DISCRETE COSINE TRANSFORMATION (DCT)"
INST_CMPRS_RATIO = 6.50888
INST_CMPRS_QUALITY = 0
INST_CMPRS_QUANTZ_TBL_ID = 0
INSTRUMENT_TEMPERATURE = 10.6223
LENS_TEMPERATURE = 8.1755
MACROPIXEL_SIZE = 1
MISSING_FRAMES = 0
PIXEL_SUBSAMPLING_FLAG = N
SIGNAL_CHAIN_ID = 0
/* RADIOMETRIC DATA ELEMENTS */
BANDWIDTH = 177.0
CENTER_FILTER_WAVELENGTH = 677.5
RADIANCE_OFFSET = 1.87472
RADIANCE_SCALING_FACTOR = 0.0299878
REFLECTANCE_SCALING_FACTOR = 0.000981977
MEX:REFLECTANCE_OFFSET = 0.0613894
/* IMAGE OBJECT DEFINITIONS */
OBJECT = IMAGE
  INTERCHANGE_FORMAT = BINARY
  LINES = 40897
  LINE_SAMPLES = 50702
  SAMPLE_TYPE = UNSIGNED_INTEGER
  SAMPLE_BITS = 8
  BANDS = 1
  BAND_STORAGE_TYPE = BAND_SEQUENTIAL
  MAXIMUM = 254
  MEAN = 163.26
  MINIMUM = 1
  STANDARD_DEVIATION = 51.3079
END_OBJECT = IMAGE
/* MAP OBJECT DEFINITIONS */
OBJECT = IMAGE_MAP_PROJECTION
  ^DATA_SET_MAP_PROJECTION_CATALOG= "DSMAP.CAT"
  A_AXIS_RADIUS = 3396.0
  B_AXIS_RADIUS = 3396.0
  C_AXIS_RADIUS = 3396.0
  CENTER_LATITUDE = 0.0
  CENTER_LONGITUDE = 35.0
  COORDINATE_SYSTEM_NAME = PLANETOGRAPHIC
  COORDINATE_SYSTEM_TYPE = "BODY-FIXED ROTATING"
  EASTERNMOST_LONGITUDE = 60.866
  FIRST_STANDARD_PARALLEL = "N/A"
  LINE_FIRST_PIXEL = 1
  LINE_LAST_PIXEL = 40897
  LINE_PROJECTION_OFFSET = 414964.0
  MAP_PROJECTION_ROTATION = 0.0
  MAP_PROJECTION_TYPE = SINUSOIDAL
  MAP_RESOLUTION = 4741.71043093333
  MAP_SCALE = 0.0125
  MAXIMUM_LATITUDE = 87.52379999999999
  MINIMUM_LATITUDE = 78.9348
  POSITIVE_LONGITUDE_DIRECTION = EAST
  REFERENCE_LATITUDE = "N/A"
  REFERENCE_LONGITUDE = "N/A"
  SAMPLE_FIRST_PIXEL = 1
  SAMPLE_LAST_PIXEL = 50702
  SAMPLE_PROJECTION_OFFSET = 28367.0
  SECOND_STANDARD_PARALLEL = "N/A"
  WESTERNMOST_LONGITUDE = -52.559
END_OBJECT = IMAGE_MAP_PROJECTION
/* The JPEG2000 image data file associated with this label. */
OBJECT = COMPRESSED_FILE
  FILE_NAME = "H5727_0000_ND3.JP2"
  RECORD_TYPE = UNDEFINED
  FILE_RECORDS = UNK
  ENCODING_TYPE = "JP2"
  INTERCHANGE_FORMAT = BINARY
  UNCOMPRESSED_FILE_NAME = "H5727_0000_ND3.IMG"
  REQUIRED_STORAGE_BYTES = "2073711800"
  ^DESCRIPTION = "JP2INFO.TXT"
END_OBJECT = COMPRESSED_FILE
END
