PDS_VERSION_ID = PDS3
/* FILE DATA ELEMENTS */
RECORD_TYPE = STREAM
/* POINTERS TO DATA OBJECTS */
^COMPRESSED_FILE = "H5727_0000_S23.JP2"
/* IDENTIFICATION DATA ELEMENTS */
DATA_SET_ID = "MEX-M-HRSC-5-REFDR-MAPPROJECTED-V3.0"
DATA_SET_NAME = "MARS EXPRESS HRSC MAP PROJECTED REFDR V3.0"
DETECTOR_ID = MEX_HRSC_S2
EVENT_TYPE = "MARS-REGIONAL-MAPPING-Gl-La"
INSTRUMENT_HOST_ID = MEX
INSTRUMENT_HOST_NAME = "MARS EXPRESS"
INSTRUMENT_ID = HRSC
INSTRUMENT_NAME = "HIGH RESOLUTION STEREO CAMERA"
MISSION_NAME = "MARS EXPRESS"
MISSION_PHASE_NAME = ME_Phase_13
PROCESSING_LEVEL_ID = 3
PRODUCT_CREATION_TIME = 2016-05-15T20:04:19.000Z
PRODUCT_ID = "H5727_0000_S23.JP2"
RELEASE_ID = 0065
REVISION_ID = 0000
/* QUALITY DATA ELEMENTS */
DATA_QUALITY_ID = 1
DATA_QUALITY_DESC = "Data calculated based on original SPICE kernels"
/* TIME DATA ELEMENTS */
SPACECRAFT_CLOCK_START_COUNT = "1/0161809142.09033"
SPACECRAFT_CLOCK_STOP_COUNT = "1/0161809442.17621"
START_TIME = 2008-06-17T18:59:05.707Z
STOP_TIME = 2008-06-17T19:02:14.318Z
/* ORBITAL DATA ELEMENTS */
ASCENDING_NODE_LONGITUDE = 109.34
MAXIMUM_RESOLUTION = 34.6
FOOTPRINT_POINT_LATITUDE = (85.559,85.9097,86.1307,86.4729,86.6787 ,86.9364,87.1171,87.2225,87.3532, 87.4225,87.4706,87.4998,87.5071,87.4941 ,87.4362,87.3714,87.2878,87.1868, 87.0707,86.8717,86.722,86.5612,86.3916, 86.2143,86.0305,85.7405,85.5386,85.3327 ,85.1232,84.9105,84.5787,84.3544,84.128 ,83.8997,83.6639,83.3086,83.0701, 82.8274,82.58,82.3342,82.0865,81.7133, 81.4631,81.2132,80.836,80.5819,80.3328, 80.0807,79.8281,79.576,79.3351,79.2499, 79.1761,79.0625,78.9493,79.1135,79.3552 ,79.5967,79.8368,80.076,80.3144,80.5518 ,80.7879,81.1421,81.3799,81.7254, 81.9552,82.1817,82.402,82.6193,82.8347, 83.1517,83.3545,83.554,83.7499,84.0345, 84.2154,84.3914,84.6453,84.807,84.9584, 85.1026,85.2392,85.3673,85.5416,85.6429 ,85.7337,85.815,85.9112,85.9603,85.9958 ,86.018,86.0271,86.023,85.9922,85.9555, 85.9074,85.8144,85.6971,85.559)
FOOTPRINT_POINT_LONGITUDE = (315.623,312.872,310.842,307.094, 304.368,309.005,314.401,318.38,324.899, 329.744,334.733,339.935,345.138,350.366 ,358.025,362.977,367.693,372.107, 376.172,381.646,384.968,388.004,390.761 ,393.267,395.543,398.618,400.462, 402.144,403.679,405.088,407.031,408.197 ,409.274,410.269,411.217,412.502, 413.284,414.029,414.731,415.375,415.983 ,416.826,417.35,417.839,418.527,418.963 ,419.356,419.738,420.101,420.444, 419.103,417.379,416.037,414.191,412.555 ,411.038,410.546,410.029,409.487, 408.917,408.317,407.686,407.022,405.953 ,405.185,403.96,403.081,402.153,401.187 ,400.164,399.076,397.322,396.084, 394.767,393.365,391.101,389.498,387.791 ,385.02,383.024,380.952,378.753,376.423 ,373.958,370.015,367.284,364.429, 361.421,356.779,353.555,350.327,347.071 ,343.787,340.499,335.613,332.407, 329.345,324.932,320.69,315.623)
ORBIT_NUMBER = 5727
ORBITAL_ECCENTRICITY = 0.568
ORBITAL_INCLINATION = 86.75
ORBITAL_SEMIMAJOR_AXIS = 8642.51
PERIAPSIS_ALTITUDE = 357.43
PERIAPSIS_ARGUMENT_ANGLE = 71.02
PERIAPSIS_TIME = 2008-06-17T18:55:20.000Z
SPACECRAFT_ORIENTATION = (0.0,1.0,0.0)
^MEX_ORIENTATION_DESC = "MEX_ORIENTATION_DESC.TXT"
SPACECRAFT_POINTING_MODE = NADIR
^MEX_POINTING_DESC = "MEX_POINTING_DESC.TXT"
RIGHT_ASCENSION = -1e+32
DECLINATION = -1e+32
OFFSET_ANGLE = -1e+32
SPACECRAFT_SOLAR_DISTANCE = 2.48277e+08
TARGET_NAME = MARS
/* CAMERA DATA ELEMENTS */
DETECTOR_TEMPERATURE = 18.1666
FOCAL_PLANE_TEMPERATURE = 7.5638
INST_CMPRS_NAME = "DISCRETE COSINE TRANSFORMATION (DCT)"
INST_CMPRS_RATIO = 10.9773
INST_CMPRS_QUALITY = 0
INST_CMPRS_QUANTZ_TBL_ID = 0
INSTRUMENT_TEMPERATURE = 10.6223
LENS_TEMPERATURE = 8.1755
MACROPIXEL_SIZE = 2
MISSING_FRAMES = 0
PIXEL_SUBSAMPLING_FLAG = N
SIGNAL_CHAIN_ID = 1
/* RADIOMETRIC DATA ELEMENTS */
BANDWIDTH = 178.0
CENTER_FILTER_WAVELENGTH = 679.0
RADIANCE_OFFSET = 2.27622
RADIANCE_SCALING_FACTOR = 0.0309574
REFLECTANCE_SCALING_FACTOR = 0.00101057
MEX:REFLECTANCE_OFFSET = 0.0743046
/* IMAGE OBJECT DEFINITIONS */
OBJECT = IMAGE
  INTERCHANGE_FORMAT = BINARY
  LINES = 20449
  LINE_SAMPLES = 25351
  SAMPLE_TYPE = UNSIGNED_INTEGER
  SAMPLE_BITS = 8
  BANDS = 1
  BAND_STORAGE_TYPE = BAND_SEQUENTIAL
  MAXIMUM = 255
  MEAN = 165.888
  MINIMUM = 1
  STANDARD_DEVIATION = 50.8398
END_OBJECT = IMAGE
/* MAP OBJECT DEFINITIONS */
OBJECT = IMAGE_MAP_PROJECTION
  ^DATA_SET_MAP_PROJECTION_CATALOG= "DSMAP.CAT"
  A_AXIS_RADIUS = 3396.0
  B_AXIS_RADIUS = 3396.0
  C_AXIS_RADIUS = 3396.0
  CENTER_LATITUDE = 0.0
  CENTER_LONGITUDE = 35.0
  COORDINATE_SYSTEM_NAME = PLANETOGRAPHIC
  COORDINATE_SYSTEM_TYPE = "BODY-FIXED ROTATING"
  EASTERNMOST_LONGITUDE = 60.444
  FIRST_STANDARD_PARALLEL = "N/A"
  LINE_FIRST_PIXEL = 1
  LINE_LAST_PIXEL = 20449
  LINE_PROJECTION_OFFSET = 207481.75
  MAP_PROJECTION_ROTATION = 0.0
  MAP_PROJECTION_TYPE = SINUSOIDAL
  MAP_RESOLUTION = 2370.85521546667
  MAP_SCALE = 0.025
  MAXIMUM_LATITUDE = 87.50709999999999
  MINIMUM_LATITUDE = 78.94929999999999
  POSITIVE_LONGITUDE_DIRECTION = EAST
  REFERENCE_LATITUDE = "N/A"
  REFERENCE_LONGITUDE = "N/A"
  SAMPLE_FIRST_PIXEL = 1
  SAMPLE_LAST_PIXEL = 25351
  SAMPLE_PROJECTION_OFFSET = 14183.25
  SECOND_STANDARD_PARALLEL = "N/A"
  WESTERNMOST_LONGITUDE = -55.632
END_OBJECT = IMAGE_MAP_PROJECTION
/* The JPEG2000 image data file associated with this label. */
OBJECT = COMPRESSED_FILE
  FILE_NAME = "H5727_0000_S23.JP2"
  RECORD_TYPE = UNDEFINED
  FILE_RECORDS = UNK
  ENCODING_TYPE = "JP2"
  INTERCHANGE_FORMAT = BINARY
  UNCOMPRESSED_FILE_NAME = "H5727_0000_S23.IMG"
  REQUIRED_STORAGE_BYTES = "518478652"
  ^DESCRIPTION = "JP2INFO.TXT"
END_OBJECT = COMPRESSED_FILE
END
