PDS_VERSION_ID = PDS3
/* FILE DATA ELEMENTS */
RECORD_TYPE = STREAM
/* POINTERS TO DATA OBJECTS */
^COMPRESSED_FILE = "H5734_0000_ND3.JP2"
/* IDENTIFICATION DATA ELEMENTS */
DATA_SET_ID = "MEX-M-HRSC-5-REFDR-MAPPROJECTED-V3.0"
DATA_SET_NAME = "MARS EXPRESS HRSC MAP PROJECTED REFDR V3.0"
DETECTOR_ID = MEX_HRSC_NADIR
EVENT_TYPE = "MARS-REGIONAL-MAPPING-Gl-La"
INSTRUMENT_HOST_ID = MEX
INSTRUMENT_HOST_NAME = "MARS EXPRESS"
INSTRUMENT_ID = HRSC
INSTRUMENT_NAME = "HIGH RESOLUTION STEREO CAMERA"
MISSION_NAME = "MARS EXPRESS"
MISSION_PHASE_NAME = ME_Phase_13
PROCESSING_LEVEL_ID = 3
PRODUCT_CREATION_TIME = 2016-05-15T20:04:19.000Z
PRODUCT_ID = "H5734_0000_ND3.JP2"
RELEASE_ID = 0065
REVISION_ID = 0000
/* QUALITY DATA ELEMENTS */
DATA_QUALITY_ID = 1
DATA_QUALITY_DESC = "Data calculated based on original SPICE kernels"
/* TIME DATA ELEMENTS */
SPACECRAFT_CLOCK_START_COUNT = "1/0161981620.08242"
SPACECRAFT_CLOCK_STOP_COUNT = "1/0161981866.05302"
START_TIME = 2008-06-19T18:54:24.185Z
STOP_TIME = 2008-06-19T18:56:48.176Z
/* ORBITAL DATA ELEMENTS */
ASCENDING_NODE_LONGITUDE = 109.21
MAXIMUM_RESOLUTION = 18
FOOTPRINT_POINT_LATITUDE = (86.1424,86.4799,86.6998,86.9778,87.285 ,87.5087,87.407,87.2095,87.0401,86.9444 ,86.8422,86.7349,86.6227,86.5064, 86.3862,86.261,86.1314,85.9989,85.8637, 85.7262,85.5868,85.3696,85.2223,85.0736 ,84.9235,84.7722,84.6166,84.4597, 84.3019,84.1432,83.9839,83.8204,83.5738 ,83.4087,83.2431,82.9901,82.82,82.6495, 82.4786,82.2179,82.0428,81.8674,81.6919 ,81.5135,81.3345,81.1548,80.9753, 80.7934,80.5693,80.5219,80.428,80.3475, 80.2477,80.1878,80.0753,79.9669,80.1407 ,80.3134,80.483,80.6521,80.8205,80.9882 ,81.1528,81.3162,81.4796,81.7217, 81.8794,82.0362,82.1922,82.424,82.5744, 82.7237,82.8719,83.0187,83.1627,83.3035 ,83.4431,83.5809,83.7172,83.8501, 83.9795,84.1067,84.2318,84.3544,84.4744 ,84.5891,84.701,84.8099,84.9155,85.0176 ,85.1155,85.2965,85.3807,85.4605, 85.6052,85.7267,85.8262,85.9021,85.942, 86.1424)
FOOTPRINT_POINT_LONGITUDE = (9.11363,9.67218,10.098,10.7256,11.57, 14.2378,23.0779,32.638,38.1905,40.7612, 43.187,45.455,47.5731,49.5507,51.3972, 53.1465,54.7944,56.3305,57.7651,59.1079 ,60.3672,62.1396,63.2324,64.2586, 65.2228,66.1307,67.0033,67.8269,68.6043 ,69.3389,70.0367,70.7049,71.6466, 72.2335,72.792,73.5888,74.0932,74.5743, 75.0279,75.6866,76.0976,76.4914,76.8694 ,77.237,77.5989,77.9329,78.2583,78.5764 ,78.4722,77.3577,75.3849,73.8808, 72.1917,71.2563,69.6231,68.1742,67.7462 ,67.3038,66.8516,66.3816,65.8911, 65.3832,64.8706,64.3314,63.7759,62.8951 ,62.2878,61.654,60.9947,59.9637,59.2481 ,58.5011,57.722,56.9082,56.0651,55.1944 ,54.289,53.341,52.3526,51.3273,50.2684, 49.1618,48.0051,46.796,45.5326,44.2414, 42.8931,41.4857,40.0169,38.4849,36.8983 ,33.5855,31.8318,30.0127,26.1894, 22.2052,18.0017,13.61,10.271,9.11363)
ORBIT_NUMBER = 5734
ORBITAL_ECCENTRICITY = 0.568
ORBITAL_INCLINATION = 86.76
ORBITAL_SEMIMAJOR_AXIS = 8643.65
PERIAPSIS_ALTITUDE = 357.01
PERIAPSIS_ARGUMENT_ANGLE = 69.79
PERIAPSIS_TIME = 2008-06-19T18:49:03.000Z
SPACECRAFT_ORIENTATION = (0.0,1.0,0.0)
^MEX_ORIENTATION_DESC = "MEX_ORIENTATION_DESC.TXT"
SPACECRAFT_POINTING_MODE = NADIR
^MEX_POINTING_DESC = "MEX_POINTING_DESC.TXT"
RIGHT_ASCENSION = -1e+32
DECLINATION = -1e+32
OFFSET_ANGLE = -1e+32
SPACECRAFT_SOLAR_DISTANCE = 2.48169e+08
TARGET_NAME = MARS
/* CAMERA DATA ELEMENTS */
DETECTOR_TEMPERATURE = 17.9627
FOCAL_PLANE_TEMPERATURE = 7.156
INST_CMPRS_NAME = "DISCRETE COSINE TRANSFORMATION (DCT)"
INST_CMPRS_RATIO = 6.99042
INST_CMPRS_QUALITY = 0
INST_CMPRS_QUANTZ_TBL_ID = 0
INSTRUMENT_TEMPERATURE = 10.8262
LENS_TEMPERATURE = 7.9716
MACROPIXEL_SIZE = 1
MISSING_FRAMES = 0
PIXEL_SUBSAMPLING_FLAG = N
SIGNAL_CHAIN_ID = 0
/* RADIOMETRIC DATA ELEMENTS */
BANDWIDTH = 177.0
CENTER_FILTER_WAVELENGTH = 677.5
RADIANCE_OFFSET = 3.60222
RADIANCE_SCALING_FACTOR = 0.0227591
REFLECTANCE_SCALING_FACTOR = 0.000744618
MEX:REFLECTANCE_OFFSET = 0.117855
/* IMAGE OBJECT DEFINITIONS */
OBJECT = IMAGE
  INTERCHANGE_FORMAT = BINARY
  LINES = 35734
  LINE_SAMPLES = 32389
  SAMPLE_TYPE = UNSIGNED_INTEGER
  SAMPLE_BITS = 8
  BANDS = 1
  BAND_STORAGE_TYPE = BAND_SEQUENTIAL
  MAXIMUM = 255
  MEAN = 129.545
  MINIMUM = 1
  STANDARD_DEVIATION = 60.1851
END_OBJECT = IMAGE
/* MAP OBJECT DEFINITIONS */
OBJECT = IMAGE_MAP_PROJECTION
  ^DATA_SET_MAP_PROJECTION_CATALOG= "DSMAP.CAT"
  A_AXIS_RADIUS = 3396.0
  B_AXIS_RADIUS = 3396.0
  C_AXIS_RADIUS = 3396.0
  CENTER_LATITUDE = 0.0
  CENTER_LONGITUDE = 58.0
  COORDINATE_SYSTEM_NAME = PLANETOGRAPHIC
  COORDINATE_SYSTEM_TYPE = "BODY-FIXED ROTATING"
  EASTERNMOST_LONGITUDE = 78.57640000000001
  FIRST_STANDARD_PARALLEL = "N/A"
  LINE_FIRST_PIXEL = 1
  LINE_LAST_PIXEL = 35734
  LINE_PROJECTION_OFFSET = 414950.0
  MAP_PROJECTION_ROTATION = 0.0
  MAP_PROJECTION_TYPE = SINUSOIDAL
  MAP_RESOLUTION = 4741.71043093333
  MAP_SCALE = 0.0125
  MAXIMUM_LATITUDE = 87.5087
  MINIMUM_LATITUDE = 79.9669
  POSITIVE_LONGITUDE_DIRECTION = EAST
  REFERENCE_LATITUDE = "N/A"
  REFERENCE_LONGITUDE = "N/A"
  SAMPLE_FIRST_PIXEL = 1
  SAMPLE_LAST_PIXEL = 32389
  SAMPLE_PROJECTION_OFFSET = 16358.0
  SECOND_STANDARD_PARALLEL = "N/A"
  WESTERNMOST_LONGITUDE = 9.113630000000001
END_OBJECT = IMAGE_MAP_PROJECTION
/* The JPEG2000 image data file associated with this label. */
OBJECT = COMPRESSED_FILE
  FILE_NAME = "H5734_0000_ND3.JP2"
  RECORD_TYPE = UNDEFINED
  FILE_RECORDS = UNK
  ENCODING_TYPE = "JP2"
  INTERCHANGE_FORMAT = BINARY
  UNCOMPRESSED_FILE_NAME = "H5734_0000_ND3.IMG"
  REQUIRED_STORAGE_BYTES = "1157485693"
  ^DESCRIPTION = "JP2INFO.TXT"
END_OBJECT = COMPRESSED_FILE
END
