PDS_VERSION_ID = PDS3
/* FILE DATA ELEMENTS */
RECORD_TYPE = STREAM
/* POINTERS TO DATA OBJECTS */
^COMPRESSED_FILE = "H5739_0000_IR3.JP2"
/* IDENTIFICATION DATA ELEMENTS */
DATA_SET_ID = "MEX-M-HRSC-5-REFDR-MAPPROJECTED-V3.0"
DATA_SET_NAME = "MARS EXPRESS HRSC MAP PROJECTED REFDR V3.0"
DETECTOR_ID = MEX_HRSC_IR
EVENT_TYPE = "MARS-REGIONAL-MAPPING-Gl-La-Ot"
INSTRUMENT_HOST_ID = MEX
INSTRUMENT_HOST_NAME = "MARS EXPRESS"
INSTRUMENT_ID = HRSC
INSTRUMENT_NAME = "HIGH RESOLUTION STEREO CAMERA"
MISSION_NAME = "MARS EXPRESS"
MISSION_PHASE_NAME = ME_Phase_13
PROCESSING_LEVEL_ID = 3
PRODUCT_CREATION_TIME = 2016-05-15T20:04:19.000Z
PRODUCT_ID = "H5739_0000_IR3.JP2"
RELEASE_ID = 0065
REVISION_ID = 0000
/* QUALITY DATA ELEMENTS */
DATA_QUALITY_ID = 1
DATA_QUALITY_DESC = "Data calculated based on original SPICE kernels"
/* TIME DATA ELEMENTS */
SPACECRAFT_CLOCK_START_COUNT = "1/0162104704.08269"
SPACECRAFT_CLOCK_STOP_COUNT = "1/0162104975.01095"
START_TIME = 2008-06-21T05:06:13.425Z
STOP_TIME = 2008-06-21T05:09:28.846Z
/* ORBITAL DATA ELEMENTS */
ASCENDING_NODE_LONGITUDE = 109.11
MAXIMUM_RESOLUTION = 73.9
FOOTPRINT_POINT_LATITUDE = (84.1827,84.2016,84.195,84.1766,84.0116 ,84.4843,85.197,85.5589,86.0438,86.4066 ,86.6481,87.0163,87.2627,87.5077, 87.7522,88.0015,88.2499,88.4965,88.7415 ,88.9855,89.2238,89.4445,89.6169, 89.6573,89.5257,89.3146,89.0763,88.8233 ,88.5653,88.3049,88.0385,87.7698, 87.5001,87.2265,86.9509,86.6766,86.3959 ,86.1143,85.6902,85.4028,85.1156, 84.8248,84.5323,84.2391,83.9412,83.6432 ,83.3396,83.0359,82.728,82.6462,82.62, 82.5698,82.5272,82.4647,82.4064,82.3213 ,82.6237,82.9197,83.3626,83.6525, 83.9422,84.2261,84.5086,84.7876,85.0614 ,85.4698,85.8657,86.1262,86.3802, 86.6296,86.8755,87.1089,87.3365,87.5555 ,87.7584,87.9472,88.1929,88.321,88.4495 ,88.4832,88.4728,88.4203,88.3297, 88.2064,88.0599,87.8933,87.7109,87.5163 ,87.3158,87.1088,86.8958,86.6771, 86.3476,86.014,85.5619,85.3321,84.7662, 84.3108,84.1827)
FOOTPRINT_POINT_LONGITUDE = (145.707,140.927,138.44,135.893,132.158 ,131.903,131.435,131.202,130.722,130.27 ,129.912,129.214,128.671,127.991, 127.161,126.128,124.772,122.949,120.448 ,116.65,110.412,98.9411,75.162,33.4978, 0.858417,345.327,337.316,332.609,329.61 ,327.553,326.031,324.843,323.889, 323.145,322.529,322.133,321.632,321.254 ,320.834,320.551,320.32,320.151,319.972 ,319.858,319.72,319.588,319.45,319.33, 319.206,317.383,314.637,311.53,309.588, 307.28,305.473,303.164,302.683,302.163, 301.318,300.697,300.022,299.295,298.49, 297.609,296.625,294.959,292.979,291.436 ,289.72,287.738,285.457,282.826,279.749 ,276.112,271.87,266.821,257.399,249.881 ,236.645,226.92,217.245,207.95,199.43, 191.982,185.704,180.346,175.769,171.94, 168.689,165.938,163.555,161.435,158.823 ,156.643,154.261,153.198,151.069, 149.702,145.707)
ORBIT_NUMBER = 5739
ORBITAL_ECCENTRICITY = 0.568
ORBITAL_INCLINATION = 86.75
ORBITAL_SEMIMAJOR_AXIS = 8646.21
PERIAPSIS_ALTITUDE = 357.78
PERIAPSIS_ARGUMENT_ANGLE = 68.92
PERIAPSIS_TIME = 2008-06-21T05:01:40.000Z
SPACECRAFT_ORIENTATION = (0.0,1.0,0.0)
^MEX_ORIENTATION_DESC = "MEX_ORIENTATION_DESC.TXT"
SPACECRAFT_POINTING_MODE = INERT
^MEX_POINTING_DESC = "MEX_POINTING_DESC.TXT"
RIGHT_ASCENSION = 108.905
DECLINATION = -69.617
OFFSET_ANGLE = -1e+32
SPACECRAFT_SOLAR_DISTANCE = 2.48088e+08
TARGET_NAME = MARS
/* CAMERA DATA ELEMENTS */
DETECTOR_TEMPERATURE = 16.9432
FOCAL_PLANE_TEMPERATURE = 7.3599
INST_CMPRS_NAME = "DISCRETE COSINE TRANSFORMATION (DCT)"
INST_CMPRS_RATIO = 23.4627
INST_CMPRS_QUALITY = 0
INST_CMPRS_QUANTZ_TBL_ID = 0
INSTRUMENT_TEMPERATURE = 10.4184
LENS_TEMPERATURE = 7.7677
MACROPIXEL_SIZE = 4
MISSING_FRAMES = 0
PIXEL_SUBSAMPLING_FLAG = N
SIGNAL_CHAIN_ID = 2
/* RADIOMETRIC DATA ELEMENTS */
BANDWIDTH = 81.0
CENTER_FILTER_WAVELENGTH = 955.5
RADIANCE_OFFSET = 0.599598
RADIANCE_SCALING_FACTOR = 0.00816446
REFLECTANCE_SCALING_FACTOR = 0.0010841
MEX:REFLECTANCE_OFFSET = 0.0796162
/* IMAGE OBJECT DEFINITIONS */
OBJECT = IMAGE
  INTERCHANGE_FORMAT = BINARY
  LINES = 12823
  LINE_SAMPLES = 12428
  SAMPLE_TYPE = UNSIGNED_INTEGER
  SAMPLE_BITS = 8
  BANDS = 1
  BAND_STORAGE_TYPE = BAND_SEQUENTIAL
  MAXIMUM = 255
  MEAN = 154.169
  MINIMUM = 1
  STANDARD_DEVIATION = 49.4961
END_OBJECT = IMAGE
/* MAP OBJECT DEFINITIONS */
OBJECT = IMAGE_MAP_PROJECTION
  ^DATA_SET_MAP_PROJECTION_CATALOG= "DSMAP.CAT"
  A_AXIS_RADIUS = 3396.0
  B_AXIS_RADIUS = 3396.0
  C_AXIS_RADIUS = 3396.0
  CENTER_LATITUDE = 90.0
  CENTER_LONGITUDE = 0.0
  COORDINATE_SYSTEM_NAME = PLANETOGRAPHIC
  COORDINATE_SYSTEM_TYPE = "BODY-FIXED ROTATING"
  EASTERNMOST_LONGITUDE = 360.0
  FIRST_STANDARD_PARALLEL = "N/A"
  LINE_FIRST_PIXEL = 1
  LINE_LAST_PIXEL = 12823
  LINE_PROJECTION_OFFSET = 6199.125
  MAP_PROJECTION_ROTATION = 0.0
  MAP_PROJECTION_TYPE = STEREOGRAPHIC
  MAP_RESOLUTION = 1185.42760773333
  MAP_SCALE = 0.05
  MAXIMUM_LATITUDE = 90.0
  MINIMUM_LATITUDE = 82.32129999999999
  POSITIVE_LONGITUDE_DIRECTION = EAST
  REFERENCE_LATITUDE = "N/A"
  REFERENCE_LONGITUDE = "N/A"
  SAMPLE_FIRST_PIXEL = 1
  SAMPLE_LAST_PIXEL = 12428
  SAMPLE_PROJECTION_OFFSET = 7480.125
  SECOND_STANDARD_PARALLEL = "N/A"
  WESTERNMOST_LONGITUDE = 0.0
END_OBJECT = IMAGE_MAP_PROJECTION
/* The JPEG2000 image data file associated with this label. */
OBJECT = COMPRESSED_FILE
  FILE_NAME = "H5739_0000_IR3.JP2"
  RECORD_TYPE = UNDEFINED
  FILE_RECORDS = UNK
  ENCODING_TYPE = "JP2"
  INTERCHANGE_FORMAT = BINARY
  UNCOMPRESSED_FILE_NAME = "H5739_0000_IR3.IMG"
  REQUIRED_STORAGE_BYTES = "159401528"
  ^DESCRIPTION = "JP2INFO.TXT"
END_OBJECT = COMPRESSED_FILE
END
