PDS_VERSION_ID = PDS3
/* FILE DATA ELEMENTS */
RECORD_TYPE = STREAM
/* POINTERS TO DATA OBJECTS */
^COMPRESSED_FILE = "H5739_0000_RE3.JP2"
/* IDENTIFICATION DATA ELEMENTS */
DATA_SET_ID = "MEX-M-HRSC-5-REFDR-MAPPROJECTED-V3.0"
DATA_SET_NAME = "MARS EXPRESS HRSC MAP PROJECTED REFDR V3.0"
DETECTOR_ID = MEX_HRSC_RED
EVENT_TYPE = "MARS-REGIONAL-MAPPING-Gl-La-Ot"
INSTRUMENT_HOST_ID = MEX
INSTRUMENT_HOST_NAME = "MARS EXPRESS"
INSTRUMENT_ID = HRSC
INSTRUMENT_NAME = "HIGH RESOLUTION STEREO CAMERA"
MISSION_NAME = "MARS EXPRESS"
MISSION_PHASE_NAME = ME_Phase_13
PROCESSING_LEVEL_ID = 3
PRODUCT_CREATION_TIME = 2016-05-15T20:04:19.000Z
PRODUCT_ID = "H5739_0000_RE3.JP2"
RELEASE_ID = 0065
REVISION_ID = 0000
/* QUALITY DATA ELEMENTS */
DATA_QUALITY_ID = 1
DATA_QUALITY_DESC = "Data calculated based on original SPICE kernels"
/* TIME DATA ELEMENTS */
SPACECRAFT_CLOCK_START_COUNT = "1/0162104704.08269"
SPACECRAFT_CLOCK_STOP_COUNT = "1/0162104975.01095"
START_TIME = 2008-06-21T05:05:13.328Z
STOP_TIME = 2008-06-21T05:08:11.814Z
/* ORBITAL DATA ELEMENTS */
ASCENDING_NODE_LONGITUDE = 109.11
MAXIMUM_RESOLUTION = 67.9
FOOTPRINT_POINT_LATITUDE = (83.9097,84.0165,84.0962,84.2152, 84.4531,84.8039,85.0403,85.5125,85.7551 ,85.9962,86.2395,86.6016,86.8448, 87.2078,87.4565,87.8287,88.0758,88.3228 ,88.6904,88.9373,89.1788,89.4063, 89.5947,89.6679,89.5618,89.3538,89.1151 ,88.7349,88.4753,88.207,87.9366,87.6661 ,87.3941,87.1184,86.8383,86.4145, 86.1331,85.8413,85.5552,85.2654,84.975, 84.6709,84.223,83.9234,83.619,83.3148, 82.8593,82.4074,82.4692,82.5058,82.5372 ,82.5564,82.5558,82.6964,83.0011, 83.2985,83.742,84.0335,84.3189,84.7444, 85.0282,85.3023,85.5738,85.9789,86.2413 ,86.4977,86.7496,86.998,87.2369,87.4653 ,87.7891,88.0798,88.2445,88.3824, 88.4864,88.5498,88.5664,88.5366,88.4641 ,88.289,88.1357,87.9626,87.7798,87.5824 ,87.3796,87.1663,86.9486,86.7273, 86.5094,86.2861,86.0611,85.8376,85.6085 ,85.2677,85.0373,84.702,84.4734,84.1321 ,83.9097)
FOOTPRINT_POINT_LONGITUDE = (145.613,141.541,137.121,133.57,133.403 ,133.262,133.096,132.748,132.518, 132.303,131.991,131.535,131.105,130.381 ,129.728,128.473,127.389,125.932, 122.732,119.282,113.7,103.613,82.7405, 43.144,6.61088,348.53,339.647,332.884, 330.279,328.434,327.058,325.98,325.138, 324.465,323.902,323.268,322.9,322.651, 322.339,322.103,321.899,321.788,321.557 ,321.428,321.302,321.175,321.0,319.74, 317.048,315.008,312.533,309.214,307.013 ,304.291,303.775,303.227,302.314, 301.652,300.934,299.714,298.758,297.743 ,296.613,294.602,293.043,291.297, 289.294,286.913,284.16,280.963,274.958, 267.064,260.599,252.937,244.046,234.167 ,223.722,213.611,204.193,192.105, 185.488,179.95,175.413,171.592,168.352, 165.598,163.231,161.179,159.419,157.885 ,156.524,155.291,154.208,152.749, 151.919,150.789,150.137,149.239, 145.613)
ORBIT_NUMBER = 5739
ORBITAL_ECCENTRICITY = 0.568
ORBITAL_INCLINATION = 86.75
ORBITAL_SEMIMAJOR_AXIS = 8646.21
PERIAPSIS_ALTITUDE = 357.78
PERIAPSIS_ARGUMENT_ANGLE = 68.92
PERIAPSIS_TIME = 2008-06-21T05:01:40.000Z
SPACECRAFT_ORIENTATION = (0.0,1.0,0.0)
^MEX_ORIENTATION_DESC = "MEX_ORIENTATION_DESC.TXT"
SPACECRAFT_POINTING_MODE = INERT
^MEX_POINTING_DESC = "MEX_POINTING_DESC.TXT"
RIGHT_ASCENSION = 108.905
DECLINATION = -69.617
OFFSET_ANGLE = -1e+32
SPACECRAFT_SOLAR_DISTANCE = 2.48088e+08
TARGET_NAME = MARS
/* CAMERA DATA ELEMENTS */
DETECTOR_TEMPERATURE = 18.1666
FOCAL_PLANE_TEMPERATURE = 7.3599
INST_CMPRS_NAME = "DISCRETE COSINE TRANSFORMATION (DCT)"
INST_CMPRS_RATIO = 19.5744
INST_CMPRS_QUALITY = 0
INST_CMPRS_QUANTZ_TBL_ID = 0
INSTRUMENT_TEMPERATURE = 10.4184
LENS_TEMPERATURE = 7.7677
MACROPIXEL_SIZE = 4
MISSING_FRAMES = 0
PIXEL_SUBSAMPLING_FLAG = N
SIGNAL_CHAIN_ID = 2
/* RADIOMETRIC DATA ELEMENTS */
BANDWIDTH = 48.0
CENTER_FILTER_WAVELENGTH = 748.0
RADIANCE_OFFSET = 0.855114
RADIANCE_SCALING_FACTOR = 0.0083084
REFLECTANCE_SCALING_FACTOR = 0.00116696
MEX:REFLECTANCE_OFFSET = 0.120106
/* IMAGE OBJECT DEFINITIONS */
OBJECT = IMAGE
  INTERCHANGE_FORMAT = BINARY
  LINES = 12823
  LINE_SAMPLES = 12428
  SAMPLE_TYPE = UNSIGNED_INTEGER
  SAMPLE_BITS = 8
  BANDS = 1
  BAND_STORAGE_TYPE = BAND_SEQUENTIAL
  MAXIMUM = 254
  MEAN = 151.913
  MINIMUM = 1
  STANDARD_DEVIATION = 51.8414
END_OBJECT = IMAGE
/* MAP OBJECT DEFINITIONS */
OBJECT = IMAGE_MAP_PROJECTION
  ^DATA_SET_MAP_PROJECTION_CATALOG= "DSMAP.CAT"
  A_AXIS_RADIUS = 3396.0
  B_AXIS_RADIUS = 3396.0
  C_AXIS_RADIUS = 3396.0
  CENTER_LATITUDE = 90.0
  CENTER_LONGITUDE = 0.0
  COORDINATE_SYSTEM_NAME = PLANETOGRAPHIC
  COORDINATE_SYSTEM_TYPE = "BODY-FIXED ROTATING"
  EASTERNMOST_LONGITUDE = 360.0
  FIRST_STANDARD_PARALLEL = "N/A"
  LINE_FIRST_PIXEL = 1
  LINE_LAST_PIXEL = 12823
  LINE_PROJECTION_OFFSET = 6199.125
  MAP_PROJECTION_ROTATION = 0.0
  MAP_PROJECTION_TYPE = STEREOGRAPHIC
  MAP_RESOLUTION = 1185.42760773333
  MAP_SCALE = 0.05
  MAXIMUM_LATITUDE = 90.0
  MINIMUM_LATITUDE = 82.4074
  POSITIVE_LONGITUDE_DIRECTION = EAST
  REFERENCE_LATITUDE = "N/A"
  REFERENCE_LONGITUDE = "N/A"
  SAMPLE_FIRST_PIXEL = 1
  SAMPLE_LAST_PIXEL = 12428
  SAMPLE_PROJECTION_OFFSET = 7480.125
  SECOND_STANDARD_PARALLEL = "N/A"
  WESTERNMOST_LONGITUDE = 0.0
END_OBJECT = IMAGE_MAP_PROJECTION
/* The JPEG2000 image data file associated with this label. */
OBJECT = COMPRESSED_FILE
  FILE_NAME = "H5739_0000_RE3.JP2"
  RECORD_TYPE = UNDEFINED
  FILE_RECORDS = UNK
  ENCODING_TYPE = "JP2"
  INTERCHANGE_FORMAT = BINARY
  UNCOMPRESSED_FILE_NAME = "H5739_0000_RE3.IMG"
  REQUIRED_STORAGE_BYTES = "159401528"
  ^DESCRIPTION = "JP2INFO.TXT"
END_OBJECT = COMPRESSED_FILE
END
