PDS_VERSION_ID = PDS3
/* FILE DATA ELEMENTS */
RECORD_TYPE = STREAM
/* POINTERS TO DATA OBJECTS */
^COMPRESSED_FILE = "H5754_0000_P23.JP2"
/* IDENTIFICATION DATA ELEMENTS */
DATA_SET_ID = "MEX-M-HRSC-5-REFDR-MAPPROJECTED-V3.0"
DATA_SET_NAME = "MARS EXPRESS HRSC MAP PROJECTED REFDR V3.0"
DETECTOR_ID = MEX_HRSC_P2
EVENT_TYPE = "MARS-REGIONAL-MAPPING-Gl-La"
INSTRUMENT_HOST_ID = MEX
INSTRUMENT_HOST_NAME = "MARS EXPRESS"
INSTRUMENT_ID = HRSC
INSTRUMENT_NAME = "HIGH RESOLUTION STEREO CAMERA"
MISSION_NAME = "MARS EXPRESS"
MISSION_PHASE_NAME = ME_Phase_13
PROCESSING_LEVEL_ID = 3
PRODUCT_CREATION_TIME = 2016-05-15T20:04:19.000Z
PRODUCT_ID = "H5754_0000_P23.JP2"
RELEASE_ID = 0065
REVISION_ID = 0000
/* QUALITY DATA ELEMENTS */
DATA_QUALITY_ID = 1
DATA_QUALITY_DESC = "Data calculated based on original SPICE kernels"
/* TIME DATA ELEMENTS */
SPACECRAFT_CLOCK_START_COUNT = "1/0162474282.09040"
SPACECRAFT_CLOCK_STOP_COUNT = "1/0162474591.14580"
START_TIME = 2008-06-25T11:44:58.496Z
STOP_TIME = 2008-06-25T11:48:18.258Z
/* ORBITAL DATA ELEMENTS */
ASCENDING_NODE_LONGITUDE = 108.81
MAXIMUM_RESOLUTION = 33.9
FOOTPRINT_POINT_LATITUDE = (82.2945,82.4939,82.653,82.734,82.9051, 83.1165,83.4403,83.7616,83.9747,84.1874 ,84.3965,84.6073,84.9224,85.1298, 85.3345,85.635,85.9313,86.1244,86.4018, 86.7458,86.9823,87.1886,87.3072,87.4074 ,87.4876,87.5628,87.58,87.5356,87.4734, 87.3869,87.2134,86.9972,86.8339,86.6541 ,86.4627,86.1581,85.942,85.7188,85.4902 ,85.1327,84.8884,84.6413,84.387,84.1292 ,83.8675,83.6016,83.3488,83.2254, 83.0145,82.8722,82.7691,82.5885,82.8291 ,83.0632,83.2918,83.5163,83.7334, 83.9438,84.1485,84.345,84.5321,84.7152, 84.8879,85.0478,85.2683,85.4025,85.5216 ,85.628,85.7588,85.8298,85.8848,85.922, 85.944,85.9502,85.9289,85.895,85.816, 85.7468,85.6185,85.5176,85.4056,85.2859 ,85.1567,85.0192,84.7982,84.6428, 84.4854,84.3208,84.1512,83.9775,83.7991 ,83.6203,83.4393,83.2549,83.0671, 82.8779,82.6856,82.4916,82.3003, 82.2945)
FOOTPRINT_POINT_LONGITUDE = (101.325,98.3891,95.6878,94.1486, 92.6875,93.325,94.3784,95.5501,96.4003, 97.3128,98.2937,99.3596,101.155,102.481 ,103.924,106.338,109.158,111.29,114.903 ,120.674,125.931,132.009,136.559, 141.549,146.952,155.586,164.597,173.633 ,179.4,184.815,192.354,198.912,202.75, 206.267,209.415,213.535,215.955,218.134 ,220.092,222.729,224.279,225.68,226.978 ,228.166,229.271,230.282,228.641, 226.247,222.763,220.726,219.375,217.2, 215.958,214.646,213.25,211.753,210.168, 208.481,206.671,204.749,202.715,200.517 ,198.176,195.729,191.76,188.899,185.943 ,182.831,177.936,174.513,171.013, 167.475,163.858,160.249,154.911,151.406 ,146.297,143.065,138.438,135.514, 132.755,130.169,127.692,125.373,122.131 ,120.124,118.304,116.544,114.89,113.343 ,111.879,110.528,109.257,108.054, 106.909,105.843,104.825,103.857,102.968 ,101.325)
ORBIT_NUMBER = 5754
ORBITAL_ECCENTRICITY = 0.568
ORBITAL_INCLINATION = 86.76
ORBITAL_SEMIMAJOR_AXIS = 8653.99
PERIAPSIS_ALTITUDE = 356.33
PERIAPSIS_ARGUMENT_ANGLE = 66.27
PERIAPSIS_TIME = 2008-06-25T11:40:59.000Z
SPACECRAFT_ORIENTATION = (0.0,1.0,0.0)
^MEX_ORIENTATION_DESC = "MEX_ORIENTATION_DESC.TXT"
SPACECRAFT_POINTING_MODE = NADIR
^MEX_POINTING_DESC = "MEX_POINTING_DESC.TXT"
RIGHT_ASCENSION = -1e+32
DECLINATION = -1e+32
OFFSET_ANGLE = -1e+32
SPACECRAFT_SOLAR_DISTANCE = 2.47829e+08
TARGET_NAME = MARS
/* CAMERA DATA ELEMENTS */
DETECTOR_TEMPERATURE = 18.1666
FOCAL_PLANE_TEMPERATURE = 7.5638
INST_CMPRS_NAME = "DISCRETE COSINE TRANSFORMATION (DCT)"
INST_CMPRS_RATIO = 7.20149
INST_CMPRS_QUALITY = 0
INST_CMPRS_QUANTZ_TBL_ID = 0
INSTRUMENT_TEMPERATURE = 11.0301
LENS_TEMPERATURE = 7.7677
MACROPIXEL_SIZE = 2
MISSING_FRAMES = 0
PIXEL_SUBSAMPLING_FLAG = N
SIGNAL_CHAIN_ID = 3
/* RADIOMETRIC DATA ELEMENTS */
BANDWIDTH = 177.0
CENTER_FILTER_WAVELENGTH = 676.5
RADIANCE_OFFSET = 2.64087
RADIANCE_SCALING_FACTOR = 0.0287153
REFLECTANCE_SCALING_FACTOR = 0.000935137
MEX:REFLECTANCE_OFFSET = 0.086002
/* IMAGE OBJECT DEFINITIONS */
OBJECT = IMAGE
  INTERCHANGE_FORMAT = BINARY
  LINES = 13159
  LINE_SAMPLES = 29915
  SAMPLE_TYPE = UNSIGNED_INTEGER
  SAMPLE_BITS = 8
  BANDS = 1
  BAND_STORAGE_TYPE = BAND_SEQUENTIAL
  MAXIMUM = 255
  MEAN = 112.681
  MINIMUM = 1
  STANDARD_DEVIATION = 48.8138
END_OBJECT = IMAGE
/* MAP OBJECT DEFINITIONS */
OBJECT = IMAGE_MAP_PROJECTION
  ^DATA_SET_MAP_PROJECTION_CATALOG= "DSMAP.CAT"
  A_AXIS_RADIUS = 3396.0
  B_AXIS_RADIUS = 3396.0
  C_AXIS_RADIUS = 3396.0
  CENTER_LATITUDE = 90.0
  CENTER_LONGITUDE = 0.0
  COORDINATE_SYSTEM_NAME = PLANETOGRAPHIC
  COORDINATE_SYSTEM_TYPE = "BODY-FIXED ROTATING"
  EASTERNMOST_LONGITUDE = 230.282
  FIRST_STANDARD_PARALLEL = "N/A"
  LINE_FIRST_PIXEL = 1
  LINE_LAST_PIXEL = 13159
  LINE_PROJECTION_OFFSET = 14003.75
  MAP_PROJECTION_ROTATION = 0.0
  MAP_PROJECTION_TYPE = STEREOGRAPHIC
  MAP_RESOLUTION = 2370.85521546667
  MAP_SCALE = 0.025
  MAXIMUM_LATITUDE = 87.58
  MINIMUM_LATITUDE = 82.2945
  POSITIVE_LONGITUDE_DIRECTION = EAST
  REFERENCE_LATITUDE = "N/A"
  REFERENCE_LONGITUDE = "N/A"
  SAMPLE_FIRST_PIXEL = 1
  SAMPLE_LAST_PIXEL = 29915
  SAMPLE_PROJECTION_OFFSET = 12023.25
  SECOND_STANDARD_PARALLEL = "N/A"
  WESTERNMOST_LONGITUDE = 92.6875
END_OBJECT = IMAGE_MAP_PROJECTION
/* The JPEG2000 image data file associated with this label. */
OBJECT = COMPRESSED_FILE
  FILE_NAME = "H5754_0000_P23.JP2"
  RECORD_TYPE = UNDEFINED
  FILE_RECORDS = UNK
  ENCODING_TYPE = "JP2"
  INTERCHANGE_FORMAT = BINARY
  UNCOMPRESSED_FILE_NAME = "H5754_0000_P23.IMG"
  REQUIRED_STORAGE_BYTES = "393741230"
  ^DESCRIPTION = "JP2INFO.TXT"
END_OBJECT = COMPRESSED_FILE
END
