PDS_VERSION_ID = PDS3
/* FILE DATA ELEMENTS */
RECORD_TYPE = STREAM
/* POINTERS TO DATA OBJECTS */
^COMPRESSED_FILE = "H5761_0000_ND3.JP2"
/* IDENTIFICATION DATA ELEMENTS */
DATA_SET_ID = "MEX-M-HRSC-5-REFDR-MAPPROJECTED-V3.0"
DATA_SET_NAME = "MARS EXPRESS HRSC MAP PROJECTED REFDR V3.0"
DETECTOR_ID = MEX_HRSC_NADIR
EVENT_TYPE = "MARS-REGIONAL-MAPPING-Gl-La-Ls"
INSTRUMENT_HOST_ID = MEX
INSTRUMENT_HOST_NAME = "MARS EXPRESS"
INSTRUMENT_ID = HRSC
INSTRUMENT_NAME = "HIGH RESOLUTION STEREO CAMERA"
MISSION_NAME = "MARS EXPRESS"
MISSION_PHASE_NAME = ME_Phase_13
PROCESSING_LEVEL_ID = 3
PRODUCT_CREATION_TIME = 2016-05-15T20:04:19.000Z
PRODUCT_ID = "H5761_0000_ND3.JP2"
RELEASE_ID = 0065
REVISION_ID = 0000
/* QUALITY DATA ELEMENTS */
DATA_QUALITY_ID = 1
DATA_QUALITY_DESC = "Data calculated based on original SPICE kernels"
/* TIME DATA ELEMENTS */
SPACECRAFT_CLOCK_START_COUNT = "1/0162646900.08255"
SPACECRAFT_CLOCK_STOP_COUNT = "1/0162647155.27678"
START_TIME = 2008-06-27T11:42:28.819Z
STOP_TIME = 2008-06-27T11:44:47.827Z
/* ORBITAL DATA ELEMENTS */
ASCENDING_NODE_LONGITUDE = 108.67
MAXIMUM_RESOLUTION = 19.9
FOOTPRINT_POINT_LATITUDE = (86.0498,86.424,86.6677,86.9754,87.1533 ,87.3148,87.5713,87.4957,87.4162, 87.2823,87.1223,86.9856,86.7853,86.5679 ,86.4526,86.3335,86.2116,86.0874, 85.9607,85.7639,85.6298,85.4942,85.357, 85.217,85.0746,84.931,84.7864,84.6409, 84.4917,84.3417,84.1909,84.0396,83.8082 ,83.6525,83.4964,83.3399,83.1803, 83.0202,82.8598,82.6171,82.453,82.2889, 82.1245,81.9581,81.7903,81.6226,81.4547 ,81.2839,81.1129,80.9442,80.8872, 80.7936,80.7397,80.6239,80.514,80.3789, 80.2854,80.4458,80.6059,80.7644,80.9207 ,81.0765,81.3086,81.4603,81.6113, 81.7616,81.9104,82.0567,82.2022,82.3467 ,82.4891,82.6292,82.7681,82.906,83.0418 ,83.1745,83.3061,83.4362,83.6275, 83.7512,83.8732,83.9934,84.1692,84.2827 ,84.3932,84.5013,84.6593,84.7589, 84.8556,84.9492,85.0394,85.1263,85.2864 ,85.4308,85.5275,85.6393,85.7304, 85.7867,85.8419,86.0498)
FOOTPRINT_POINT_LONGITUDE = (188.34,189.125,189.732,190.64,191.255, 191.887,193.133,199.912,204.754,210.727 ,216.081,219.745,224.148,227.99,229.76, 231.422,232.977,234.434,235.797,237.716 ,238.899,240.012,241.057,242.052, 242.998,243.89,244.73,245.526,246.291, 247.015,247.699,248.348,249.27,249.85, 250.402,250.927,251.436,251.922,252.387 ,253.046,253.466,253.87,254.255,254.627 ,254.984,255.327,255.657,255.977, 256.286,254.918,253.639,251.754,250.765 ,248.819,247.155,245.303,244.114, 243.677,243.226,242.76,242.282,241.786, 241.009,240.474,239.918,239.341,238.745 ,238.135,237.5,236.839,236.157,235.455, 234.725,233.965,233.176,232.366,231.524 ,230.646,229.267,228.312,227.319, 226.284,224.657,223.538,222.366,221.146 ,219.234,217.913,216.541,215.114, 213.631,212.099,208.923,205.527,202.851 ,199.165,195.291,192.296,188.256, 188.34)
ORBIT_NUMBER = 5761
ORBITAL_ECCENTRICITY = 0.568
ORBITAL_INCLINATION = 86.75
ORBITAL_SEMIMAJOR_AXIS = 8656.19
PERIAPSIS_ALTITUDE = 356.39
PERIAPSIS_ARGUMENT_ANGLE = 65.04
PERIAPSIS_TIME = 2008-06-27T11:35:48.000Z
SPACECRAFT_ORIENTATION = (0.0,1.0,0.0)
^MEX_ORIENTATION_DESC = "MEX_ORIENTATION_DESC.TXT"
SPACECRAFT_POINTING_MODE = NADIR
^MEX_POINTING_DESC = "MEX_POINTING_DESC.TXT"
RIGHT_ASCENSION = -1e+32
DECLINATION = -1e+32
OFFSET_ANGLE = -1e+32
SPACECRAFT_SOLAR_DISTANCE = 2.47699e+08
TARGET_NAME = MARS
/* CAMERA DATA ELEMENTS */
DETECTOR_TEMPERATURE = 17.7588
FOCAL_PLANE_TEMPERATURE = 7.5638
INST_CMPRS_NAME = "DISCRETE COSINE TRANSFORMATION (DCT)"
INST_CMPRS_RATIO = 7.58769
INST_CMPRS_QUALITY = 0
INST_CMPRS_QUANTZ_TBL_ID = 0
INSTRUMENT_TEMPERATURE = 10.6223
LENS_TEMPERATURE = 8.1755
MACROPIXEL_SIZE = 1
MISSING_FRAMES = 0
PIXEL_SUBSAMPLING_FLAG = N
SIGNAL_CHAIN_ID = 0
/* RADIOMETRIC DATA ELEMENTS */
BANDWIDTH = 177.0
CENTER_FILTER_WAVELENGTH = 677.5
RADIANCE_OFFSET = 2.15167
RADIANCE_SCALING_FACTOR = 0.0272424
REFLECTANCE_SCALING_FACTOR = 0.000887923
MEX:REFLECTANCE_OFFSET = 0.0701302
/* IMAGE OBJECT DEFINITIONS */
OBJECT = IMAGE
  INTERCHANGE_FORMAT = BINARY
  LINES = 17152
  LINE_SAMPLES = 15923
  SAMPLE_TYPE = UNSIGNED_INTEGER
  SAMPLE_BITS = 8
  BANDS = 1
  BAND_STORAGE_TYPE = BAND_SEQUENTIAL
  MAXIMUM = 254
  MEAN = 140.898
  MINIMUM = 1
  STANDARD_DEVIATION = 47.641
END_OBJECT = IMAGE
/* MAP OBJECT DEFINITIONS */
OBJECT = IMAGE_MAP_PROJECTION
  ^DATA_SET_MAP_PROJECTION_CATALOG= "DSMAP.CAT"
  A_AXIS_RADIUS = 3396.0
  B_AXIS_RADIUS = 3396.0
  C_AXIS_RADIUS = 3396.0
  CENTER_LATITUDE = 0.0
  CENTER_LONGITUDE = 235.0
  COORDINATE_SYSTEM_NAME = PLANETOGRAPHIC
  COORDINATE_SYSTEM_TYPE = "BODY-FIXED ROTATING"
  EASTERNMOST_LONGITUDE = 256.286
  FIRST_STANDARD_PARALLEL = "N/A"
  LINE_FIRST_PIXEL = 1
  LINE_LAST_PIXEL = 17152
  LINE_PROJECTION_OFFSET = 207549.0
  MAP_PROJECTION_ROTATION = 0.0
  MAP_PROJECTION_TYPE = SINUSOIDAL
  MAP_RESOLUTION = 2370.85521546667
  MAP_SCALE = 0.025
  MAXIMUM_LATITUDE = 87.57129999999999
  MINIMUM_LATITUDE = 80.2854
  POSITIVE_LONGITUDE_DIRECTION = EAST
  REFERENCE_LATITUDE = "N/A"
  REFERENCE_LONGITUDE = "N/A"
  SAMPLE_FIRST_PIXEL = 1
  SAMPLE_LAST_PIXEL = 15923
  SAMPLE_PROJECTION_OFFSET = 7985.0
  SECOND_STANDARD_PARALLEL = "N/A"
  WESTERNMOST_LONGITUDE = 188.256
END_OBJECT = IMAGE_MAP_PROJECTION
/* The JPEG2000 image data file associated with this label. */
OBJECT = COMPRESSED_FILE
  FILE_NAME = "H5761_0000_ND3.JP2"
  RECORD_TYPE = UNDEFINED
  FILE_RECORDS = UNK
  ENCODING_TYPE = "JP2"
  INTERCHANGE_FORMAT = BINARY
  UNCOMPRESSED_FILE_NAME = "H5761_0000_ND3.IMG"
  REQUIRED_STORAGE_BYTES = "273159065"
  ^DESCRIPTION = "JP2INFO.TXT"
END_OBJECT = COMPRESSED_FILE
END
