PDS_VERSION_ID = PDS3
/* FILE DATA ELEMENTS */
RECORD_TYPE = STREAM
/* POINTERS TO DATA OBJECTS */
^COMPRESSED_FILE = "H5768_0000_RE3.JP2"
/* IDENTIFICATION DATA ELEMENTS */
DATA_SET_ID = "MEX-M-HRSC-5-REFDR-MAPPROJECTED-V3.0"
DATA_SET_NAME = "MARS EXPRESS HRSC MAP PROJECTED REFDR V3.0"
DETECTOR_ID = MEX_HRSC_RED
EVENT_TYPE = "MARS-REGIONAL-MAPPING-Gl-La"
INSTRUMENT_HOST_ID = MEX
INSTRUMENT_HOST_NAME = "MARS EXPRESS"
INSTRUMENT_ID = HRSC
INSTRUMENT_NAME = "HIGH RESOLUTION STEREO CAMERA"
MISSION_NAME = "MARS EXPRESS"
MISSION_PHASE_NAME = ME_Phase_13
PROCESSING_LEVEL_ID = 3
PRODUCT_CREATION_TIME = 2016-05-15T20:04:19.000Z
PRODUCT_ID = "H5768_0000_RE3.JP2"
RELEASE_ID = 0065
REVISION_ID = 0000
/* QUALITY DATA ELEMENTS */
DATA_QUALITY_ID = 1
DATA_QUALITY_DESC = "Data calculated based on original SPICE kernels"
/* TIME DATA ELEMENTS */
SPACECRAFT_CLOCK_START_COUNT = "1/0162819348.08243"
SPACECRAFT_CLOCK_STOP_COUNT = "1/0162819663.49980"
START_TIME = 2008-06-29T11:35:58.733Z
STOP_TIME = 2008-06-29T11:39:04.430Z
/* ORBITAL DATA ELEMENTS */
ASCENDING_NODE_LONGITUDE = 108.53
MAXIMUM_RESOLUTION = 75.7
FOOTPRINT_POINT_LATITUDE = (84.8901,85.0437,85.2519,85.3955, 85.5612,85.702,85.8845,86.1892,86.3599, 86.5284,86.6921,86.8495,86.9968,87.1412 ,87.2773,87.4018,87.5121,87.6092, 87.6904,87.7768,87.8082,87.8176,87.7881 ,87.7084,87.6297,87.4755,87.352,87.2147 ,87.066,86.9042,86.6454,86.4639,86.2737 ,86.0768,85.8757,85.6711,85.4588, 85.2434,84.9162,84.6911,84.4639,84.2356 ,83.885,83.649,83.4106,83.1681,82.8032, 82.4302,82.181,81.9301,81.6747,81.2876, 81.1646,81.0932,80.99,80.8945,80.732, 80.7034,80.9423,81.1821,81.5348,81.7654 ,81.9934,82.2161,82.4373,82.6546, 82.8669,83.0784,83.2857,83.4863,83.6836 ,83.9718,84.1558,84.3354,84.596,84.7566 ,84.9891,85.1425,85.28,85.4721,85.589, 85.6943,85.7894,85.9116,86.0069,86.0546 ,86.102,86.118,86.1207,86.1106,86.0718, 86.0307,85.979,85.9164,85.8034,85.7152, 85.5177,85.4061,85.1022,84.8901)
FOOTPRINT_POINT_LONGITUDE = (158.356,156.725,154.269,152.378, 149.952,147.64,144.196,146.177,148.087, 150.191,152.509,155.061,157.848,160.998 ,164.498,168.343,172.529,177.103, 182.105,190.227,195.925,201.735,210.524 ,218.913,224.115,231.336,235.649, 239.575,243.092,246.322,250.544,253.01, 255.268,257.318,259.166,260.833,262.379 ,263.788,265.667,266.81,267.862,268.824 ,270.153,270.957,271.713,272.419, 273.384,274.275,274.816,275.325,275.812 ,276.505,274.382,272.704,270.597, 268.882,266.334,263.935,263.258,262.54, 261.398,260.587,259.731,258.838,257.889 ,256.888,255.839,254.719,253.532, 252.291,250.971,248.834,247.316,245.7, 243.075,241.237,238.238,236.02,233.761, 230.111,227.507,224.819,222.004,217.556 ,212.904,209.723,204.85,201.525,198.263 ,195.008,190.191,187.037,184.031, 181.105,176.93,174.224,169.339,167.007, 161.834,158.356)
ORBIT_NUMBER = 5768
ORBITAL_ECCENTRICITY = 0.568
ORBITAL_INCLINATION = 86.74
ORBITAL_SEMIMAJOR_AXIS = 8657.37
PERIAPSIS_ALTITUDE = 356.24
PERIAPSIS_ARGUMENT_ANGLE = 63.83
PERIAPSIS_TIME = 2008-06-29T11:30:37.000Z
SPACECRAFT_ORIENTATION = (0.0,1.0,0.0)
^MEX_ORIENTATION_DESC = "MEX_ORIENTATION_DESC.TXT"
SPACECRAFT_POINTING_MODE = ACROSSTRACK
^MEX_POINTING_DESC = "MEX_POINTING_DESC.TXT"
RIGHT_ASCENSION = -1e+32
DECLINATION = -1e+32
OFFSET_ANGLE = 0.2
SPACECRAFT_SOLAR_DISTANCE = 2.47563e+08
TARGET_NAME = MARS
/* CAMERA DATA ELEMENTS */
DETECTOR_TEMPERATURE = 17.9627
FOCAL_PLANE_TEMPERATURE = 7.3599
INST_CMPRS_NAME = "DISCRETE COSINE TRANSFORMATION (DCT)"
INST_CMPRS_RATIO = 20.7568
INST_CMPRS_QUALITY = 0
INST_CMPRS_QUANTZ_TBL_ID = 0
INSTRUMENT_TEMPERATURE = 11.6418
LENS_TEMPERATURE = 7.9716
MACROPIXEL_SIZE = 4
MISSING_FRAMES = 0
PIXEL_SUBSAMPLING_FLAG = N
SIGNAL_CHAIN_ID = 2
/* RADIOMETRIC DATA ELEMENTS */
BANDWIDTH = 48.0
CENTER_FILTER_WAVELENGTH = 748.0
RADIANCE_OFFSET = 0.697794
RADIANCE_SCALING_FACTOR = 0.00652907
REFLECTANCE_SCALING_FACTOR = 0.000913163
MEX:REFLECTANCE_OFFSET = 0.0975943
/* IMAGE OBJECT DEFINITIONS */
OBJECT = IMAGE
  INTERCHANGE_FORMAT = BINARY
  LINES = 3405
  LINE_SAMPLES = 6936
  SAMPLE_TYPE = UNSIGNED_INTEGER
  SAMPLE_BITS = 8
  BANDS = 1
  BAND_STORAGE_TYPE = BAND_SEQUENTIAL
  MAXIMUM = 255
  MEAN = 153.639
  MINIMUM = 1
  STANDARD_DEVIATION = 41.002
END_OBJECT = IMAGE
/* MAP OBJECT DEFINITIONS */
OBJECT = IMAGE_MAP_PROJECTION
  ^DATA_SET_MAP_PROJECTION_CATALOG= "DSMAP.CAT"
  A_AXIS_RADIUS = 3396.0
  B_AXIS_RADIUS = 3396.0
  C_AXIS_RADIUS = 3396.0
  CENTER_LATITUDE = 90.0
  CENTER_LONGITUDE = 0.0
  COORDINATE_SYSTEM_NAME = PLANETOGRAPHIC
  COORDINATE_SYSTEM_TYPE = "BODY-FIXED ROTATING"
  EASTERNMOST_LONGITUDE = 276.505
  FIRST_STANDARD_PARALLEL = "N/A"
  LINE_FIRST_PIXEL = 1
  LINE_LAST_PIXEL = 3405
  LINE_PROJECTION_OFFSET = 2815.125
  MAP_PROJECTION_ROTATION = 0.0
  MAP_PROJECTION_TYPE = STEREOGRAPHIC
  MAP_RESOLUTION = 592.713803866667
  MAP_SCALE = 0.1
  MAXIMUM_LATITUDE = 87.8176
  MINIMUM_LATITUDE = 80.7034
  POSITIVE_LONGITUDE_DIRECTION = EAST
  REFERENCE_LATITUDE = "N/A"
  REFERENCE_LONGITUDE = "N/A"
  SAMPLE_FIRST_PIXEL = 1
  SAMPLE_LAST_PIXEL = 6936
  SAMPLE_PROJECTION_OFFSET = 5559.375
  SECOND_STANDARD_PARALLEL = "N/A"
  WESTERNMOST_LONGITUDE = 144.196
END_OBJECT = IMAGE_MAP_PROJECTION
/* The JPEG2000 image data file associated with this label. */
OBJECT = COMPRESSED_FILE
  FILE_NAME = "H5768_0000_RE3.JP2"
  RECORD_TYPE = UNDEFINED
  FILE_RECORDS = UNK
  ENCODING_TYPE = "JP2"
  INTERCHANGE_FORMAT = BINARY
  UNCOMPRESSED_FILE_NAME = "H5768_0000_RE3.IMG"
  REQUIRED_STORAGE_BYTES = "23651760"
  ^DESCRIPTION = "JP2INFO.TXT"
END_OBJECT = COMPRESSED_FILE
END
