PDS_VERSION_ID = PDS3
/* FILE DATA ELEMENTS */
RECORD_TYPE = STREAM
/* POINTERS TO DATA OBJECTS */
^COMPRESSED_FILE = "H5779_0000_S23.JP2"
/* IDENTIFICATION DATA ELEMENTS */
DATA_SET_ID = "MEX-M-HRSC-5-REFDR-MAPPROJECTED-V3.0"
DATA_SET_NAME = "MARS EXPRESS HRSC MAP PROJECTED REFDR V3.0"
DETECTOR_ID = MEX_HRSC_S2
EVENT_TYPE = "MARS-REGIONAL-MAPPING-Im-Pf"
INSTRUMENT_HOST_ID = MEX
INSTRUMENT_HOST_NAME = "MARS EXPRESS"
INSTRUMENT_ID = HRSC
INSTRUMENT_NAME = "HIGH RESOLUTION STEREO CAMERA"
MISSION_NAME = "MARS EXPRESS"
MISSION_PHASE_NAME = ME_Phase_14
PROCESSING_LEVEL_ID = 3
PRODUCT_CREATION_TIME = 2016-05-15T20:04:19.000Z
PRODUCT_ID = "H5779_0000_S23.JP2"
RELEASE_ID = 0065
REVISION_ID = 0000
/* QUALITY DATA ELEMENTS */
DATA_QUALITY_ID = 1
DATA_QUALITY_DESC = "Data calculated based on original SPICE kernels"
/* TIME DATA ELEMENTS */
SPACECRAFT_CLOCK_START_COUNT = "1/0163090649.07295"
SPACECRAFT_CLOCK_STOP_COUNT = "1/0163091027.45454"
START_TIME = 2008-07-02T14:57:32.694Z
STOP_TIME = 2008-07-02T15:00:12.694Z
/* ORBITAL DATA ELEMENTS */
ASCENDING_NODE_LONGITUDE = 108.31
MAXIMUM_RESOLUTION = 53.6
FOOTPRINT_POINT_LATITUDE = (78.742,78.8198,78.9157,78.9987,79.1009 ,79.1932,79.2756,79.3175,79.3644, 79.1317,78.7873,78.5252,78.1749,77.8201 ,77.5535,77.3732,77.193,77.0126,76.8314 ,76.6476,76.3728,76.1872,75.9091, 75.6284,75.4403,75.2521,75.0616,74.871, 74.5839,74.3907,74.1977,73.9049,73.7095 ,73.5125,73.3145,73.1167,72.9169, 72.7167,72.5161,72.3136,72.1111,71.8075 ,71.6055,71.404,71.1016,70.8999,70.6988 ,70.498,70.2975,70.0971,69.8968,69.6968 ,69.6285,69.6099,69.591,69.555,69.5057, 69.4533,69.4128,69.3794,69.3068,69.2566 ,69.5391,69.8349,70.0321,70.3289, 70.5267,70.7249,71.0224,71.32,71.5185, 71.8166,72.0155,72.3113,72.5077,72.703, 72.8967,73.1862,73.3783,73.5692,73.7593 ,73.9478,74.2301,74.4158,74.6016, 74.8784,75.0618,75.2448,75.4258,75.6064 ,75.8763,76.0533,76.233,76.5848,77.0193 ,77.3615,77.6174,77.9534,78.3692, 78.742)
FOOTPRINT_POINT_LONGITUDE = (246.034,247.017,248.315,249.532, 251.184,252.865,254.576,255.551,256.755 ,257.31,257.69,257.962,258.307,258.634, 258.868,259.019,259.166,259.309,259.447 ,259.586,259.784,259.913,260.099,260.28 ,260.397,260.51,260.622,260.731,260.89, 260.993,261.094,261.241,261.336,261.43, 261.521,261.611,261.698,261.784,261.867 ,261.95,262.03,262.147,262.222,262.295, 262.402,262.472,262.539,262.604,262.668 ,262.731,262.792,262.852,262.25,261.632 ,261.093,260.173,259.106,258.12,257.439 ,256.912,255.863,255.193,254.875, 254.728,254.626,254.47,254.362,254.252, 254.081,253.904,253.782,253.592,253.462 ,253.262,253.124,252.984,252.841,252.62 ,252.47,252.315,252.158,251.997,251.748 ,251.579,251.405,251.137,250.953, 250.764,250.573,250.376,250.071,249.864 ,249.65,249.208,248.623,248.131,247.744 ,247.207,246.495,246.034)
ORBIT_NUMBER = 5779
ORBITAL_ECCENTRICITY = 0.569
ORBITAL_INCLINATION = 86.75
ORBITAL_SEMIMAJOR_AXIS = 8660.99
PERIAPSIS_ALTITUDE = 355.29
PERIAPSIS_ARGUMENT_ANGLE = 61.88
PERIAPSIS_TIME = 2008-07-02T14:48:10.000Z
SPACECRAFT_ORIENTATION = (0.0,1.0,0.0)
^MEX_ORIENTATION_DESC = "MEX_ORIENTATION_DESC.TXT"
SPACECRAFT_POINTING_MODE = NADIR
^MEX_POINTING_DESC = "MEX_POINTING_DESC.TXT"
RIGHT_ASCENSION = -1e+32
DECLINATION = -1e+32
OFFSET_ANGLE = -1e+32
SPACECRAFT_SOLAR_DISTANCE = 2.47338e+08
TARGET_NAME = MARS
/* CAMERA DATA ELEMENTS */
DETECTOR_TEMPERATURE = 18.1666
FOCAL_PLANE_TEMPERATURE = 7.3599
INST_CMPRS_NAME = "DISCRETE COSINE TRANSFORMATION (DCT)"
INST_CMPRS_RATIO = 13.8468
INST_CMPRS_QUALITY = 0
INST_CMPRS_QUANTZ_TBL_ID = 0
INSTRUMENT_TEMPERATURE = 10.6223
LENS_TEMPERATURE = 7.7677
MACROPIXEL_SIZE = 2
MISSING_FRAMES = 0
PIXEL_SUBSAMPLING_FLAG = N
SIGNAL_CHAIN_ID = 1
/* RADIOMETRIC DATA ELEMENTS */
BANDWIDTH = 178.0
CENTER_FILTER_WAVELENGTH = 679.0
RADIANCE_OFFSET = 2.6713
RADIANCE_SCALING_FACTOR = 0.0242105
REFLECTANCE_SCALING_FACTOR = 0.00078436
MEX:REFLECTANCE_OFFSET = 0.0865435
/* IMAGE OBJECT DEFINITIONS */
OBJECT = IMAGE
  INTERCHANGE_FORMAT = BINARY
  LINES = 11834
  LINE_SAMPLES = 5366
  SAMPLE_TYPE = UNSIGNED_INTEGER
  SAMPLE_BITS = 8
  BANDS = 1
  BAND_STORAGE_TYPE = BAND_SEQUENTIAL
  MAXIMUM = 255
  MEAN = 109.847
  MINIMUM = 1
  STANDARD_DEVIATION = 40.6392
END_OBJECT = IMAGE
/* MAP OBJECT DEFINITIONS */
OBJECT = IMAGE_MAP_PROJECTION
  ^DATA_SET_MAP_PROJECTION_CATALOG= "DSMAP.CAT"
  A_AXIS_RADIUS = 3396.0
  B_AXIS_RADIUS = 3396.0
  C_AXIS_RADIUS = 3396.0
  CENTER_LATITUDE = 0.0
  CENTER_LONGITUDE = 256.0
  COORDINATE_SYSTEM_NAME = PLANETOGRAPHIC
  COORDINATE_SYSTEM_TYPE = "BODY-FIXED ROTATING"
  EASTERNMOST_LONGITUDE = 262.852
  FIRST_STANDARD_PARALLEL = "N/A"
  LINE_FIRST_PIXEL = 1
  LINE_LAST_PIXEL = 11834
  LINE_PROJECTION_OFFSET = 93915.75
  MAP_PROJECTION_ROTATION = 0.0
  MAP_PROJECTION_TYPE = SINUSOIDAL
  MAP_RESOLUTION = 1185.42760773333
  MAP_SCALE = 0.05
  MAXIMUM_LATITUDE = 79.3644
  MINIMUM_LATITUDE = 69.25660000000001
  POSITIVE_LONGITUDE_DIRECTION = EAST
  REFERENCE_LATITUDE = "N/A"
  REFERENCE_LONGITUDE = "N/A"
  SAMPLE_FIRST_PIXEL = 1
  SAMPLE_LAST_PIXEL = 5366
  SAMPLE_PROJECTION_OFFSET = 2441.25
  SECOND_STANDARD_PARALLEL = "N/A"
  WESTERNMOST_LONGITUDE = 246.034
END_OBJECT = IMAGE_MAP_PROJECTION
/* The JPEG2000 image data file associated with this label. */
OBJECT = COMPRESSED_FILE
  FILE_NAME = "H5779_0000_S23.JP2"
  RECORD_TYPE = UNDEFINED
  FILE_RECORDS = UNK
  ENCODING_TYPE = "JP2"
  INTERCHANGE_FORMAT = BINARY
  UNCOMPRESSED_FILE_NAME = "H5779_0000_S23.IMG"
  REQUIRED_STORAGE_BYTES = "63528074"
  ^DESCRIPTION = "JP2INFO.TXT"
END_OBJECT = COMPRESSED_FILE
END
