PDS_VERSION_ID = PDS3
/* FILE DATA ELEMENTS */
RECORD_TYPE = STREAM
/* POINTERS TO DATA OBJECTS */
^COMPRESSED_FILE = "H5784_0000_S13.JP2"
/* IDENTIFICATION DATA ELEMENTS */
DATA_SET_ID = "MEX-M-HRSC-5-REFDR-MAPPROJECTED-V3.0"
DATA_SET_NAME = "MARS EXPRESS HRSC MAP PROJECTED REFDR V3.0"
DETECTOR_ID = MEX_HRSC_S1
EVENT_TYPE = "MARS-REGIONAL-MAPPING-Im-Pf-La"
INSTRUMENT_HOST_ID = MEX
INSTRUMENT_HOST_NAME = "MARS EXPRESS"
INSTRUMENT_ID = HRSC
INSTRUMENT_NAME = "HIGH RESOLUTION STEREO CAMERA"
MISSION_NAME = "MARS EXPRESS"
MISSION_PHASE_NAME = ME_Phase_14
PROCESSING_LEVEL_ID = 3
PRODUCT_CREATION_TIME = 2016-05-15T20:04:19.000Z
PRODUCT_ID = "H5784_0000_S13.JP2"
RELEASE_ID = 0065
REVISION_ID = 0000
/* QUALITY DATA ELEMENTS */
DATA_QUALITY_ID = 1
DATA_QUALITY_DESC = "Data calculated based on original SPICE kernels"
/* TIME DATA ELEMENTS */
SPACECRAFT_CLOCK_START_COUNT = "1/0163213824.08245"
SPACECRAFT_CLOCK_STOP_COUNT = "1/0163214268.00006"
START_TIME = 2008-07-04T01:12:49.128Z
STOP_TIME = 2008-07-04T01:17:49.668Z
/* ORBITAL DATA ELEMENTS */
ASCENDING_NODE_LONGITUDE = 108.21
MAXIMUM_RESOLUTION = 62.5
FOOTPRINT_POINT_LATITUDE = (81.4096,81.5476,81.672,81.7819,81.8761 ,81.954,82.1789,81.8262,81.3515,80.9922 ,80.6304,80.2658,79.8988,79.5287, 79.1557,78.7797,78.2747,77.7643,77.5082 ,77.2501,76.9901,76.7292,76.4673,76.204 ,75.9393,75.6731,75.4052,75.1365, 74.8661,74.5945,74.3215,74.047,73.6326, 73.3567,73.0819,72.8085,72.5364,72.2655 ,71.9962,71.7285,71.4619,71.1966, 70.9327,70.6703,70.4093,70.1496,69.8911 ,69.6339,69.2318,69.2259,69.2114, 69.1967,69.1808,69.155,69.1127,69.0822, 69.0486,69.0118,68.972,68.9289,69.2864, 69.7921,70.0471,70.3029,70.5601,70.8185 ,71.0786,71.3401,71.6024,71.8662, 72.1308,72.3975,72.6654,72.9347,73.2048 ,73.4757,73.745,74.0129,74.2793,74.5442 ,74.8075,75.0694,75.3298,75.5885, 75.8461,76.102,76.3569,76.61,77.1113, 77.6065,77.9756,78.461,78.94,79.2957, 79.6477,79.9963,80.3411,80.7953,81.1314 ,81.4096)
FOOTPRINT_POINT_LONGITUDE = (106.787,109.217,111.74,114.354,117.052 ,119.834,123.163,123.461,123.822,124.07 ,124.299,124.513,124.714,124.901, 125.077,125.241,125.446,125.637,125.729 ,125.816,125.9,125.982,126.06,126.136, 126.21,126.282,126.351,126.418,126.483, 126.546,126.608,126.667,126.754,126.81, 126.863,126.914,126.964,127.012,127.058 ,127.104,127.147,127.19,127.231,127.271 ,127.31,127.348,127.385,127.421,127.153 ,126.287,125.104,124.249,123.505,122.45 ,121.087,120.254,119.426,118.603, 117.785,116.971,116.52,116.361,116.277, 116.19,116.098,116.003,115.904,115.801, 115.693,115.58,115.463,115.34,115.212, 115.078,114.938,114.792,114.641,114.484 ,114.322,114.154,113.98,113.8,113.613, 113.42,113.219,113.01,112.794,112.57, 112.095,111.584,111.171,110.582,109.945 ,109.43,108.882,108.296,107.67,106.766, 106.031,106.787)
ORBIT_NUMBER = 5784
ORBITAL_ECCENTRICITY = 0.568
ORBITAL_INCLINATION = 86.76
ORBITAL_SEMIMAJOR_AXIS = 8656.28
PERIAPSIS_ALTITUDE = 355.03
PERIAPSIS_ARGUMENT_ANGLE = 61.01
PERIAPSIS_TIME = 2008-07-04T01:01:35.000Z
SPACECRAFT_ORIENTATION = (0.0,1.0,0.0)
^MEX_ORIENTATION_DESC = "MEX_ORIENTATION_DESC.TXT"
SPACECRAFT_POINTING_MODE = ACROSSTRACK
^MEX_POINTING_DESC = "MEX_POINTING_DESC.TXT"
RIGHT_ASCENSION = -1e+32
DECLINATION = -1e+32
OFFSET_ANGLE = 1.145
SPACECRAFT_SOLAR_DISTANCE = 2.47232e+08
TARGET_NAME = MARS
/* CAMERA DATA ELEMENTS */
DETECTOR_TEMPERATURE = 17.1471
FOCAL_PLANE_TEMPERATURE = 7.5638
INST_CMPRS_NAME = "DISCRETE COSINE TRANSFORMATION (DCT)"
INST_CMPRS_RATIO = 10.9808
INST_CMPRS_QUALITY = 0
INST_CMPRS_QUANTZ_TBL_ID = 0
INSTRUMENT_TEMPERATURE = 11.0301
LENS_TEMPERATURE = 8.1755
MACROPIXEL_SIZE = 2
MISSING_FRAMES = 0
PIXEL_SUBSAMPLING_FLAG = N
SIGNAL_CHAIN_ID = 1
/* RADIOMETRIC DATA ELEMENTS */
BANDWIDTH = 180.0
CENTER_FILTER_WAVELENGTH = 677.0
RADIANCE_OFFSET = 3.20737
RADIANCE_SCALING_FACTOR = 0.0223049
REFLECTANCE_SCALING_FACTOR = 0.000711295
MEX:REFLECTANCE_OFFSET = 0.102282
/* IMAGE OBJECT DEFINITIONS */
OBJECT = IMAGE
  INTERCHANGE_FORMAT = BINARY
  LINES = 15594
  LINE_SAMPLES = 5325
  SAMPLE_TYPE = UNSIGNED_INTEGER
  SAMPLE_BITS = 8
  BANDS = 1
  BAND_STORAGE_TYPE = BAND_SEQUENTIAL
  MAXIMUM = 255
  MEAN = 133.904
  MINIMUM = 1
  STANDARD_DEVIATION = 50.1962
END_OBJECT = IMAGE
/* MAP OBJECT DEFINITIONS */
OBJECT = IMAGE_MAP_PROJECTION
  ^DATA_SET_MAP_PROJECTION_CATALOG= "DSMAP.CAT"
  A_AXIS_RADIUS = 3396.0
  B_AXIS_RADIUS = 3396.0
  C_AXIS_RADIUS = 3396.0
  CENTER_LATITUDE = 0.0
  CENTER_LONGITUDE = 119.0
  COORDINATE_SYSTEM_NAME = PLANETOGRAPHIC
  COORDINATE_SYSTEM_TYPE = "BODY-FIXED ROTATING"
  EASTERNMOST_LONGITUDE = 127.421
  FIRST_STANDARD_PARALLEL = "N/A"
  LINE_FIRST_PIXEL = 1
  LINE_LAST_PIXEL = 15594
  LINE_PROJECTION_OFFSET = 97326.25
  MAP_PROJECTION_ROTATION = 0.0
  MAP_PROJECTION_TYPE = SINUSOIDAL
  MAP_RESOLUTION = 1185.42760773333
  MAP_SCALE = 0.05
  MAXIMUM_LATITUDE = 82.1789
  MINIMUM_LATITUDE = 68.9289
  POSITIVE_LONGITUDE_DIRECTION = EAST
  REFERENCE_LATITUDE = "N/A"
  REFERENCE_LONGITUDE = "N/A"
  SAMPLE_FIRST_PIXEL = 1
  SAMPLE_LAST_PIXEL = 5325
  SAMPLE_PROJECTION_OFFSET = 2294.75
  SECOND_STANDARD_PARALLEL = "N/A"
  WESTERNMOST_LONGITUDE = 106.031
END_OBJECT = IMAGE_MAP_PROJECTION
/* The JPEG2000 image data file associated with this label. */
OBJECT = COMPRESSED_FILE
  FILE_NAME = "H5784_0000_S13.JP2"
  RECORD_TYPE = UNDEFINED
  FILE_RECORDS = UNK
  ENCODING_TYPE = "JP2"
  INTERCHANGE_FORMAT = BINARY
  UNCOMPRESSED_FILE_NAME = "H5784_0000_S13.IMG"
  REQUIRED_STORAGE_BYTES = "83064675"
  ^DESCRIPTION = "JP2INFO.TXT"
END_OBJECT = COMPRESSED_FILE
END
