PDS_VERSION_ID = PDS3
/* FILE DATA ELEMENTS */
RECORD_TYPE = STREAM
/* POINTERS TO DATA OBJECTS */
^COMPRESSED_FILE = "H5787_0000_P13.JP2"
/* IDENTIFICATION DATA ELEMENTS */
DATA_SET_ID = "MEX-M-HRSC-5-REFDR-MAPPROJECTED-V3.0"
DATA_SET_NAME = "MARS EXPRESS HRSC MAP PROJECTED REFDR V3.0"
DETECTOR_ID = MEX_HRSC_P1
EVENT_TYPE = "MARS-REGIONAL-MAPPING-Im-Pf-Eo"
INSTRUMENT_HOST_ID = MEX
INSTRUMENT_HOST_NAME = "MARS EXPRESS"
INSTRUMENT_ID = HRSC
INSTRUMENT_NAME = "HIGH RESOLUTION STEREO CAMERA"
MISSION_NAME = "MARS EXPRESS"
MISSION_PHASE_NAME = ME_Phase_14
PROCESSING_LEVEL_ID = 3
PRODUCT_CREATION_TIME = 2016-05-15T20:04:19.000Z
PRODUCT_ID = "H5787_0000_P13.JP2"
RELEASE_ID = 0065
REVISION_ID = 0000
/* QUALITY DATA ELEMENTS */
DATA_QUALITY_ID = 1
DATA_QUALITY_DESC = "Data calculated based on original SPICE kernels"
/* TIME DATA ELEMENTS */
SPACECRAFT_CLOCK_START_COUNT = "1/0163287796.08249"
SPACECRAFT_CLOCK_STOP_COUNT = "1/0163288208.38149"
START_TIME = 2008-07-04T21:45:22.920Z
STOP_TIME = 2008-07-04T21:49:15.028Z
/* ORBITAL DATA ELEMENTS */
ASCENDING_NODE_LONGITUDE = 108.15
MAXIMUM_RESOLUTION = 62.8
FOOTPRINT_POINT_LATITUDE = (79.0912,79.2102,79.317,79.4113,79.4923 ,79.5595,79.5878,79.6124,79.6264, 79.3999,79.1742,78.9485,78.7237,78.4992 ,78.2756,77.9412,77.7187,77.4973, 77.1656,76.9459,76.6163,76.3985,76.0718 ,75.8549,75.6386,75.4227,75.2078, 74.9934,74.7796,74.5664,74.2477,74.0351 ,73.8281,73.6149,73.4046,73.1961, 72.9879,72.78,72.5731,72.3665,71.9554, 71.5467,71.1405,70.7369,70.3358,69.9371 ,69.5408,69.1472,69.1418,69.1302, 69.1179,69.1023,69.0832,69.0607,69.0356 ,68.9879,68.9547,68.9186,68.8788, 68.8404,69.2276,69.6167,70.0084,70.4025 ,70.7989,71.1977,71.5991,72.0027, 72.4085,72.6123,72.8165,73.0215,73.2268 ,73.4329,73.6394,73.8467,74.0544, 74.2627,74.4716,74.6809,74.8908,75.1011 ,75.3121,75.5235,75.7353,75.9478, 76.1607,76.3741,76.5878,76.8023,77.1247 ,77.3396,77.5553,77.7715,77.9881,78.205 ,78.4222,78.6397,78.8576,79.0912)
FOOTPRINT_POINT_LONGITUDE = (169.263,171.283,173.356,175.485, 177.662,179.887,181.018,182.16,183.742, 183.864,183.981,184.091,184.197,184.297 ,184.394,184.532,184.617,184.702, 184.819,184.896,185.002,185.074,185.172 ,185.235,185.296,185.354,185.411, 185.467,185.52,185.571,185.645,185.69, 185.747,185.784,185.826,185.87,185.911, 185.951,185.99,186.028,186.101,186.169, 186.234,186.296,186.355,186.411,186.465 ,186.516,185.706,184.591,183.786, 182.986,182.189,181.397,180.609,179.336 ,178.559,177.786,177.017,176.313, 176.195,176.07,175.938,175.798,175.648, 175.49,175.321,175.141,174.95,174.85, 174.746,174.639,174.529,174.415,174.297 ,174.175,174.049,173.918,173.783, 173.643,173.499,173.349,173.193,173.032 ,172.865,172.692,172.512,172.325, 172.131,171.929,171.611,171.389,171.158 ,170.916,170.665,170.402,170.128, 169.842,169.543,169.263)
ORBIT_NUMBER = 5787
ORBITAL_ECCENTRICITY = 0.569
ORBITAL_INCLINATION = 86.74
ORBITAL_SEMIMAJOR_AXIS = 8660.19
PERIAPSIS_ALTITUDE = 355.18
PERIAPSIS_ARGUMENT_ANGLE = 60.49
PERIAPSIS_TIME = 2008-07-04T21:33:40.000Z
SPACECRAFT_ORIENTATION = (0.0,1.0,0.0)
^MEX_ORIENTATION_DESC = "MEX_ORIENTATION_DESC.TXT"
SPACECRAFT_POINTING_MODE = ACROSSTRACK
^MEX_POINTING_DESC = "MEX_POINTING_DESC.TXT"
RIGHT_ASCENSION = -1e+32
DECLINATION = -1e+32
OFFSET_ANGLE = 1.1
SPACECRAFT_SOLAR_DISTANCE = 2.47166e+08
TARGET_NAME = MARS
/* CAMERA DATA ELEMENTS */
DETECTOR_TEMPERATURE = 16.9432
FOCAL_PLANE_TEMPERATURE = 7.5638
INST_CMPRS_NAME = "DISCRETE COSINE TRANSFORMATION (DCT)"
INST_CMPRS_RATIO = 15.2542
INST_CMPRS_QUALITY = 0
INST_CMPRS_QUANTZ_TBL_ID = 0
INSTRUMENT_TEMPERATURE = 10.8262
LENS_TEMPERATURE = 7.9716
MACROPIXEL_SIZE = 2
MISSING_FRAMES = 0
PIXEL_SUBSAMPLING_FLAG = N
SIGNAL_CHAIN_ID = 3
/* RADIOMETRIC DATA ELEMENTS */
BANDWIDTH = 174.0
CENTER_FILTER_WAVELENGTH = 675.0
RADIANCE_OFFSET = 3.03147
RADIANCE_SCALING_FACTOR = 0.0218588
REFLECTANCE_SCALING_FACTOR = 0.000718272
MEX:REFLECTANCE_OFFSET = 0.0996129
/* IMAGE OBJECT DEFINITIONS */
OBJECT = IMAGE
  INTERCHANGE_FORMAT = BINARY
  LINES = 12838
  LINE_SAMPLES = 4752
  SAMPLE_TYPE = UNSIGNED_INTEGER
  SAMPLE_BITS = 8
  BANDS = 1
  BAND_STORAGE_TYPE = BAND_SEQUENTIAL
  MAXIMUM = 255
  MEAN = 126.142
  MINIMUM = 1
  STANDARD_DEVIATION = 52.9204
END_OBJECT = IMAGE
/* MAP OBJECT DEFINITIONS */
OBJECT = IMAGE_MAP_PROJECTION
  ^DATA_SET_MAP_PROJECTION_CATALOG= "DSMAP.CAT"
  A_AXIS_RADIUS = 3396.0
  B_AXIS_RADIUS = 3396.0
  C_AXIS_RADIUS = 3396.0
  CENTER_LATITUDE = 0.0
  CENTER_LONGITUDE = 180.0
  COORDINATE_SYSTEM_NAME = PLANETOGRAPHIC
  COORDINATE_SYSTEM_TYPE = "BODY-FIXED ROTATING"
  EASTERNMOST_LONGITUDE = 186.516
  FIRST_STANDARD_PARALLEL = "N/A"
  LINE_FIRST_PIXEL = 1
  LINE_LAST_PIXEL = 12838
  LINE_PROJECTION_OFFSET = 94465.75
  MAP_PROJECTION_ROTATION = 0.0
  MAP_PROJECTION_TYPE = SINUSOIDAL
  MAP_RESOLUTION = 1185.42760773333
  MAP_SCALE = 0.05
  MAXIMUM_LATITUDE = 79.6264
  MINIMUM_LATITUDE = 68.8404
  POSITIVE_LONGITUDE_DIRECTION = EAST
  REFERENCE_LATITUDE = "N/A"
  REFERENCE_LONGITUDE = "N/A"
  SAMPLE_FIRST_PIXEL = 1
  SAMPLE_LAST_PIXEL = 4752
  SAMPLE_PROJECTION_OFFSET = 2321.25
  SECOND_STANDARD_PARALLEL = "N/A"
  WESTERNMOST_LONGITUDE = 169.263
END_OBJECT = IMAGE_MAP_PROJECTION
/* The JPEG2000 image data file associated with this label. */
OBJECT = COMPRESSED_FILE
  FILE_NAME = "H5787_0000_P13.JP2"
  RECORD_TYPE = UNDEFINED
  FILE_RECORDS = UNK
  ENCODING_TYPE = "JP2"
  INTERCHANGE_FORMAT = BINARY
  UNCOMPRESSED_FILE_NAME = "H5787_0000_P13.IMG"
  REQUIRED_STORAGE_BYTES = "61029936"
  ^DESCRIPTION = "JP2INFO.TXT"
END_OBJECT = COMPRESSED_FILE
END
