PDS_VERSION_ID = PDS3
/* FILE DATA ELEMENTS */
RECORD_TYPE = STREAM
/* POINTERS TO DATA OBJECTS */
^COMPRESSED_FILE = "H5794_0000_RE3.JP2"
/* IDENTIFICATION DATA ELEMENTS */
DATA_SET_ID = "MEX-M-HRSC-5-REFDR-MAPPROJECTED-V3.0"
DATA_SET_NAME = "MARS EXPRESS HRSC MAP PROJECTED REFDR V3.0"
DETECTOR_ID = MEX_HRSC_RED
EVENT_TYPE = "MARS-REGIONAL-MAPPING-Im-Pf-Eo"
INSTRUMENT_HOST_ID = MEX
INSTRUMENT_HOST_NAME = "MARS EXPRESS"
INSTRUMENT_ID = HRSC
INSTRUMENT_NAME = "HIGH RESOLUTION STEREO CAMERA"
MISSION_NAME = "MARS EXPRESS"
MISSION_PHASE_NAME = ME_Phase_14
PROCESSING_LEVEL_ID = 3
PRODUCT_CREATION_TIME = 2016-05-15T20:04:19.000Z
PRODUCT_ID = "H5794_0000_RE3.JP2"
RELEASE_ID = 0065
REVISION_ID = 0000
/* QUALITY DATA ELEMENTS */
DATA_QUALITY_ID = 2
DATA_QUALITY_DESC = "Data calculated based on photogrammetrically improved orbit and attitude data"
/* TIME DATA ELEMENTS */
SPACECRAFT_CLOCK_START_COUNT = "1/0163460254.09136"
SPACECRAFT_CLOCK_STOP_COUNT = "1/0163460709.33373"
START_TIME = 2008-07-06T21:37:48.097Z
STOP_TIME = 2008-07-06T21:41:26.959Z
/* ORBITAL DATA ELEMENTS */
ASCENDING_NODE_LONGITUDE = 108.01
MAXIMUM_RESOLUTION = 104.5
FOOTPRINT_POINT_LATITUDE = (82.39,82.4926,82.5836,82.662,82.7271, 82.8052,82.4666,81.9072,81.4538,81.1117 ,80.8814,80.6512,80.4179,80.0678, 79.8312,79.4764,79.2366,78.9969,78.7556 ,78.5126,78.146,77.9006,77.653,77.4049, 77.0289,76.7778,76.5232,76.27,76.0139, 75.7568,75.4979,75.2375,74.974,74.5783, 74.313,74.0457,73.6417,73.3707,73.098, 72.6862,72.4102,72.1313,71.8517,71.5701 ,71.2866,71.002,70.7153,70.4264,70.1361 ,69.8079,69.807,69.8017,69.7766,69.7448 ,69.7029,69.6506,69.7697,70.0584, 70.3441,70.6282,70.9107,71.1913,71.4705 ,71.7479,72.0222,72.4316,72.8376, 73.1063,73.3725,73.638,73.9017,74.2942, 74.6834,74.9402,75.1953,75.4508,75.7021 ,75.9539,76.2026,76.4513,76.6959, 76.9414,77.1832,77.426,77.6658,78.0246, 78.3762,78.6102,78.8415,79.1881,79.4163 ,79.7568,79.9809,80.3152,80.535,80.8629 ,81.401,81.8225,82.1338,82.39)
FOOTPRINT_POINT_LONGITUDE = (184.892,187.151,189.491,191.906,194.39 ,198.734,199.924,200.5,200.909,201.188, 201.364,201.531,201.692,201.919,202.063 ,202.266,202.396,202.52,202.636,202.751 ,202.914,203.017,203.115,203.209, 203.346,203.432,203.517,203.595,203.671 ,203.746,203.816,203.887,203.957, 204.054,204.116,204.175,204.262,204.317 ,204.37,204.447,204.496,204.544,204.591 ,204.635,204.679,204.721,204.761, 204.801,204.84,204.303,203.058,202.235, 200.604,199.313,198.035,196.77,196.145, 196.046,195.943,195.837,195.727,195.615 ,195.498,195.378,195.255,195.062,194.86 ,194.72,194.576,194.427,194.273,194.032 ,193.779,193.604,193.423,193.235, 193.042,192.841,192.634,192.418,192.198 ,191.967,191.73,191.481,191.225,190.821 ,190.398,190.1,189.792,189.304,188.963, 188.423,188.045,187.447,187.028,186.361 ,185.146,184.069,183.192,184.892)
ORBIT_NUMBER = 5794
ORBITAL_ECCENTRICITY = 0.569
ORBITAL_INCLINATION = 86.75
ORBITAL_SEMIMAJOR_AXIS = 8662.86
PERIAPSIS_ALTITUDE = 354.02
PERIAPSIS_ARGUMENT_ANGLE = 59.27
PERIAPSIS_TIME = 2008-07-06T21:28:27.000Z
SPACECRAFT_ORIENTATION = (0.0,1.0,0.0)
^MEX_ORIENTATION_DESC = "MEX_ORIENTATION_DESC.TXT"
SPACECRAFT_POINTING_MODE = ACROSSTRACK
^MEX_POINTING_DESC = "MEX_POINTING_DESC.TXT"
RIGHT_ASCENSION = -1e+32
DECLINATION = -1e+32
OFFSET_ANGLE = 1.1
SPACECRAFT_SOLAR_DISTANCE = 2.4701e+08
TARGET_NAME = MARS
/* CAMERA DATA ELEMENTS */
DETECTOR_TEMPERATURE = 18.1666
FOCAL_PLANE_TEMPERATURE = 7.5638
INST_CMPRS_NAME = "DISCRETE COSINE TRANSFORMATION (DCT)"
INST_CMPRS_RATIO = 9.96282
INST_CMPRS_QUALITY = 0
INST_CMPRS_QUANTZ_TBL_ID = 0
INSTRUMENT_TEMPERATURE = 11.0301
LENS_TEMPERATURE = 8.1755
MACROPIXEL_SIZE = 4
MISSING_FRAMES = 0
PIXEL_SUBSAMPLING_FLAG = N
SIGNAL_CHAIN_ID = 2
/* RADIOMETRIC DATA ELEMENTS */
BANDWIDTH = 48.0
CENTER_FILTER_WAVELENGTH = 748.0
RADIANCE_OFFSET = 0.625222
RADIANCE_SCALING_FACTOR = 0.00672602
REFLECTANCE_SCALING_FACTOR = 0.000936506
MEX:REFLECTANCE_OFFSET = 0.0870536
/* IMAGE OBJECT DEFINITIONS */
OBJECT = IMAGE
  INTERCHANGE_FORMAT = BINARY
  LINES = 7786
  LINE_SAMPLES = 2721
  SAMPLE_TYPE = UNSIGNED_INTEGER
  SAMPLE_BITS = 8
  BANDS = 1
  BAND_STORAGE_TYPE = BAND_SEQUENTIAL
  MAXIMUM = 255
  MEAN = 96.8595
  MINIMUM = 1
  STANDARD_DEVIATION = 45.1589
END_OBJECT = IMAGE
/* MAP OBJECT DEFINITIONS */
OBJECT = IMAGE_MAP_PROJECTION
  ^DATA_SET_MAP_PROJECTION_CATALOG= "DSMAP.CAT"
  A_AXIS_RADIUS = 3396.0
  B_AXIS_RADIUS = 3396.0
  C_AXIS_RADIUS = 3396.0
  CENTER_LATITUDE = 0.0
  CENTER_LONGITUDE = 198.0
  COORDINATE_SYSTEM_NAME = PLANETOGRAPHIC
  COORDINATE_SYSTEM_TYPE = "BODY-FIXED ROTATING"
  EASTERNMOST_LONGITUDE = 204.84
  FIRST_STANDARD_PARALLEL = "N/A"
  LINE_FIRST_PIXEL = 1
  LINE_LAST_PIXEL = 7786
  LINE_PROJECTION_OFFSET = 49033.375
  MAP_PROJECTION_ROTATION = 0.0
  MAP_PROJECTION_TYPE = SINUSOIDAL
  MAP_RESOLUTION = 592.713803866667
  MAP_SCALE = 0.1
  MAXIMUM_LATITUDE = 82.8052
  MINIMUM_LATITUDE = 69.6506
  POSITIVE_LONGITUDE_DIRECTION = EAST
  REFERENCE_LATITUDE = "N/A"
  REFERENCE_LONGITUDE = "N/A"
  SAMPLE_FIRST_PIXEL = 1
  SAMPLE_LAST_PIXEL = 2721
  SAMPLE_PROJECTION_OFFSET = 1264.125
  SECOND_STANDARD_PARALLEL = "N/A"
  WESTERNMOST_LONGITUDE = 183.192
END_OBJECT = IMAGE_MAP_PROJECTION
/* The JPEG2000 image data file associated with this label. */
OBJECT = COMPRESSED_FILE
  FILE_NAME = "H5794_0000_RE3.JP2"
  RECORD_TYPE = UNDEFINED
  FILE_RECORDS = UNK
  ENCODING_TYPE = "JP2"
  INTERCHANGE_FORMAT = BINARY
  UNCOMPRESSED_FILE_NAME = "H5794_0000_RE3.IMG"
  REQUIRED_STORAGE_BYTES = "21207474"
  ^DESCRIPTION = "JP2INFO.TXT"
END_OBJECT = COMPRESSED_FILE
END
