PDS_VERSION_ID = PDS3
/* FILE DATA ELEMENTS */
RECORD_TYPE = STREAM
/* POINTERS TO DATA OBJECTS */
^COMPRESSED_FILE = "H5796_0001_P23.JP2"
/* IDENTIFICATION DATA ELEMENTS */
DATA_SET_ID = "MEX-M-HRSC-5-REFDR-MAPPROJECTED-V3.0"
DATA_SET_NAME = "MARS EXPRESS HRSC MAP PROJECTED REFDR V3.0"
DETECTOR_ID = MEX_HRSC_P2
EVENT_TYPE = "MARS-REGIONAL-MAPPING-Im-Pf-La"
INSTRUMENT_HOST_ID = MEX
INSTRUMENT_HOST_NAME = "MARS EXPRESS"
INSTRUMENT_ID = HRSC
INSTRUMENT_NAME = "HIGH RESOLUTION STEREO CAMERA"
MISSION_NAME = "MARS EXPRESS"
MISSION_PHASE_NAME = ME_Phase_14
PROCESSING_LEVEL_ID = 3
PRODUCT_CREATION_TIME = 2016-05-15T20:04:19.000Z
PRODUCT_ID = "H5796_0001_P23.JP2"
RELEASE_ID = 0065
REVISION_ID = 0000
/* QUALITY DATA ELEMENTS */
DATA_QUALITY_ID = 1
DATA_QUALITY_DESC = "Data calculated based on original SPICE kernels"
/* TIME DATA ELEMENTS */
SPACECRAFT_CLOCK_START_COUNT = "1/0163509596.08241"
SPACECRAFT_CLOCK_STOP_COUNT = "1/0163509847.04342"
START_TIME = 2008-07-07T11:20:23.052Z
STOP_TIME = 2008-07-07T11:21:22.946Z
/* ORBITAL DATA ELEMENTS */
ASCENDING_NODE_LONGITUDE = 107.97
MAXIMUM_RESOLUTION = 57.1
FOOTPRINT_POINT_LATITUDE = (78.4825,78.5421,78.581,78.619,78.6564, 78.6931,78.7291,78.7645,78.799,78.8329, 78.8661,78.8986,78.9304,78.9614,78.9916 ,79.0212,79.05,79.078,79.1054,79.132, 79.1578,79.183,79.2074,79.231,79.2539, 79.2815,79.1908,79.0192,78.8134,78.6446 ,78.5428,78.4069,78.2711,78.1351, 77.9994,77.8639,77.7284,77.6268,77.4575 ,77.2883,77.1529,77.0514,76.8824, 76.7811,76.6797,76.5445,76.4433,76.3084 ,76.2072,76.0724,75.9713,75.8365, 75.7816,75.7592,75.7355,75.7106,75.69, 75.652,75.6294,75.6058,75.5816,75.5567, 75.5307,75.5042,75.4558,75.4273,75.398, 75.3603,75.3055,75.2732,75.2485,75.2234 ,75.1894,75.1546,75.1398,75.3025,75.4, 75.5301,75.6603,75.7905,75.9207,76.0835 ,76.2461,76.4085,76.5386,76.6685, 76.7984,76.8958,77.0579,77.1551,77.2847 ,77.4143,77.5112,77.6728,77.8342, 77.9309,78.1243,78.2529,78.3495, 78.4825)
FOOTPRINT_POINT_LONGITUDE = (341.532,342.162,342.585,343.009, 343.436,343.865,344.297,344.731,345.167 ,345.605,346.046,346.49,346.935,347.382 ,347.832,348.283,348.737,349.193,349.65 ,350.11,350.572,351.036,351.502,351.969 ,352.439,353.029,353.333,353.568, 353.838,354.049,354.174,354.337,354.496 ,354.651,354.802,354.949,355.093, 355.198,355.37,355.537,355.667,355.763, 355.919,356.01,356.1,356.218,356.305, 356.418,356.501,356.611,356.691,356.796 ,356.524,356.011,355.5,354.99,354.583, 353.874,353.47,353.068,352.666,352.266, 351.867,351.468,350.774,350.379,349.985 ,349.495,348.811,348.423,348.132, 347.842,347.457,347.072,346.519,346.323 ,346.203,346.04,345.873,345.704,345.53, 345.308,345.081,344.847,344.655,344.459 ,344.259,344.106,343.846,343.686, 343.468,343.246,343.076,342.786,342.488 ,342.304,341.928,341.67,341.472, 341.532)
ORBIT_NUMBER = 5796
ORBITAL_ECCENTRICITY = 0.569
ORBITAL_INCLINATION = 86.75
ORBITAL_SEMIMAJOR_AXIS = 8658.74
PERIAPSIS_ALTITUDE = 354.54
PERIAPSIS_ARGUMENT_ANGLE = 58.88
PERIAPSIS_TIME = 2008-07-07T11:09:49.000Z
SPACECRAFT_ORIENTATION = (0.0,1.0,0.0)
^MEX_ORIENTATION_DESC = "MEX_ORIENTATION_DESC.TXT"
SPACECRAFT_POINTING_MODE = ACROSSTRACK
^MEX_POINTING_DESC = "MEX_POINTING_DESC.TXT"
RIGHT_ASCENSION = -1e+32
DECLINATION = -1e+32
OFFSET_ANGLE = -0.458
SPACECRAFT_SOLAR_DISTANCE = 2.46964e+08
TARGET_NAME = MARS
/* CAMERA DATA ELEMENTS */
DETECTOR_TEMPERATURE = 19.7978
FOCAL_PLANE_TEMPERATURE = 8.1755
INST_CMPRS_NAME = "DISCRETE COSINE TRANSFORMATION (DCT)"
INST_CMPRS_RATIO = 15.7782
INST_CMPRS_QUALITY = 0
INST_CMPRS_QUANTZ_TBL_ID = 0
INSTRUMENT_TEMPERATURE = 12.2535
LENS_TEMPERATURE = 8.5833
MACROPIXEL_SIZE = 2
MISSING_FRAMES = 0
PIXEL_SUBSAMPLING_FLAG = N
SIGNAL_CHAIN_ID = 3
/* RADIOMETRIC DATA ELEMENTS */
BANDWIDTH = 177.0
CENTER_FILTER_WAVELENGTH = 676.5
RADIANCE_OFFSET = 2.27172
RADIANCE_SCALING_FACTOR = 0.0334077
REFLECTANCE_SCALING_FACTOR = 0.00108036
MEX:REFLECTANCE_OFFSET = 0.0734646
/* IMAGE OBJECT DEFINITIONS */
OBJECT = IMAGE
  INTERCHANGE_FORMAT = BINARY
  LINES = 4814
  LINE_SAMPLES = 4135
  SAMPLE_TYPE = UNSIGNED_INTEGER
  SAMPLE_BITS = 8
  BANDS = 1
  BAND_STORAGE_TYPE = BAND_SEQUENTIAL
  MAXIMUM = 254
  MEAN = 49.2638
  MINIMUM = 1
  STANDARD_DEVIATION = 32.0522
END_OBJECT = IMAGE
/* MAP OBJECT DEFINITIONS */
OBJECT = IMAGE_MAP_PROJECTION
  ^DATA_SET_MAP_PROJECTION_CATALOG= "DSMAP.CAT"
  A_AXIS_RADIUS = 3396.0
  B_AXIS_RADIUS = 3396.0
  C_AXIS_RADIUS = 3396.0
  CENTER_LATITUDE = 0.0
  CENTER_LONGITUDE = 350.0
  COORDINATE_SYSTEM_NAME = PLANETOGRAPHIC
  COORDINATE_SYSTEM_TYPE = "BODY-FIXED ROTATING"
  EASTERNMOST_LONGITUDE = 356.796
  FIRST_STANDARD_PARALLEL = "N/A"
  LINE_FIRST_PIXEL = 1
  LINE_LAST_PIXEL = 4814
  LINE_PROJECTION_OFFSET = 93878.25
  MAP_PROJECTION_ROTATION = 0.0
  MAP_PROJECTION_TYPE = SINUSOIDAL
  MAP_RESOLUTION = 1185.42760773333
  MAP_SCALE = 0.05
  MAXIMUM_LATITUDE = 79.28149999999999
  MINIMUM_LATITUDE = 75.13979999999999
  POSITIVE_LONGITUDE_DIRECTION = EAST
  REFERENCE_LATITUDE = "N/A"
  REFERENCE_LONGITUDE = "N/A"
  SAMPLE_FIRST_PIXEL = 1
  SAMPLE_LAST_PIXEL = 4135
  SAMPLE_PROJECTION_OFFSET = 2083.25
  SECOND_STANDARD_PARALLEL = "N/A"
  WESTERNMOST_LONGITUDE = 341.472
END_OBJECT = IMAGE_MAP_PROJECTION
/* The JPEG2000 image data file associated with this label. */
OBJECT = COMPRESSED_FILE
  FILE_NAME = "H5796_0001_P23.JP2"
  RECORD_TYPE = UNDEFINED
  FILE_RECORDS = UNK
  ENCODING_TYPE = "JP2"
  INTERCHANGE_FORMAT = BINARY
  UNCOMPRESSED_FILE_NAME = "H5796_0001_P23.IMG"
  REQUIRED_STORAGE_BYTES = "19930700"
  ^DESCRIPTION = "JP2INFO.TXT"
END_OBJECT = COMPRESSED_FILE
END
