PDS_VERSION_ID = PDS3
/* FILE DATA ELEMENTS */
RECORD_TYPE = STREAM
/* POINTERS TO DATA OBJECTS */
^COMPRESSED_FILE = "H5807_0000_RE3.JP2"
/* IDENTIFICATION DATA ELEMENTS */
DATA_SET_ID = "MEX-M-HRSC-5-REFDR-MAPPROJECTED-V3.0"
DATA_SET_NAME = "MARS EXPRESS HRSC MAP PROJECTED REFDR V3.0"
DETECTOR_ID = MEX_HRSC_RED
EVENT_TYPE = "MARS-LOCAL-MAPPING-Fl-Gl-La"
INSTRUMENT_HOST_ID = MEX
INSTRUMENT_HOST_NAME = "MARS EXPRESS"
INSTRUMENT_ID = HRSC
INSTRUMENT_NAME = "HIGH RESOLUTION STEREO CAMERA"
MISSION_NAME = "MARS EXPRESS"
MISSION_PHASE_NAME = ME_Phase_14
PROCESSING_LEVEL_ID = 3
PRODUCT_CREATION_TIME = 2016-05-16T00:43:14.000Z
PRODUCT_ID = "H5807_0000_RE3.JP2"
RELEASE_ID = 0066
REVISION_ID = 0000
/* QUALITY DATA ELEMENTS */
DATA_QUALITY_ID = 1
DATA_QUALITY_DESC = "Data calculated based on original SPICE kernels"
/* TIME DATA ELEMENTS */
SPACECRAFT_CLOCK_START_COUNT = "1/0163780556.08221"
SPACECRAFT_CLOCK_STOP_COUNT = "1/0163780921.64094"
START_TIME = 2008-07-10T14:36:09.353Z
STOP_TIME = 2008-07-10T14:38:59.992Z
/* ORBITAL DATA ELEMENTS */
ASCENDING_NODE_LONGITUDE = 107.75
MAXIMUM_RESOLUTION = 99.2
FOOTPRINT_POINT_LATITUDE = (85.4195,85.7965,86.0285,86.238,86.4507 ,86.6506,86.8678,86.6517,86.2511, 85.9181,85.4032,85.136,84.9563,84.7761, 84.5915,84.4073,84.2233,84.0363,83.8491 ,83.6625,83.4717,83.1849,82.8946, 82.6995,82.5039,82.3054,82.1062,81.9072 ,81.7052,81.4017,81.1947,80.8863,80.679 ,80.4698,80.1557,79.9455,79.7341, 79.5189,79.1949,78.9783,78.7617,78.5423 ,78.3228,77.9908,77.7686,77.4325, 77.2077,76.9804,76.921,76.8892,76.8623, 76.8205,76.7863,76.749,76.6874,76.6424, 76.5947,76.5442,76.456,76.7558,76.9729, 77.1898,77.4038,77.7241,77.9349,78.1457 ,78.4572,78.6643,78.8686,79.174,79.3741 ,79.5746,79.7728,79.9696,80.1654, 80.3591,80.5526,80.7437,80.9324,81.2132 ,81.3972,81.5804,81.7615,81.9399, 82.1164,82.378,82.5501,82.7217,82.8898, 83.0554,83.2202,83.382,83.5409,83.7771, 84.0043,84.3667,84.7069,84.8994,85.2004 ,85.4195)
FOOTPRINT_POINT_LONGITUDE = (289.422,292.949,295.566,298.322, 301.626,305.358,310.423,314.423,318.297 ,320.861,323.983,325.332,326.154, 326.912,327.639,328.307,328.924,329.508 ,330.053,330.558,331.048,331.729, 332.363,332.759,333.135,333.496,333.841 ,334.167,334.481,334.925,335.215, 335.615,335.867,336.112,336.456,336.671 ,336.881,337.088,337.386,337.57,337.748 ,337.92,338.086,338.324,338.476,338.694 ,338.834,338.969,338.114,336.902, 336.028,334.837,333.977,333.123,331.853 ,331.014,330.184,329.36,328.035,327.21, 326.944,326.668,326.385,325.941,325.635 ,325.316,324.821,324.475,324.12,323.561 ,323.175,322.772,322.356,321.924, 321.476,321.013,320.529,320.028,319.509 ,318.69,318.12,317.524,316.904,316.261, 315.59,314.532,313.786,313.003,312.191, 311.343,310.449,309.519,308.547,306.988 ,305.333,302.304,298.906,296.673, 292.573,289.422)
ORBIT_NUMBER = 5807
ORBITAL_ECCENTRICITY = 0.569
ORBITAL_INCLINATION = 86.76
ORBITAL_SEMIMAJOR_AXIS = 8660.86
PERIAPSIS_ALTITUDE = 353.58
PERIAPSIS_ARGUMENT_ANGLE = 56.97
PERIAPSIS_TIME = 2008-07-10T14:27:25.000Z
SPACECRAFT_ORIENTATION = (0.0,1.0,0.0)
^MEX_ORIENTATION_DESC = "MEX_ORIENTATION_DESC.TXT"
SPACECRAFT_POINTING_MODE = ACROSSTRACK
^MEX_POINTING_DESC = "MEX_POINTING_DESC.TXT"
RIGHT_ASCENSION = -1e+32
DECLINATION = -1e+32
OFFSET_ANGLE = 0.4
SPACECRAFT_SOLAR_DISTANCE = 2.46705e+08
TARGET_NAME = MARS
/* CAMERA DATA ELEMENTS */
DETECTOR_TEMPERATURE = 18.3705
FOCAL_PLANE_TEMPERATURE = 7.9716
INST_CMPRS_NAME = "DISCRETE COSINE TRANSFORMATION (DCT)"
INST_CMPRS_RATIO = 13.6871
INST_CMPRS_QUALITY = 0
INST_CMPRS_QUANTZ_TBL_ID = 0
INSTRUMENT_TEMPERATURE = 11.0301
LENS_TEMPERATURE = 8.3794
MACROPIXEL_SIZE = 4
MISSING_FRAMES = 0
PIXEL_SUBSAMPLING_FLAG = N
SIGNAL_CHAIN_ID = 2
/* RADIOMETRIC DATA ELEMENTS */
BANDWIDTH = 48.0
CENTER_FILTER_WAVELENGTH = 748.0
RADIANCE_OFFSET = 0.590783
RADIANCE_SCALING_FACTOR = 0.00784146
REFLECTANCE_SCALING_FACTOR = 0.00108912
MEX:REFLECTANCE_OFFSET = 0.0820554
/* IMAGE OBJECT DEFINITIONS */
OBJECT = IMAGE
  INTERCHANGE_FORMAT = BINARY
  LINES = 6161
  LINE_SAMPLES = 3621
  SAMPLE_TYPE = UNSIGNED_INTEGER
  SAMPLE_BITS = 8
  BANDS = 1
  BAND_STORAGE_TYPE = BAND_SEQUENTIAL
  MAXIMUM = 255
  MEAN = 112.01
  MINIMUM = 1
  STANDARD_DEVIATION = 60.0135
END_OBJECT = IMAGE
/* MAP OBJECT DEFINITIONS */
OBJECT = IMAGE_MAP_PROJECTION
  ^DATA_SET_MAP_PROJECTION_CATALOG= "DSMAP.CAT"
  A_AXIS_RADIUS = 3396.0
  B_AXIS_RADIUS = 3396.0
  C_AXIS_RADIUS = 3396.0
  CENTER_LATITUDE = 0.0
  CENTER_LONGITUDE = 325.0
  COORDINATE_SYSTEM_NAME = PLANETOGRAPHIC
  COORDINATE_SYSTEM_TYPE = "BODY-FIXED ROTATING"
  EASTERNMOST_LONGITUDE = 338.969
  FIRST_STANDARD_PARALLEL = "N/A"
  LINE_FIRST_PIXEL = 1
  LINE_LAST_PIXEL = 6161
  LINE_PROJECTION_OFFSET = 51455.375
  MAP_PROJECTION_ROTATION = 0.0
  MAP_PROJECTION_TYPE = SINUSOIDAL
  MAP_RESOLUTION = 592.713803866667
  MAP_SCALE = 0.1
  MAXIMUM_LATITUDE = 86.8678
  MINIMUM_LATITUDE = 76.456
  POSITIVE_LONGITUDE_DIRECTION = EAST
  REFERENCE_LATITUDE = "N/A"
  REFERENCE_LONGITUDE = "N/A"
  SAMPLE_FIRST_PIXEL = 1
  SAMPLE_LAST_PIXEL = 3621
  SAMPLE_PROJECTION_OFFSET = 1701.375
  SECOND_STANDARD_PARALLEL = "N/A"
  WESTERNMOST_LONGITUDE = 289.422
END_OBJECT = IMAGE_MAP_PROJECTION
/* The JPEG2000 image data file associated with this label. */
OBJECT = COMPRESSED_FILE
  FILE_NAME = "H5807_0000_RE3.JP2"
  RECORD_TYPE = UNDEFINED
  FILE_RECORDS = UNK
  ENCODING_TYPE = "JP2"
  INTERCHANGE_FORMAT = BINARY
  UNCOMPRESSED_FILE_NAME = "H5807_0000_RE3.IMG"
  REQUIRED_STORAGE_BYTES = "22330707"
  ^DESCRIPTION = "JP2INFO.TXT"
END_OBJECT = COMPRESSED_FILE
END
