PDS_VERSION_ID = PDS3
/* FILE DATA ELEMENTS */
RECORD_TYPE = STREAM
/* POINTERS TO DATA OBJECTS */
^COMPRESSED_FILE = "H5807_0000_S13.JP2"
/* IDENTIFICATION DATA ELEMENTS */
DATA_SET_ID = "MEX-M-HRSC-5-REFDR-MAPPROJECTED-V3.0"
DATA_SET_NAME = "MARS EXPRESS HRSC MAP PROJECTED REFDR V3.0"
DETECTOR_ID = MEX_HRSC_S1
EVENT_TYPE = "MARS-LOCAL-MAPPING-Fl-Gl-La"
INSTRUMENT_HOST_ID = MEX
INSTRUMENT_HOST_NAME = "MARS EXPRESS"
INSTRUMENT_ID = HRSC
INSTRUMENT_NAME = "HIGH RESOLUTION STEREO CAMERA"
MISSION_NAME = "MARS EXPRESS"
MISSION_PHASE_NAME = ME_Phase_14
PROCESSING_LEVEL_ID = 3
PRODUCT_CREATION_TIME = 2016-05-16T00:43:14.000Z
PRODUCT_ID = "H5807_0000_S13.JP2"
RELEASE_ID = 0066
REVISION_ID = 0000
/* QUALITY DATA ELEMENTS */
DATA_QUALITY_ID = 1
DATA_QUALITY_DESC = "Data calculated based on original SPICE kernels"
/* TIME DATA ELEMENTS */
SPACECRAFT_CLOCK_START_COUNT = "1/0163780556.08221"
SPACECRAFT_CLOCK_STOP_COUNT = "1/0163780921.64094"
START_TIME = 2008-07-10T14:38:14.935Z
STOP_TIME = 2008-07-10T14:42:03.639Z
/* ORBITAL DATA ELEMENTS */
ASCENDING_NODE_LONGITUDE = 107.75
MAXIMUM_RESOLUTION = 60.4
FOOTPRINT_POINT_LATITUDE = (85.1069,85.4058,85.6945,86.0211, 86.2785,86.5164,86.73,86.9381,86.6204, 86.1996,85.8577,85.5016,85.1428,84.8748 ,84.5039,84.3157,84.1256,83.9343, 83.7407,83.545,83.3514,83.154,82.8589, 82.5617,82.3624,82.1613,81.8585,81.5537 ,81.3497,81.1441,80.938,80.731,80.4185, 80.2093,80.0023,79.6856,79.4698,79.2574 ,79.0427,78.718,78.5013,78.2851,78.0696 ,77.8547,77.6411,77.4277,77.0327,77.01, 76.9709,76.9366,76.8768,76.8312,76.7878 ,76.7265,76.6677,76.6045,76.537,76.4745 ,76.3868,76.5897,76.7931,76.997,77.2015 ,77.4065,77.6118,77.8176,78.0238, 78.3318,78.5354,78.7378,78.939,79.1386, 79.3372,79.5344,79.7296,80.02,80.2123, 80.4028,80.5917,80.7785,80.964,81.1486, 81.3312,81.5116,81.6916,81.8695,82.1322 ,82.3054,82.4756,82.6444,82.8103, 83.1341,83.4475,83.6765,83.9726,84.1873 ,84.4606,84.7186,84.9588,85.1069)
FOOTPRINT_POINT_LONGITUDE = (290.759,293.437,296.478,300.647, 304.705,309.349,314.65,315.859,319.215, 322.632,324.879,326.787,328.43,329.524, 330.812,331.396,331.94,332.456,332.937, 333.394,333.827,334.235,334.809,335.342 ,335.675,335.993,336.443,336.863, 337.128,337.383,337.627,337.861,338.195 ,338.408,338.617,338.91,339.09,339.272, 339.445,339.692,339.85,340.001,340.146, 340.285,340.419,340.548,340.775,339.59, 337.964,336.791,335.049,333.899,332.9, 331.625,330.503,329.392,328.291,327.337 ,326.074,325.833,325.583,325.324, 325.054,324.773,324.482,324.178,323.862 ,323.366,323.022,322.665,322.296, 321.914,321.518,321.108,320.684,320.019 ,319.554,319.071,318.57,318.055,317.516 ,316.953,316.369,315.764,315.127, 314.464,313.422,312.688,311.928,311.132 ,310.304,308.55,306.642,305.088,302.834 ,300.996,298.351,295.461,292.323, 290.759)
ORBIT_NUMBER = 5807
ORBITAL_ECCENTRICITY = 0.569
ORBITAL_INCLINATION = 86.76
ORBITAL_SEMIMAJOR_AXIS = 8660.86
PERIAPSIS_ALTITUDE = 353.58
PERIAPSIS_ARGUMENT_ANGLE = 56.97
PERIAPSIS_TIME = 2008-07-10T14:27:25.000Z
SPACECRAFT_ORIENTATION = (0.0,1.0,0.0)
^MEX_ORIENTATION_DESC = "MEX_ORIENTATION_DESC.TXT"
SPACECRAFT_POINTING_MODE = ACROSSTRACK
^MEX_POINTING_DESC = "MEX_POINTING_DESC.TXT"
RIGHT_ASCENSION = -1e+32
DECLINATION = -1e+32
OFFSET_ANGLE = 0.4
SPACECRAFT_SOLAR_DISTANCE = 2.46705e+08
TARGET_NAME = MARS
/* CAMERA DATA ELEMENTS */
DETECTOR_TEMPERATURE = 17.1471
FOCAL_PLANE_TEMPERATURE = 7.9716
INST_CMPRS_NAME = "DISCRETE COSINE TRANSFORMATION (DCT)"
INST_CMPRS_RATIO = 10.3183
INST_CMPRS_QUALITY = 0
INST_CMPRS_QUANTZ_TBL_ID = 0
INSTRUMENT_TEMPERATURE = 11.0301
LENS_TEMPERATURE = 8.3794
MACROPIXEL_SIZE = 2
MISSING_FRAMES = 0
PIXEL_SUBSAMPLING_FLAG = N
SIGNAL_CHAIN_ID = 1
/* RADIOMETRIC DATA ELEMENTS */
BANDWIDTH = 180.0
CENTER_FILTER_WAVELENGTH = 677.0
RADIANCE_OFFSET = 2.49784
RADIANCE_SCALING_FACTOR = 0.0314854
REFLECTANCE_SCALING_FACTOR = 0.000999776
MEX:REFLECTANCE_OFFSET = 0.0793156
/* IMAGE OBJECT DEFINITIONS */
OBJECT = IMAGE
  INTERCHANGE_FORMAT = BINARY
  LINES = 12321
  LINE_SAMPLES = 7241
  SAMPLE_TYPE = UNSIGNED_INTEGER
  SAMPLE_BITS = 8
  BANDS = 1
  BAND_STORAGE_TYPE = BAND_SEQUENTIAL
  MAXIMUM = 255
  MEAN = 105.377
  MINIMUM = 1
  STANDARD_DEVIATION = 59.1521
END_OBJECT = IMAGE
/* MAP OBJECT DEFINITIONS */
OBJECT = IMAGE_MAP_PROJECTION
  ^DATA_SET_MAP_PROJECTION_CATALOG= "DSMAP.CAT"
  A_AXIS_RADIUS = 3396.0
  B_AXIS_RADIUS = 3396.0
  C_AXIS_RADIUS = 3396.0
  CENTER_LATITUDE = 0.0
  CENTER_LONGITUDE = 325.0
  COORDINATE_SYSTEM_NAME = PLANETOGRAPHIC
  COORDINATE_SYSTEM_TYPE = "BODY-FIXED ROTATING"
  EASTERNMOST_LONGITUDE = 340.775
  FIRST_STANDARD_PARALLEL = "N/A"
  LINE_FIRST_PIXEL = 1
  LINE_LAST_PIXEL = 12321
  LINE_PROJECTION_OFFSET = 102911.25
  MAP_PROJECTION_ROTATION = 0.0
  MAP_PROJECTION_TYPE = SINUSOIDAL
  MAP_RESOLUTION = 1185.42760773333
  MAP_SCALE = 0.05
  MAXIMUM_LATITUDE = 86.93810000000001
  MINIMUM_LATITUDE = 76.38679999999999
  POSITIVE_LONGITUDE_DIRECTION = EAST
  REFERENCE_LATITUDE = "N/A"
  REFERENCE_LONGITUDE = "N/A"
  SAMPLE_FIRST_PIXEL = 1
  SAMPLE_LAST_PIXEL = 7241
  SAMPLE_PROJECTION_OFFSET = 3403.25
  SECOND_STANDARD_PARALLEL = "N/A"
  WESTERNMOST_LONGITUDE = 290.759
END_OBJECT = IMAGE_MAP_PROJECTION
/* The JPEG2000 image data file associated with this label. */
OBJECT = COMPRESSED_FILE
  FILE_NAME = "H5807_0000_S13.JP2"
  RECORD_TYPE = UNDEFINED
  FILE_RECORDS = UNK
  ENCODING_TYPE = "JP2"
  INTERCHANGE_FORMAT = BINARY
  UNCOMPRESSED_FILE_NAME = "H5807_0000_S13.IMG"
  REQUIRED_STORAGE_BYTES = "89245325"
  ^DESCRIPTION = "JP2INFO.TXT"
END_OBJECT = COMPRESSED_FILE
END
