PDS_VERSION_ID = PDS3
/* FILE DATA ELEMENTS */
RECORD_TYPE = STREAM
/* POINTERS TO DATA OBJECTS */
^COMPRESSED_FILE = "H5824_0000_P13.JP2"
/* IDENTIFICATION DATA ELEMENTS */
DATA_SET_ID = "MEX-M-HRSC-5-REFDR-MAPPROJECTED-V3.0"
DATA_SET_NAME = "MARS EXPRESS HRSC MAP PROJECTED REFDR V3.0"
DETECTOR_ID = MEX_HRSC_P1
EVENT_TYPE = "MARS-REGIONAL-MAPPING-Im-Pf"
INSTRUMENT_HOST_ID = MEX
INSTRUMENT_HOST_NAME = "MARS EXPRESS"
INSTRUMENT_ID = HRSC
INSTRUMENT_NAME = "HIGH RESOLUTION STEREO CAMERA"
MISSION_NAME = "MARS EXPRESS"
MISSION_PHASE_NAME = ME_Phase_14
PROCESSING_LEVEL_ID = 3
PRODUCT_CREATION_TIME = 2016-05-16T00:43:14.000Z
PRODUCT_ID = "H5824_0000_P13.JP2"
RELEASE_ID = 0066
REVISION_ID = 0000
/* QUALITY DATA ELEMENTS */
DATA_QUALITY_ID = 1
DATA_QUALITY_DESC = "Data calculated based on original SPICE kernels"
/* TIME DATA ELEMENTS */
SPACECRAFT_CLOCK_START_COUNT = "1/0164199625.07290"
SPACECRAFT_CLOCK_STOP_COUNT = "1/0164200155.61366"
START_TIME = 2008-07-15T11:03:03.800Z
STOP_TIME = 2008-07-15T11:07:54.085Z
/* ORBITAL DATA ELEMENTS */
ASCENDING_NODE_LONGITUDE = 107.41
MAXIMUM_RESOLUTION = 75.1
FOOTPRINT_POINT_LATITUDE = (78.1853,78.2995,78.4091,78.514,78.6144 ,78.7098,78.8006,78.8867,78.9679, 79.0444,79.1162,79.3147,79.071,78.8274, 78.5842,78.3412,78.0987,77.8566,77.6151 ,77.374,77.1334,76.8932,76.6536,76.4148 ,76.1764,75.9387,75.7015,75.4651, 75.2294,74.9942,74.7593,74.5257,74.2932 ,74.061,73.8295,73.5988,73.369,73.1397, 72.9111,72.6835,72.2307,71.7811,71.3346 ,70.891,70.4509,70.0139,69.5801,69.1497 ,68.7224,68.2983,67.8774,67.8162, 67.7903,67.7595,67.7241,67.6842,67.6154 ,67.5635,67.5069,67.4213,67.3527, 67.2794,67.1878,67.593,68.0011,68.4119, 68.8257,69.2423,69.662,70.0842,70.509, 70.9363,71.3668,71.7994,72.2341,72.6712 ,73.1106,73.3308,73.5517,73.7729, 73.9947,74.2167,74.4392,74.6619,74.885, 75.1085,75.332,75.5557,75.7795,76.0035, 76.2276,76.4516,76.6755,76.8993,77.1231 ,77.3464,77.5694,77.792,78.0142, 78.1853)
FOOTPRINT_POINT_LONGITUDE = (52.4667,53.5681,54.6831,55.8123, 56.9557,58.1104,59.278,60.4573,61.6474, 62.8501,64.0644,65.7884,66.253,66.6959, 67.1178,67.5205,67.905,68.2724,68.624, 68.9607,69.2833,69.5928,69.8899,70.1751 ,70.4493,70.7131,70.967,71.2115,71.4471 ,71.6744,71.8938,72.1054,72.3096, 72.5072,72.6981,72.8829,73.0617,73.2349 ,73.4027,73.5653,73.8759,74.1685, 74.4445,74.7052,74.9519,75.1857,75.4074 ,75.618,75.8184,76.0091,76.1909,75.4084 ,74.4876,73.5662,72.6456,71.7253, 70.3432,69.4222,68.4995,67.2314,66.3107 ,65.3893,64.3105,64.075,63.8263,63.5639 ,63.2861,62.9918,62.6792,62.3484, 61.9974,61.6257,61.2268,60.8044,60.3552 ,59.8755,59.3617,59.0929,58.8141, 58.5252,58.2263,57.9174,57.5962,57.2644 ,56.9197,56.5618,56.1915,55.8072, 55.4084,54.9934,54.5625,54.1145,53.6484 ,53.1639,52.6574,52.1326,51.5851, 51.0133,50.4158,52.4667)
ORBIT_NUMBER = 5824
ORBITAL_ECCENTRICITY = 0.569
ORBITAL_INCLINATION = 86.76
ORBITAL_SEMIMAJOR_AXIS = 8670.41
PERIAPSIS_ALTITUDE = 351.44
PERIAPSIS_ARGUMENT_ANGLE = 54.01
PERIAPSIS_TIME = 2008-07-15T10:49:06.000Z
SPACECRAFT_ORIENTATION = (0.0,1.0,0.0)
^MEX_ORIENTATION_DESC = "MEX_ORIENTATION_DESC.TXT"
SPACECRAFT_POINTING_MODE = ACROSSTRACK
^MEX_POINTING_DESC = "MEX_POINTING_DESC.TXT"
RIGHT_ASCENSION = -1e+32
DECLINATION = -1e+32
OFFSET_ANGLE = -1.603
SPACECRAFT_SOLAR_DISTANCE = 2.46277e+08
TARGET_NAME = MARS
/* CAMERA DATA ELEMENTS */
DETECTOR_TEMPERATURE = 16.9432
FOCAL_PLANE_TEMPERATURE = 7.156
INST_CMPRS_NAME = "DISCRETE COSINE TRANSFORMATION (DCT)"
INST_CMPRS_RATIO = 15.22
INST_CMPRS_QUALITY = 0
INST_CMPRS_QUANTZ_TBL_ID = 0
INSTRUMENT_TEMPERATURE = 9.8067
LENS_TEMPERATURE = 7.7677
MACROPIXEL_SIZE = 2
MISSING_FRAMES = 0
PIXEL_SUBSAMPLING_FLAG = N
SIGNAL_CHAIN_ID = 3
/* RADIOMETRIC DATA ELEMENTS */
BANDWIDTH = 174.0
CENTER_FILTER_WAVELENGTH = 675.0
RADIANCE_OFFSET = 2.42586
RADIANCE_SCALING_FACTOR = 0.0283783
REFLECTANCE_SCALING_FACTOR = 0.000925801
MEX:REFLECTANCE_OFFSET = 0.0791402
/* IMAGE OBJECT DEFINITIONS */
OBJECT = IMAGE
  INTERCHANGE_FORMAT = BINARY
  LINES = 14407
  LINE_SAMPLES = 7786
  SAMPLE_TYPE = UNSIGNED_INTEGER
  SAMPLE_BITS = 8
  BANDS = 1
  BAND_STORAGE_TYPE = BAND_SEQUENTIAL
  MAXIMUM = 255
  MEAN = 103.383
  MINIMUM = 1
  STANDARD_DEVIATION = 38.7068
END_OBJECT = IMAGE
/* MAP OBJECT DEFINITIONS */
OBJECT = IMAGE_MAP_PROJECTION
  ^DATA_SET_MAP_PROJECTION_CATALOG= "DSMAP.CAT"
  A_AXIS_RADIUS = 3396.0
  B_AXIS_RADIUS = 3396.0
  C_AXIS_RADIUS = 3396.0
  CENTER_LATITUDE = 0.0
  CENTER_LONGITUDE = 66.0
  COORDINATE_SYSTEM_NAME = PLANETOGRAPHIC
  COORDINATE_SYSTEM_TYPE = "BODY-FIXED ROTATING"
  EASTERNMOST_LONGITUDE = 76.1909
  FIRST_STANDARD_PARALLEL = "N/A"
  LINE_FIRST_PIXEL = 1
  LINE_LAST_PIXEL = 14407
  LINE_PROJECTION_OFFSET = 94021.75
  MAP_PROJECTION_ROTATION = 0.0
  MAP_PROJECTION_TYPE = SINUSOIDAL
  MAP_RESOLUTION = 1185.42760773333
  MAP_SCALE = 0.05
  MAXIMUM_LATITUDE = 79.3147
  MINIMUM_LATITUDE = 67.1878
  POSITIVE_LONGITUDE_DIRECTION = EAST
  REFERENCE_LATITUDE = "N/A"
  REFERENCE_LONGITUDE = "N/A"
  SAMPLE_FIRST_PIXEL = 1
  SAMPLE_LAST_PIXEL = 7786
  SAMPLE_PROJECTION_OFFSET = 3617.75
  SECOND_STANDARD_PARALLEL = "N/A"
  WESTERNMOST_LONGITUDE = 50.4158
END_OBJECT = IMAGE_MAP_PROJECTION
/* The JPEG2000 image data file associated with this label. */
OBJECT = COMPRESSED_FILE
  FILE_NAME = "H5824_0000_P13.JP2"
  RECORD_TYPE = UNDEFINED
  FILE_RECORDS = UNK
  ENCODING_TYPE = "JP2"
  INTERCHANGE_FORMAT = BINARY
  UNCOMPRESSED_FILE_NAME = "H5824_0000_P13.IMG"
  REQUIRED_STORAGE_BYTES = "112204046"
  ^DESCRIPTION = "JP2INFO.TXT"
END_OBJECT = COMPRESSED_FILE
END
