PDS_VERSION_ID = PDS3
/* FILE DATA ELEMENTS */
RECORD_TYPE = STREAM
/* POINTERS TO DATA OBJECTS */
^COMPRESSED_FILE = "H5827_0000_RE3.JP2"
/* IDENTIFICATION DATA ELEMENTS */
DATA_SET_ID = "MEX-M-HRSC-5-REFDR-MAPPROJECTED-V3.0"
DATA_SET_NAME = "MARS EXPRESS HRSC MAP PROJECTED REFDR V3.0"
DETECTOR_ID = MEX_HRSC_RED
EVENT_TYPE = "MARS-REGIONAL-MAPPING-Im-Pf-Eo"
INSTRUMENT_HOST_ID = MEX
INSTRUMENT_HOST_NAME = "MARS EXPRESS"
INSTRUMENT_ID = HRSC
INSTRUMENT_NAME = "HIGH RESOLUTION STEREO CAMERA"
MISSION_NAME = "MARS EXPRESS"
MISSION_PHASE_NAME = ME_Phase_14
PROCESSING_LEVEL_ID = 3
PRODUCT_CREATION_TIME = 2016-05-16T00:43:14.000Z
PRODUCT_ID = "H5827_0000_RE3.JP2"
RELEASE_ID = 0066
REVISION_ID = 0000
/* QUALITY DATA ELEMENTS */
DATA_QUALITY_ID = 2
DATA_QUALITY_DESC = "Data calculated based on photogrammetrically improved orbit and attitude data"
/* TIME DATA ELEMENTS */
SPACECRAFT_CLOCK_START_COUNT = "1/0164273460.08245"
SPACECRAFT_CLOCK_STOP_COUNT = "1/0164273807.23076"
START_TIME = 2008-07-16T07:31:15.078Z
STOP_TIME = 2008-07-16T07:33:23.961Z
/* ORBITAL DATA ELEMENTS */
ASCENDING_NODE_LONGITUDE = 107.35
MAXIMUM_RESOLUTION = 112.3
FOOTPRINT_POINT_LATITUDE = (84.7638,84.8532,84.9389,85.0204, 85.0977,85.1705,85.2384,85.301,85.3582, 85.4095,85.4548,85.4938,85.5261,85.5593 ,85.4455,85.2343,84.8824,84.5977, 84.3825,84.1667,83.8771,83.6595,83.367, 83.1474,82.8514,82.6289,82.4042,82.2542 ,82.1042,81.8768,81.7249,81.5732, 81.3434,81.1899,81.0364,80.8812,80.6484 ,80.4137,80.2568,80.1,79.8628,79.7045, 79.4657,79.3054,79.1455,78.9857,78.7463 ,78.5868,78.3479,78.1887,78.0297, 77.8746,77.8774,77.8753,77.8691,77.8587 ,77.8358,77.8153,77.7941,77.755,77.7002 ,77.6619,77.6199,77.5803,77.7346,77.889 ,78.0436,78.2753,78.4297,78.5841, 78.7385,78.893,79.0474,79.2788,79.4313, 79.5837,79.7355,79.8858,80.0362,80.261, 80.4832,80.6311,80.7772,80.9231,81.141, 81.2847,81.428,81.6425,81.9243,82.1346, 82.4106,82.6164,82.9535,83.2863,83.5492 ,83.8075,84.0605,84.3692,84.6104, 84.7638)
FOOTPRINT_POINT_LONGITUDE = (108.726,110.3,111.936,113.634,115.396, 117.223,119.115,121.07,123.084,125.158, 127.287,129.472,131.706,134.851,136.439 ,136.851,137.415,137.828,138.112,138.38 ,138.694,138.914,139.177,139.361, 139.591,139.752,139.905,140.001,140.094 ,140.228,140.313,140.395,140.513, 140.588,140.661,140.732,140.834,140.931 ,140.993,141.052,141.139,141.193, 141.273,141.324,141.374,141.422,141.491 ,141.535,141.599,141.64,141.68,141.718, 140.539,139.49,138.448,137.414,135.876, 134.862,133.98,132.608,131.01,130.04, 129.079,128.205,128.047,127.884,127.716 ,127.455,127.275,127.089,126.898,126.7, 126.497,126.18,125.963,125.739,125.508, 125.272,125.028,124.649,124.254,123.98, 123.699,123.409,122.956,122.644,122.321 ,121.815,121.105,120.539,119.742, 119.104,117.97,116.723,115.633,114.457, 113.193,111.468,109.954,108.726)
ORBIT_NUMBER = 5827
ORBITAL_ECCENTRICITY = 0.569
ORBITAL_INCLINATION = 86.75
ORBITAL_SEMIMAJOR_AXIS = 8667.12
PERIAPSIS_ALTITUDE = 352.4
PERIAPSIS_ARGUMENT_ANGLE = 53.45
PERIAPSIS_TIME = 2008-07-16T07:21:03.000Z
SPACECRAFT_ORIENTATION = (0.0,1.0,0.0)
^MEX_ORIENTATION_DESC = "MEX_ORIENTATION_DESC.TXT"
SPACECRAFT_POINTING_MODE = ACROSSTRACK
^MEX_POINTING_DESC = "MEX_POINTING_DESC.TXT"
RIGHT_ASCENSION = -1e+32
DECLINATION = -1e+32
OFFSET_ANGLE = 1.374
SPACECRAFT_SOLAR_DISTANCE = 2.46198e+08
TARGET_NAME = MARS
/* CAMERA DATA ELEMENTS */
DETECTOR_TEMPERATURE = 18.5744
FOCAL_PLANE_TEMPERATURE = 7.7677
INST_CMPRS_NAME = "DISCRETE COSINE TRANSFORMATION (DCT)"
INST_CMPRS_RATIO = 10.4724
INST_CMPRS_QUALITY = 0
INST_CMPRS_QUANTZ_TBL_ID = 0
INSTRUMENT_TEMPERATURE = 11.0301
LENS_TEMPERATURE = 8.5833
MACROPIXEL_SIZE = 4
MISSING_FRAMES = 0
PIXEL_SUBSAMPLING_FLAG = N
SIGNAL_CHAIN_ID = 2
/* RADIOMETRIC DATA ELEMENTS */
BANDWIDTH = 48.0
CENTER_FILTER_WAVELENGTH = 748.0
RADIANCE_OFFSET = 0.664674
RADIANCE_SCALING_FACTOR = 0.00616887
REFLECTANCE_SCALING_FACTOR = 0.000853297
MEX:REFLECTANCE_OFFSET = 0.0919398
/* IMAGE OBJECT DEFINITIONS */
OBJECT = IMAGE
  INTERCHANGE_FORMAT = BINARY
  LINES = 4750
  LINE_SAMPLES = 2630
  SAMPLE_TYPE = UNSIGNED_INTEGER
  SAMPLE_BITS = 8
  BANDS = 1
  BAND_STORAGE_TYPE = BAND_SEQUENTIAL
  MAXIMUM = 255
  MEAN = 112.352
  MINIMUM = 1
  STANDARD_DEVIATION = 68.6679
END_OBJECT = IMAGE
/* MAP OBJECT DEFINITIONS */
OBJECT = IMAGE_MAP_PROJECTION
  ^DATA_SET_MAP_PROJECTION_CATALOG= "DSMAP.CAT"
  A_AXIS_RADIUS = 3396.0
  B_AXIS_RADIUS = 3396.0
  C_AXIS_RADIUS = 3396.0
  CENTER_LATITUDE = 0.0
  CENTER_LONGITUDE = 131.0
  COORDINATE_SYSTEM_NAME = PLANETOGRAPHIC
  COORDINATE_SYSTEM_TYPE = "BODY-FIXED ROTATING"
  EASTERNMOST_LONGITUDE = 141.718
  FIRST_STANDARD_PARALLEL = "N/A"
  LINE_FIRST_PIXEL = 1
  LINE_LAST_PIXEL = 4750
  LINE_PROJECTION_OFFSET = 50675.625
  MAP_PROJECTION_ROTATION = 0.0
  MAP_PROJECTION_TYPE = SINUSOIDAL
  MAP_RESOLUTION = 592.713803866667
  MAP_SCALE = 0.1
  MAXIMUM_LATITUDE = 85.55929999999999
  MINIMUM_LATITUDE = 77.58029999999999
  POSITIVE_LONGITUDE_DIRECTION = EAST
  REFERENCE_LATITUDE = "N/A"
  REFERENCE_LONGITUDE = "N/A"
  SAMPLE_FIRST_PIXEL = 1
  SAMPLE_LAST_PIXEL = 2630
  SAMPLE_PROJECTION_OFFSET = 1246.125
  SECOND_STANDARD_PARALLEL = "N/A"
  WESTERNMOST_LONGITUDE = 108.726
END_OBJECT = IMAGE_MAP_PROJECTION
/* The JPEG2000 image data file associated with this label. */
OBJECT = COMPRESSED_FILE
  FILE_NAME = "H5827_0000_RE3.JP2"
  RECORD_TYPE = UNDEFINED
  FILE_RECORDS = UNK
  ENCODING_TYPE = "JP2"
  INTERCHANGE_FORMAT = BINARY
  UNCOMPRESSED_FILE_NAME = "H5827_0000_RE3.IMG"
  REQUIRED_STORAGE_BYTES = "12513540"
  ^DESCRIPTION = "JP2INFO.TXT"
END_OBJECT = COMPRESSED_FILE
END
