PDS_VERSION_ID = PDS3
/* FILE DATA ELEMENTS */
RECORD_TYPE = STREAM
/* POINTERS TO DATA OBJECTS */
^COMPRESSED_FILE = "H5829_0000_RE3.JP2"
/* IDENTIFICATION DATA ELEMENTS */
DATA_SET_ID = "MEX-M-HRSC-5-REFDR-MAPPROJECTED-V3.0"
DATA_SET_NAME = "MARS EXPRESS HRSC MAP PROJECTED REFDR V3.0"
DETECTOR_ID = MEX_HRSC_RED
EVENT_TYPE = "MARS-LOCAL-STEREO-Vo-Fl-La"
INSTRUMENT_HOST_ID = MEX
INSTRUMENT_HOST_NAME = "MARS EXPRESS"
INSTRUMENT_ID = HRSC
INSTRUMENT_NAME = "HIGH RESOLUTION STEREO CAMERA"
MISSION_NAME = "MARS EXPRESS"
MISSION_PHASE_NAME = ME_Phase_14
PROCESSING_LEVEL_ID = 3
PRODUCT_CREATION_TIME = 2016-05-16T00:43:14.000Z
PRODUCT_ID = "H5829_0000_RE3.JP2"
RELEASE_ID = 0066
REVISION_ID = 0000
/* QUALITY DATA ELEMENTS */
DATA_QUALITY_ID = 1
DATA_QUALITY_DESC = "Data calculated based on original SPICE kernels"
/* TIME DATA ELEMENTS */
SPACECRAFT_CLOCK_START_COUNT = "1/0164322762.09068"
SPACECRAFT_CLOCK_STOP_COUNT = "1/0164323192.45561"
START_TIME = 2008-07-16T21:12:57.477Z
STOP_TIME = 2008-07-16T21:15:54.185Z
/* ORBITAL DATA ELEMENTS */
ASCENDING_NODE_LONGITUDE = 107.31
MAXIMUM_RESOLUTION = 115.1
FOOTPRINT_POINT_LATITUDE = (82.2143,82.5498,82.82,83.0788,83.3251, 83.5585,83.7788,83.6248,83.388,83.0654, 82.7356,82.3109,81.9619,81.6943,81.3366 ,81.156,80.9726,80.7879,80.6008,80.3189 ,80.0325,79.841,79.6467,79.4521,79.2558 ,79.0592,78.7598,78.5598,78.3573, 78.1544,77.9514,77.7483,77.5452,77.342, 77.1391,76.936,76.7328,76.5297,76.3268, 76.1238,75.9211,75.7183,75.5157,75.3132 ,75.1113,74.8087,74.6056,74.2662, 74.2137,74.1571,74.0973,74.0339,73.967, 73.8964,73.8221,73.7442,73.6522,73.5669 ,73.4776,73.3846,73.395,73.5891,73.7834 ,74.0748,74.2686,74.4628,74.7534, 74.9473,75.141,75.3343,75.5276,75.7206, 75.9134,76.1057,76.298,76.4899,76.6814, 76.8725,77.1584,77.3482,77.5357,77.8147 ,77.9983,78.1807,78.3602,78.6279, 78.8039,78.9787,79.236,79.4061,79.5731, 79.7394,80.0649,80.3041,80.6926,81.0683 ,81.3592,81.7063,81.9716,82.2143)
FOOTPRINT_POINT_LONGITUDE = (254.753,256.84,258.725,260.737,262.881 ,265.166,267.602,270.485,271.873, 273.581,275.143,276.924,278.225,279.137 ,280.261,280.791,281.303,281.797, 282.275,282.956,283.606,284.018,284.419 ,284.804,285.177,285.537,286.058,286.39 ,286.713,287.026,287.326,287.617, 287.897,288.167,288.428,288.681,288.925 ,289.161,289.389,289.611,289.825, 290.033,290.234,290.429,290.618,290.891 ,291.068,291.037,290.215,289.399, 288.585,287.777,286.971,286.169,285.371 ,284.576,283.688,282.903,282.123, 281.347,280.524,280.29,280.049,279.676, 279.418,279.154,278.741,278.457,278.164 ,277.862,277.551,277.23,276.9,276.559, 276.208,275.846,275.472,275.085,274.482 ,274.064,273.637,272.972,272.514, 272.042,271.559,270.806,270.288,269.752 ,268.925,268.349,267.761,267.153, 265.886,264.885,263.115,261.209,259.581 ,257.406,255.548,254.753)
ORBIT_NUMBER = 5829
ORBITAL_ECCENTRICITY = 0.569
ORBITAL_INCLINATION = 86.75
ORBITAL_SEMIMAJOR_AXIS = 8672.77
PERIAPSIS_ALTITUDE = 351.91
PERIAPSIS_ARGUMENT_ANGLE = 53.13
PERIAPSIS_TIME = 2008-07-16T21:02:28.000Z
SPACECRAFT_ORIENTATION = (0.0,1.0,0.0)
^MEX_ORIENTATION_DESC = "MEX_ORIENTATION_DESC.TXT"
SPACECRAFT_POINTING_MODE = ACROSSTRACK
^MEX_POINTING_DESC = "MEX_POINTING_DESC.TXT"
RIGHT_ASCENSION = -1e+32
DECLINATION = -1e+32
OFFSET_ANGLE = -1.374
SPACECRAFT_SOLAR_DISTANCE = 2.46145e+08
TARGET_NAME = MARS
/* CAMERA DATA ELEMENTS */
DETECTOR_TEMPERATURE = 18.1666
FOCAL_PLANE_TEMPERATURE = 7.7677
INST_CMPRS_NAME = "DISCRETE COSINE TRANSFORMATION (DCT)"
INST_CMPRS_RATIO = 21.4658
INST_CMPRS_QUALITY = 0
INST_CMPRS_QUANTZ_TBL_ID = 0
INSTRUMENT_TEMPERATURE = 10.8262
LENS_TEMPERATURE = 8.1755
MACROPIXEL_SIZE = 4
MISSING_FRAMES = 0
PIXEL_SUBSAMPLING_FLAG = N
SIGNAL_CHAIN_ID = 2
/* RADIOMETRIC DATA ELEMENTS */
BANDWIDTH = 48.0
CENTER_FILTER_WAVELENGTH = 748.0
RADIANCE_OFFSET = 0.518741
RADIANCE_SCALING_FACTOR = 0.00502587
REFLECTANCE_SCALING_FACTOR = 0.000694897
MEX:REFLECTANCE_OFFSET = 0.0717233
/* IMAGE OBJECT DEFINITIONS */
OBJECT = IMAGE
  INTERCHANGE_FORMAT = BINARY
  LINES = 6181
  LINE_SAMPLES = 4101
  SAMPLE_TYPE = UNSIGNED_INTEGER
  SAMPLE_BITS = 8
  BANDS = 1
  BAND_STORAGE_TYPE = BAND_SEQUENTIAL
  MAXIMUM = 255
  MEAN = 76.6734
  MINIMUM = 1
  STANDARD_DEVIATION = 65.1469
END_OBJECT = IMAGE
/* MAP OBJECT DEFINITIONS */
OBJECT = IMAGE_MAP_PROJECTION
  ^DATA_SET_MAP_PROJECTION_CATALOG= "DSMAP.CAT"
  A_AXIS_RADIUS = 3396.0
  B_AXIS_RADIUS = 3396.0
  C_AXIS_RADIUS = 3396.0
  CENTER_LATITUDE = 0.0
  CENTER_LONGITUDE = 279.0
  COORDINATE_SYSTEM_NAME = PLANETOGRAPHIC
  COORDINATE_SYSTEM_TYPE = "BODY-FIXED ROTATING"
  EASTERNMOST_LONGITUDE = 291.068
  FIRST_STANDARD_PARALLEL = "N/A"
  LINE_FIRST_PIXEL = 1
  LINE_LAST_PIXEL = 6181
  LINE_PROJECTION_OFFSET = 49672.125
  MAP_PROJECTION_ROTATION = 0.0
  MAP_PROJECTION_TYPE = SINUSOIDAL
  MAP_RESOLUTION = 592.713803866667
  MAP_SCALE = 0.1
  MAXIMUM_LATITUDE = 83.7788
  MINIMUM_LATITUDE = 73.38460000000001
  POSITIVE_LONGITUDE_DIRECTION = EAST
  REFERENCE_LATITUDE = "N/A"
  REFERENCE_LONGITUDE = "N/A"
  SAMPLE_FIRST_PIXEL = 1
  SAMPLE_LAST_PIXEL = 4101
  SAMPLE_PROJECTION_OFFSET = 2022.375
  SECOND_STANDARD_PARALLEL = "N/A"
  WESTERNMOST_LONGITUDE = 254.753
END_OBJECT = IMAGE_MAP_PROJECTION
/* The JPEG2000 image data file associated with this label. */
OBJECT = COMPRESSED_FILE
  FILE_NAME = "H5829_0000_RE3.JP2"
  RECORD_TYPE = UNDEFINED
  FILE_RECORDS = UNK
  ENCODING_TYPE = "JP2"
  INTERCHANGE_FORMAT = BINARY
  UNCOMPRESSED_FILE_NAME = "H5829_0000_RE3.IMG"
  REQUIRED_STORAGE_BYTES = "25372887"
  ^DESCRIPTION = "JP2INFO.TXT"
END_OBJECT = COMPRESSED_FILE
END
