PDS_VERSION_ID = PDS3
/* FILE DATA ELEMENTS */
RECORD_TYPE = STREAM
/* POINTERS TO DATA OBJECTS */
^COMPRESSED_FILE = "H5831_0000_P23.JP2"
/* IDENTIFICATION DATA ELEMENTS */
DATA_SET_ID = "MEX-M-HRSC-5-REFDR-MAPPROJECTED-V3.0"
DATA_SET_NAME = "MARS EXPRESS HRSC MAP PROJECTED REFDR V3.0"
DETECTOR_ID = MEX_HRSC_P2
EVENT_TYPE = "MARS-LOCAL-STEREO-Vo-Fl-La"
INSTRUMENT_HOST_ID = MEX
INSTRUMENT_HOST_NAME = "MARS EXPRESS"
INSTRUMENT_ID = HRSC
INSTRUMENT_NAME = "HIGH RESOLUTION STEREO CAMERA"
MISSION_NAME = "MARS EXPRESS"
MISSION_PHASE_NAME = ME_Phase_14
PROCESSING_LEVEL_ID = 3
PRODUCT_CREATION_TIME = 2016-05-16T00:43:14.000Z
PRODUCT_ID = "H5831_0000_P23.JP2"
RELEASE_ID = 0066
REVISION_ID = 0000
/* QUALITY DATA ELEMENTS */
DATA_QUALITY_ID = 1
DATA_QUALITY_DESC = "Data calculated based on original SPICE kernels"
/* TIME DATA ELEMENTS */
SPACECRAFT_CLOCK_START_COUNT = "1/0164371796.08243"
SPACECRAFT_CLOCK_STOP_COUNT = "1/0164372095.31661"
START_TIME = 2008-07-17T10:50:14.847Z
STOP_TIME = 2008-07-17T10:52:58.153Z
/* ORBITAL DATA ELEMENTS */
ASCENDING_NODE_LONGITUDE = 107.27
MAXIMUM_RESOLUTION = 40.1
FOOTPRINT_POINT_LATITUDE = (78.0692,78.1513,78.2338,78.3113, 78.3838,78.4513,78.5137,78.8218,79.1752 ,79.4448,79.6244,79.8933,80.0716, 80.2537,80.4359,80.7071,80.8879,81.1631 ,81.3464,81.5292,81.7114,81.8964, 82.0813,82.2656,82.4485,82.6332,82.8185 ,83.0021,83.1855,83.3708,83.5546, 83.7403,83.9192,84.1031,84.2858,84.4678 ,84.7371,84.9146,85.0909,85.3531,85.525 ,85.6937,85.8598,86.0991,86.2526, 86.4747,86.6144,86.7428,86.8642,87.0247 ,87.0965,86.8203,86.5615,86.2398, 86.0169,85.608,85.3401,85.0474,84.9737, 84.9129,84.8452,84.7699,84.6418,84.4986 ,84.395,84.2289,84.0522,83.9278,83.734, 83.5321,83.3924,83.2516,83.1076,82.9603 ,82.8108,82.6604,82.4303,82.2738, 82.1182,81.8813,81.6398,81.4801,81.3187 ,81.1557,80.9913,80.8286,80.6651, 80.5002,80.3342,80.1687,80.0039,79.8381 ,79.6713,79.4209,79.2554,79.0059, 78.8386,78.5879,78.2564,78.0692)
FOOTPRINT_POINT_LONGITUDE = (306.617,305.517,304.335,303.144, 301.945,300.738,299.523,299.143,299.593 ,299.958,300.212,300.611,300.888, 301.182,301.488,301.967,302.303,302.843 ,303.222,303.619,304.032,304.472, 304.934,305.417,305.924,306.462,307.033 ,307.632,308.264,308.942,309.659, 310.425,311.224,312.095,313.023,314.016 ,315.638,316.821,318.094,320.207, 321.762,323.442,325.274,328.309,330.552 ,334.339,337.15,340.16,343.474,348.922, 356.512,358.127,359.406,360.71,361.512, 362.792,363.503,361.523,357.849,355.5, 353.131,350.877,347.629,344.585,342.689 ,339.905,337.341,335.712,333.393, 331.256,329.904,328.634,327.414,326.244 ,325.125,324.067,322.564,321.609, 320.712,319.438,318.226,317.478,316.755 ,316.058,315.386,314.751,314.141,313.55 ,312.979,312.432,311.908,311.401, 310.911,310.209,309.765,309.124,308.714 ,308.124,307.387,306.617)
ORBIT_NUMBER = 5831
ORBITAL_ECCENTRICITY = 0.569
ORBITAL_INCLINATION = 86.76
ORBITAL_SEMIMAJOR_AXIS = 8670.17
PERIAPSIS_ALTITUDE = 350.95
PERIAPSIS_ARGUMENT_ANGLE = 52.77
PERIAPSIS_TIME = 2008-07-17T10:43:52.000Z
SPACECRAFT_ORIENTATION = (0.0,1.0,0.0)
^MEX_ORIENTATION_DESC = "MEX_ORIENTATION_DESC.TXT"
SPACECRAFT_POINTING_MODE = ACROSSTRACK
^MEX_POINTING_DESC = "MEX_POINTING_DESC.TXT"
RIGHT_ASCENSION = -1e+32
DECLINATION = -1e+32
OFFSET_ANGLE = -0.5
SPACECRAFT_SOLAR_DISTANCE = 2.46092e+08
TARGET_NAME = MARS
/* CAMERA DATA ELEMENTS */
DETECTOR_TEMPERATURE = 17.7588
FOCAL_PLANE_TEMPERATURE = 7.5638
INST_CMPRS_NAME = "DISCRETE COSINE TRANSFORMATION (DCT)"
INST_CMPRS_RATIO = 8.18914
INST_CMPRS_QUALITY = 0
INST_CMPRS_QUANTZ_TBL_ID = 0
INSTRUMENT_TEMPERATURE = 10.8262
LENS_TEMPERATURE = 7.9716
MACROPIXEL_SIZE = 2
MISSING_FRAMES = 0
PIXEL_SUBSAMPLING_FLAG = N
SIGNAL_CHAIN_ID = 3
/* RADIOMETRIC DATA ELEMENTS */
BANDWIDTH = 177.0
CENTER_FILTER_WAVELENGTH = 676.5
RADIANCE_OFFSET = 1.2291
RADIANCE_SCALING_FACTOR = 0.0239698
REFLECTANCE_SCALING_FACTOR = 0.00076969
MEX:REFLECTANCE_OFFSET = 0.0394675
/* IMAGE OBJECT DEFINITIONS */
OBJECT = IMAGE
  INTERCHANGE_FORMAT = BINARY
  LINES = 10776
  LINE_SAMPLES = 8727
  SAMPLE_TYPE = UNSIGNED_INTEGER
  SAMPLE_BITS = 8
  BANDS = 1
  BAND_STORAGE_TYPE = BAND_SEQUENTIAL
  MAXIMUM = 254
  MEAN = 88.288
  MINIMUM = 1
  STANDARD_DEVIATION = 50.8191
END_OBJECT = IMAGE
/* MAP OBJECT DEFINITIONS */
OBJECT = IMAGE_MAP_PROJECTION
  ^DATA_SET_MAP_PROJECTION_CATALOG= "DSMAP.CAT"
  A_AXIS_RADIUS = 3396.0
  B_AXIS_RADIUS = 3396.0
  C_AXIS_RADIUS = 3396.0
  CENTER_LATITUDE = 0.0
  CENTER_LONGITUDE = 315.0
  COORDINATE_SYSTEM_NAME = PLANETOGRAPHIC
  COORDINATE_SYSTEM_TYPE = "BODY-FIXED ROTATING"
  EASTERNMOST_LONGITUDE = 3.503
  FIRST_STANDARD_PARALLEL = "N/A"
  LINE_FIRST_PIXEL = 1
  LINE_LAST_PIXEL = 10776
  LINE_PROJECTION_OFFSET = 103386.75
  MAP_PROJECTION_ROTATION = 0.0
  MAP_PROJECTION_TYPE = SINUSOIDAL
  MAP_RESOLUTION = 1185.42760773333
  MAP_SCALE = 0.05
  MAXIMUM_LATITUDE = 87.09650000000001
  MINIMUM_LATITUDE = 78.0692
  POSITIVE_LONGITUDE_DIRECTION = EAST
  REFERENCE_LATITUDE = "N/A"
  REFERENCE_LONGITUDE = "N/A"
  SAMPLE_FIRST_PIXEL = 1
  SAMPLE_LAST_PIXEL = 8727
  SAMPLE_PROJECTION_OFFSET = 3761.25
  SECOND_STANDARD_PARALLEL = "N/A"
  WESTERNMOST_LONGITUDE = -60.857
END_OBJECT = IMAGE_MAP_PROJECTION
/* The JPEG2000 image data file associated with this label. */
OBJECT = COMPRESSED_FILE
  FILE_NAME = "H5831_0000_P23.JP2"
  RECORD_TYPE = UNDEFINED
  FILE_RECORDS = UNK
  ENCODING_TYPE = "JP2"
  INTERCHANGE_FORMAT = BINARY
  UNCOMPRESSED_FILE_NAME = "H5831_0000_P23.IMG"
  REQUIRED_STORAGE_BYTES = "94077060"
  ^DESCRIPTION = "JP2INFO.TXT"
END_OBJECT = COMPRESSED_FILE
END
