PDS_VERSION_ID = PDS3
/* FILE DATA ELEMENTS */
RECORD_TYPE = STREAM
/* POINTERS TO DATA OBJECTS */
^COMPRESSED_FILE = "H5833_0000_ND3.JP2"
/* IDENTIFICATION DATA ELEMENTS */
DATA_SET_ID = "MEX-M-HRSC-5-REFDR-MAPPROJECTED-V3.0"
DATA_SET_NAME = "MARS EXPRESS HRSC MAP PROJECTED REFDR V3.0"
DETECTOR_ID = MEX_HRSC_NADIR
EVENT_TYPE = "MARS-REGIONAL-MAPPING-Im-Pf"
INSTRUMENT_HOST_ID = MEX
INSTRUMENT_HOST_NAME = "MARS EXPRESS"
INSTRUMENT_ID = HRSC
INSTRUMENT_NAME = "HIGH RESOLUTION STEREO CAMERA"
MISSION_NAME = "MARS EXPRESS"
MISSION_PHASE_NAME = ME_Phase_14
PROCESSING_LEVEL_ID = 3
PRODUCT_CREATION_TIME = 2016-05-16T00:43:14.000Z
PRODUCT_ID = "H5833_0000_ND3.JP2"
RELEASE_ID = 0066
REVISION_ID = 0000
/* QUALITY DATA ELEMENTS */
DATA_QUALITY_ID = 1
DATA_QUALITY_DESC = "Data calculated based on original SPICE kernels"
/* TIME DATA ELEMENTS */
SPACECRAFT_CLOCK_START_COUNT = "1/0164421428.08229"
SPACECRAFT_CLOCK_STOP_COUNT = "1/0164421944.39854"
START_TIME = 2008-07-18T00:38:42.179Z
STOP_TIME = 2008-07-18T00:42:20.218Z
/* ORBITAL DATA ELEMENTS */
ASCENDING_NODE_LONGITUDE = 107.23
MAXIMUM_RESOLUTION = 35.2
FOOTPRINT_POINT_LATITUDE = (77.8207,77.9329,78.0407,78.1441, 78.2431,78.3377,78.4277,78.5133,78.5942 ,78.6706,78.7423,78.8096,78.8721, 78.5985,78.3964,78.0913,77.7836,77.4732 ,77.2651,77.0572,76.8495,76.6422, 76.4351,76.2283,76.0219,75.8157,75.6099 ,75.4044,75.1992,74.9944,74.79,74.5859, 74.3821,74.1788,73.9758,73.7732,73.571, 73.3691,73.1677,72.9667,72.766,72.366, 71.9675,71.5707,71.1756,70.7822,70.3904 ,70.0004,69.6121,69.2255,68.8407, 68.8018,68.7679,68.7295,68.6752,68.6267 ,68.5805,68.5235,68.4617,68.3693, 68.2871,68.2388,68.1888,68.1214,68.4952 ,68.8704,69.247,69.6251,70.0045,70.3853 ,70.7674,71.1506,71.535,71.9208,72.3073 ,72.695,73.0835,73.278,73.473,73.668, 73.8631,74.0584,74.2539,74.4495,74.6453 ,74.8413,75.0371,75.2327,75.4287, 75.6247,75.8206,76.0166,76.2125,76.4083 ,76.6997,76.8923,77.0831,77.2724, 77.4607,77.8207)
FOOTPRINT_POINT_LONGITUDE = (233.743,234.776,235.822,236.881, 237.955,239.042,240.141,241.252,242.374 ,243.509,244.655,245.814,246.981, 248.003,248.296,248.717,249.119,249.504 ,249.75,249.988,250.218,250.439,250.654 ,250.861,251.061,251.255,251.442, 251.624,251.8,251.97,252.135,252.296, 252.451,252.602,252.749,252.891,253.029 ,253.164,253.294,253.421,253.545, 253.783,254.008,254.222,254.425,254.618 ,254.802,254.977,255.144,255.303, 255.456,254.592,253.722,252.854,251.772 ,250.909,250.154,249.292,248.432, 247.252,246.29,245.757,245.225,244.534, 244.312,244.079,243.835,243.579,243.309 ,243.026,242.728,242.413,242.082, 241.734,241.364,240.975,240.563,240.348 ,240.129,239.901,239.667,239.426, 239.178,238.922,238.66,238.39,238.11, 237.819,237.521,237.213,236.896,236.568 ,236.229,235.879,235.336,234.962, 234.574,234.179,233.772,233.743)
ORBIT_NUMBER = 5833
ORBITAL_ECCENTRICITY = 0.57
ORBITAL_INCLINATION = 86.75
ORBITAL_SEMIMAJOR_AXIS = 8676.56
PERIAPSIS_ALTITUDE = 351.09
PERIAPSIS_ARGUMENT_ANGLE = 52.4
PERIAPSIS_TIME = 2008-07-18T00:25:10.000Z
SPACECRAFT_ORIENTATION = (0.0,1.0,0.0)
^MEX_ORIENTATION_DESC = "MEX_ORIENTATION_DESC.TXT"
SPACECRAFT_POINTING_MODE = ACROSSTRACK
^MEX_POINTING_DESC = "MEX_POINTING_DESC.TXT"
RIGHT_ASCENSION = -1e+32
DECLINATION = -1e+32
OFFSET_ANGLE = -1.15
SPACECRAFT_SOLAR_DISTANCE = 2.46038e+08
TARGET_NAME = MARS
/* CAMERA DATA ELEMENTS */
DETECTOR_TEMPERATURE = 18.1666
FOCAL_PLANE_TEMPERATURE = 7.7677
INST_CMPRS_NAME = "DISCRETE COSINE TRANSFORMATION (DCT)"
INST_CMPRS_RATIO = 7.40273
INST_CMPRS_QUALITY = 0
INST_CMPRS_QUANTZ_TBL_ID = 0
INSTRUMENT_TEMPERATURE = 11.0301
LENS_TEMPERATURE = 8.1755
MACROPIXEL_SIZE = 1
MISSING_FRAMES = 0
PIXEL_SUBSAMPLING_FLAG = N
SIGNAL_CHAIN_ID = 0
/* RADIOMETRIC DATA ELEMENTS */
BANDWIDTH = 177.0
CENTER_FILTER_WAVELENGTH = 677.5
RADIANCE_OFFSET = 2.17508
RADIANCE_SCALING_FACTOR = 0.0308966
REFLECTANCE_SCALING_FACTOR = 0.000993565
MEX:REFLECTANCE_OFFSET = 0.0699458
/* IMAGE OBJECT DEFINITIONS */
OBJECT = IMAGE
  INTERCHANGE_FORMAT = BINARY
  LINES = 25504
  LINE_SAMPLES = 14004
  SAMPLE_TYPE = UNSIGNED_INTEGER
  SAMPLE_BITS = 8
  BANDS = 1
  BAND_STORAGE_TYPE = BAND_SEQUENTIAL
  MAXIMUM = 255
  MEAN = 94.214
  MINIMUM = 1
  STANDARD_DEVIATION = 32.4935
END_OBJECT = IMAGE
/* MAP OBJECT DEFINITIONS */
OBJECT = IMAGE_MAP_PROJECTION
  ^DATA_SET_MAP_PROJECTION_CATALOG= "DSMAP.CAT"
  A_AXIS_RADIUS = 3396.0
  B_AXIS_RADIUS = 3396.0
  C_AXIS_RADIUS = 3396.0
  CENTER_LATITUDE = 0.0
  CENTER_LONGITUDE = 247.0
  COORDINATE_SYSTEM_NAME = PLANETOGRAPHIC
  COORDINATE_SYSTEM_TYPE = "BODY-FIXED ROTATING"
  EASTERNMOST_LONGITUDE = 255.456
  FIRST_STANDARD_PARALLEL = "N/A"
  LINE_FIRST_PIXEL = 1
  LINE_LAST_PIXEL = 25504
  LINE_PROJECTION_OFFSET = 187055.0
  MAP_PROJECTION_ROTATION = 0.0
  MAP_PROJECTION_TYPE = SINUSOIDAL
  MAP_RESOLUTION = 2370.85521546667
  MAP_SCALE = 0.025
  MAXIMUM_LATITUDE = 78.8721
  MINIMUM_LATITUDE = 68.12139999999999
  POSITIVE_LONGITUDE_DIRECTION = EAST
  REFERENCE_LATITUDE = "N/A"
  REFERENCE_LONGITUDE = "N/A"
  SAMPLE_FIRST_PIXEL = 1
  SAMPLE_LAST_PIXEL = 14004
  SAMPLE_PROJECTION_OFFSET = 6804.0
  SECOND_STANDARD_PARALLEL = "N/A"
  WESTERNMOST_LONGITUDE = 233.743
END_OBJECT = IMAGE_MAP_PROJECTION
/* The JPEG2000 image data file associated with this label. */
OBJECT = COMPRESSED_FILE
  FILE_NAME = "H5833_0000_ND3.JP2"
  RECORD_TYPE = UNDEFINED
  FILE_RECORDS = UNK
  ENCODING_TYPE = "JP2"
  INTERCHANGE_FORMAT = BINARY
  UNCOMPRESSED_FILE_NAME = "H5833_0000_ND3.IMG"
  REQUIRED_STORAGE_BYTES = "357200028"
  ^DESCRIPTION = "JP2INFO.TXT"
END_OBJECT = COMPRESSED_FILE
END
