PDS_VERSION_ID = PDS3
/* FILE DATA ELEMENTS */
RECORD_TYPE = STREAM
/* POINTERS TO DATA OBJECTS */
^COMPRESSED_FILE = "H5841_0000_P13.JP2"
/* IDENTIFICATION DATA ELEMENTS */
DATA_SET_ID = "MEX-M-HRSC-5-REFDR-MAPPROJECTED-V3.0"
DATA_SET_NAME = "MARS EXPRESS HRSC MAP PROJECTED REFDR V3.0"
DETECTOR_ID = MEX_HRSC_P1
EVENT_TYPE = "MARS-REGIONAL-MAPPING-Im-Pf-Eo"
INSTRUMENT_HOST_ID = MEX
INSTRUMENT_HOST_NAME = "MARS EXPRESS"
INSTRUMENT_ID = HRSC
INSTRUMENT_NAME = "HIGH RESOLUTION STEREO CAMERA"
MISSION_NAME = "MARS EXPRESS"
MISSION_PHASE_NAME = ME_Phase_14
PROCESSING_LEVEL_ID = 3
PRODUCT_CREATION_TIME = 2016-05-16T00:43:14.000Z
PRODUCT_ID = "H5841_0000_P13.JP2"
RELEASE_ID = 0066
REVISION_ID = 0000
/* QUALITY DATA ELEMENTS */
DATA_QUALITY_ID = 1
DATA_QUALITY_DESC = "Data calculated based on original SPICE kernels"
/* TIME DATA ELEMENTS */
SPACECRAFT_CLOCK_START_COUNT = "1/0164618520.08241"
SPACECRAFT_CLOCK_STOP_COUNT = "1/0164619071.20745"
START_TIME = 2008-07-20T07:24:37.401Z
STOP_TIME = 2008-07-20T07:29:46.909Z
/* ORBITAL DATA ELEMENTS */
ASCENDING_NODE_LONGITUDE = 107.07
MAXIMUM_RESOLUTION = 75.4
FOOTPRINT_POINT_LATITUDE = (81.4398,81.5632,81.6814,81.7943, 81.9789,82.1342,82.2427,82.3224,82.3957 ,82.4701,82.5489,82.1327,81.8673, 81.6024,81.3382,81.0748,80.8121,80.5503 ,80.2892,80.0288,79.7693,79.5108,79.253 ,78.996,78.7396,78.4843,78.2299,77.9765 ,77.7239,77.4726,77.2214,76.9717, 76.7227,76.4749,76.2277,75.9817,75.7365 ,75.4926,75.2498,75.0077,74.5265, 74.0492,73.5751,72.9894,72.5252,72.0647 ,71.6077,71.1547,70.7055,70.3112, 70.3013,70.2904,70.2649,70.2378,70.2062 ,70.1579,70.1131,70.0629,70.0075, 69.9222,69.8625,69.7766,70.2072,70.6411 ,71.0775,71.5185,72.1933,72.638,73.1992 ,73.6579,74.1173,74.5798,75.0458, 75.2792,75.5138,75.7486,75.9841,76.2203 ,76.457,76.6945,76.9323,77.1706,77.4092 ,77.6481,77.8874,78.127,78.3667,78.6065 ,78.8462,79.0864,79.3263,79.5661, 79.8057,80.0448,80.2833,80.5212,80.7583 ,80.9945,81.2294,81.4398)
FOOTPRINT_POINT_LONGITUDE = (149.209,150.625,152.08,153.574,156.284 ,158.902,160.983,162.686,164.426, 166.423,168.915,170.241,170.713,171.153 ,171.564,171.949,172.31,172.65,172.97, 173.272,173.557,173.827,174.083,174.325 ,174.555,174.774,174.982,175.181,175.37 ,175.552,175.724,175.89,176.048,176.2, 176.346,176.485,176.62,176.749,176.874, 176.994,177.221,177.432,177.628,177.858 ,178.029,178.189,178.339,178.481, 178.615,178.464,177.39,176.587,175.252, 174.189,173.129,171.809,170.758,169.71, 168.667,167.24,166.337,165.135,164.903, 164.655,164.392,164.108,163.625,163.301 ,162.859,162.456,162.03,161.57,161.071, 160.809,160.533,160.248,159.95,159.64, 159.316,158.977,158.623,158.254,157.868 ,157.464,157.041,156.598,156.133, 155.646,155.135,154.595,154.028,153.431 ,152.801,152.137,151.437,150.697, 149.913,149.083,148.204,149.209)
ORBIT_NUMBER = 5841
ORBITAL_ECCENTRICITY = 0.569
ORBITAL_INCLINATION = 86.74
ORBITAL_SEMIMAJOR_AXIS = 8674.02
PERIAPSIS_ALTITUDE = 351.15
PERIAPSIS_ARGUMENT_ANGLE = 51.0
PERIAPSIS_TIME = 2008-07-20T07:10:38.000Z
SPACECRAFT_ORIENTATION = (0.0,1.0,0.0)
^MEX_ORIENTATION_DESC = "MEX_ORIENTATION_DESC.TXT"
SPACECRAFT_POINTING_MODE = NADIR
^MEX_POINTING_DESC = "MEX_POINTING_DESC.TXT"
RIGHT_ASCENSION = -1e+32
DECLINATION = -1e+32
OFFSET_ANGLE = -1e+32
SPACECRAFT_SOLAR_DISTANCE = 2.45818e+08
TARGET_NAME = MARS
/* CAMERA DATA ELEMENTS */
DETECTOR_TEMPERATURE = 16.9432
FOCAL_PLANE_TEMPERATURE = 7.5638
INST_CMPRS_NAME = "DISCRETE COSINE TRANSFORMATION (DCT)"
INST_CMPRS_RATIO = 10.4863
INST_CMPRS_QUALITY = 0
INST_CMPRS_QUANTZ_TBL_ID = 0
INSTRUMENT_TEMPERATURE = 10.8262
LENS_TEMPERATURE = 8.1755
MACROPIXEL_SIZE = 2
MISSING_FRAMES = 0
PIXEL_SUBSAMPLING_FLAG = N
SIGNAL_CHAIN_ID = 3
/* RADIOMETRIC DATA ELEMENTS */
BANDWIDTH = 174.0
CENTER_FILTER_WAVELENGTH = 675.0
RADIANCE_OFFSET = 2.13805
RADIANCE_SCALING_FACTOR = 0.0330543
REFLECTANCE_SCALING_FACTOR = 0.00107433
MEX:REFLECTANCE_OFFSET = 0.0694907
/* IMAGE OBJECT DEFINITIONS */
OBJECT = IMAGE
  INTERCHANGE_FORMAT = BINARY
  LINES = 15230
  LINE_SAMPLES = 7233
  SAMPLE_TYPE = UNSIGNED_INTEGER
  SAMPLE_BITS = 8
  BANDS = 1
  BAND_STORAGE_TYPE = BAND_SEQUENTIAL
  MAXIMUM = 255
  MEAN = 98.1639
  MINIMUM = 1
  STANDARD_DEVIATION = 59.3502
END_OBJECT = IMAGE
/* MAP OBJECT DEFINITIONS */
OBJECT = IMAGE_MAP_PROJECTION
  ^DATA_SET_MAP_PROJECTION_CATALOG= "DSMAP.CAT"
  A_AXIS_RADIUS = 3396.0
  B_AXIS_RADIUS = 3396.0
  C_AXIS_RADIUS = 3396.0
  CENTER_LATITUDE = 0.0
  CENTER_LONGITUDE = 168.0
  COORDINATE_SYSTEM_NAME = PLANETOGRAPHIC
  COORDINATE_SYSTEM_TYPE = "BODY-FIXED ROTATING"
  EASTERNMOST_LONGITUDE = 178.615
  FIRST_STANDARD_PARALLEL = "N/A"
  LINE_FIRST_PIXEL = 1
  LINE_LAST_PIXEL = 15230
  LINE_PROJECTION_OFFSET = 97924.75
  MAP_PROJECTION_ROTATION = 0.0
  MAP_PROJECTION_TYPE = SINUSOIDAL
  MAP_RESOLUTION = 1185.42760773333
  MAP_SCALE = 0.05
  MAXIMUM_LATITUDE = 82.5489
  MINIMUM_LATITUDE = 69.7766
  POSITIVE_LONGITUDE_DIRECTION = EAST
  REFERENCE_LATITUDE = "N/A"
  REFERENCE_LONGITUDE = "N/A"
  SAMPLE_FIRST_PIXEL = 1
  SAMPLE_LAST_PIXEL = 7233
  SAMPLE_PROJECTION_OFFSET = 3418.75
  SECOND_STANDARD_PARALLEL = "N/A"
  WESTERNMOST_LONGITUDE = 148.204
END_OBJECT = IMAGE_MAP_PROJECTION
/* The JPEG2000 image data file associated with this label. */
OBJECT = COMPRESSED_FILE
  FILE_NAME = "H5841_0000_P13.JP2"
  RECORD_TYPE = UNDEFINED
  FILE_RECORDS = UNK
  ENCODING_TYPE = "JP2"
  INTERCHANGE_FORMAT = BINARY
  UNCOMPRESSED_FILE_NAME = "H5841_0000_P13.IMG"
  REQUIRED_STORAGE_BYTES = "110187522"
  ^DESCRIPTION = "JP2INFO.TXT"
END_OBJECT = COMPRESSED_FILE
END
