PDS_VERSION_ID = PDS3
/* FILE DATA ELEMENTS */
RECORD_TYPE = STREAM
/* POINTERS TO DATA OBJECTS */
^COMPRESSED_FILE = "H5843_0000_P13.JP2"
/* IDENTIFICATION DATA ELEMENTS */
DATA_SET_ID = "MEX-M-HRSC-5-REFDR-MAPPROJECTED-V3.0"
DATA_SET_NAME = "MARS EXPRESS HRSC MAP PROJECTED REFDR V3.0"
DETECTOR_ID = MEX_HRSC_P1
EVENT_TYPE = "MARS-LOCAL-MAPPING-Fl-Gl-La"
INSTRUMENT_HOST_ID = MEX
INSTRUMENT_HOST_NAME = "MARS EXPRESS"
INSTRUMENT_ID = HRSC
INSTRUMENT_NAME = "HIGH RESOLUTION STEREO CAMERA"
MISSION_NAME = "MARS EXPRESS"
MISSION_PHASE_NAME = ME_Phase_14
PROCESSING_LEVEL_ID = 3
PRODUCT_CREATION_TIME = 2016-05-16T00:43:14.000Z
PRODUCT_ID = "H5843_0000_P13.JP2"
RELEASE_ID = 0066
REVISION_ID = 0000
/* QUALITY DATA ELEMENTS */
DATA_QUALITY_ID = 1
DATA_QUALITY_DESC = "Data calculated based on original SPICE kernels"
/* TIME DATA ELEMENTS */
SPACECRAFT_CLOCK_START_COUNT = "1/0164667714.09040"
SPACECRAFT_CLOCK_STOP_COUNT = "1/0164668094.59171"
START_TIME = 2008-07-20T21:04:05.543Z
STOP_TIME = 2008-07-20T21:07:22.939Z
/* ORBITAL DATA ELEMENTS */
ASCENDING_NODE_LONGITUDE = 107.03
MAXIMUM_RESOLUTION = 64.4
FOOTPRINT_POINT_LATITUDE = (84.2248,84.5055,84.7077,84.9083, 85.1074,85.3049,85.5005,85.6943,85.886, 86.0755,86.263,86.4481,86.6303,86.6351, 86.4644,86.2709,86.0018,85.7676,85.5175 ,85.3873,85.2561,85.1193,84.9104, 84.7677,84.6235,84.4045,84.2537,84.1023 ,83.8733,83.7184,83.561,83.4013,83.1586 ,82.9951,82.8288,82.5777,82.4091, 82.2394,82.0687,81.8971,81.724,81.4617, 81.1974,81.0201,80.8415,80.572,80.3918, 80.1182,79.8434,79.5647,79.3781,79.3008 ,79.2378,79.1595,79.0933,79.0117, 78.8893,78.7932,78.691,78.5829,78.4691, 78.3494,78.2239,78.1376,78.3923,78.5602 ,78.81,78.9747,79.1377,79.2988,79.5386, 79.7747,80.0073,80.2361,80.4611,80.6823 ,80.8277,80.9706,81.1813,81.3198, 81.4559,81.6563,81.7875,81.916,82.0425, 82.2277,82.4069,82.5233,82.637,82.802, 82.9085,83.0117,83.2093,83.3937,83.5229 ,83.6447,83.8279,83.957,84.0426, 84.2248)
FOOTPRINT_POINT_LONGITUDE = (266.261,267.126,267.806,268.535, 269.318,270.163,271.074,272.061,273.134 ,274.304,275.586,276.997,278.554,283.17 ,287.859,292.118,296.851,300.207, 303.231,304.626,305.934,307.192,308.949 ,310.049,311.089,312.549,313.473, 314.346,315.576,316.35,317.09,317.799, 318.804,319.438,320.047,320.912,321.458 ,321.982,322.484,322.967,323.431, 324.095,324.723,325.122,325.507,326.06, 326.411,326.918,327.4,327.859,328.152, 326.931,325.489,323.884,322.65,321.256, 319.365,318.012,316.675,315.358,314.061 ,312.784,311.528,310.695,310.048, 309.602,308.906,308.427,307.938,307.438 ,306.653,305.834,304.98,304.089,303.159 ,302.188,301.515,300.828,299.772, 299.032,298.271,297.086,296.263,295.419 ,294.547,293.189,291.777,290.791, 289.787,288.227,287.141,286.046,283.758 ,281.349,279.445,277.509,274.114, 271.279,269.087,266.261)
ORBIT_NUMBER = 5843
ORBITAL_ECCENTRICITY = 0.569
ORBITAL_INCLINATION = 86.76
ORBITAL_SEMIMAJOR_AXIS = 8670.41
PERIAPSIS_ALTITUDE = 350.69
PERIAPSIS_ARGUMENT_ANGLE = 50.66
PERIAPSIS_TIME = 2008-07-20T20:52:02.000Z
SPACECRAFT_ORIENTATION = (0.0,1.0,0.0)
^MEX_ORIENTATION_DESC = "MEX_ORIENTATION_DESC.TXT"
SPACECRAFT_POINTING_MODE = ACROSSTRACK
^MEX_POINTING_DESC = "MEX_POINTING_DESC.TXT"
RIGHT_ASCENSION = -1e+32
DECLINATION = -1e+32
OFFSET_ANGLE = -1.0
SPACECRAFT_SOLAR_DISTANCE = 2.45762e+08
TARGET_NAME = MARS
/* CAMERA DATA ELEMENTS */
DETECTOR_TEMPERATURE = 17.351
FOCAL_PLANE_TEMPERATURE = 8.1755
INST_CMPRS_NAME = "DISCRETE COSINE TRANSFORMATION (DCT)"
INST_CMPRS_RATIO = 11.7908
INST_CMPRS_QUALITY = 0
INST_CMPRS_QUANTZ_TBL_ID = 0
INSTRUMENT_TEMPERATURE = 11.234
LENS_TEMPERATURE = 8.1755
MACROPIXEL_SIZE = 2
MISSING_FRAMES = 0
PIXEL_SUBSAMPLING_FLAG = N
SIGNAL_CHAIN_ID = 3
/* RADIOMETRIC DATA ELEMENTS */
BANDWIDTH = 174.0
CENTER_FILTER_WAVELENGTH = 675.0
RADIANCE_OFFSET = 1.8774
RADIANCE_SCALING_FACTOR = 0.0297172
REFLECTANCE_SCALING_FACTOR = 0.00096543
MEX:REFLECTANCE_OFFSET = 0.0609917
/* IMAGE OBJECT DEFINITIONS */
OBJECT = IMAGE
  INTERCHANGE_FORMAT = BINARY
  LINES = 10074
  LINE_SAMPLES = 9384
  SAMPLE_TYPE = UNSIGNED_INTEGER
  SAMPLE_BITS = 8
  BANDS = 1
  BAND_STORAGE_TYPE = BAND_SEQUENTIAL
  MAXIMUM = 255
  MEAN = 101.065
  MINIMUM = 1
  STANDARD_DEVIATION = 38.2548
END_OBJECT = IMAGE
/* MAP OBJECT DEFINITIONS */
OBJECT = IMAGE_MAP_PROJECTION
  ^DATA_SET_MAP_PROJECTION_CATALOG= "DSMAP.CAT"
  A_AXIS_RADIUS = 3396.0
  B_AXIS_RADIUS = 3396.0
  C_AXIS_RADIUS = 3396.0
  CENTER_LATITUDE = 0.0
  CENTER_LONGITUDE = 305.0
  COORDINATE_SYSTEM_NAME = PLANETOGRAPHIC
  COORDINATE_SYSTEM_TYPE = "BODY-FIXED ROTATING"
  EASTERNMOST_LONGITUDE = 328.152
  FIRST_STANDARD_PARALLEL = "N/A"
  LINE_FIRST_PIXEL = 1
  LINE_LAST_PIXEL = 10074
  LINE_PROJECTION_OFFSET = 102752.75
  MAP_PROJECTION_ROTATION = 0.0
  MAP_PROJECTION_TYPE = SINUSOIDAL
  MAP_RESOLUTION = 1185.42760773333
  MAP_SCALE = 0.05
  MAXIMUM_LATITUDE = 86.63509999999999
  MINIMUM_LATITUDE = 78.13760000000001
  POSITIVE_LONGITUDE_DIRECTION = EAST
  REFERENCE_LATITUDE = "N/A"
  REFERENCE_LONGITUDE = "N/A"
  SAMPLE_FIRST_PIXEL = 1
  SAMPLE_LAST_PIXEL = 9384
  SAMPLE_PROJECTION_OFFSET = 4553.75
  SECOND_STANDARD_PARALLEL = "N/A"
  WESTERNMOST_LONGITUDE = 266.261
END_OBJECT = IMAGE_MAP_PROJECTION
/* The JPEG2000 image data file associated with this label. */
OBJECT = COMPRESSED_FILE
  FILE_NAME = "H5843_0000_P13.JP2"
  RECORD_TYPE = UNDEFINED
  FILE_RECORDS = UNK
  ENCODING_TYPE = "JP2"
  INTERCHANGE_FORMAT = BINARY
  UNCOMPRESSED_FILE_NAME = "H5843_0000_P13.IMG"
  REQUIRED_STORAGE_BYTES = "94562568"
  ^DESCRIPTION = "JP2INFO.TXT"
END_OBJECT = COMPRESSED_FILE
END
