PDS_VERSION_ID = PDS3
/* FILE DATA ELEMENTS */
RECORD_TYPE = STREAM
/* POINTERS TO DATA OBJECTS */
^COMPRESSED_FILE = "H5853_0000_GR3.JP2"
/* IDENTIFICATION DATA ELEMENTS */
DATA_SET_ID = "MEX-M-HRSC-5-REFDR-MAPPROJECTED-V3.0"
DATA_SET_NAME = "MARS EXPRESS HRSC MAP PROJECTED REFDR V3.0"
DETECTOR_ID = MEX_HRSC_GREEN
EVENT_TYPE = "MARS-REGIONAL-MAPPING-Im-Pf"
INSTRUMENT_HOST_ID = MEX
INSTRUMENT_HOST_NAME = "MARS EXPRESS"
INSTRUMENT_ID = HRSC
INSTRUMENT_NAME = "HIGH RESOLUTION STEREO CAMERA"
MISSION_NAME = "MARS EXPRESS"
MISSION_PHASE_NAME = ME_Phase_14
PROCESSING_LEVEL_ID = 3
PRODUCT_CREATION_TIME = 2016-05-16T00:43:14.000Z
PRODUCT_ID = "H5853_0000_GR3.JP2"
RELEASE_ID = 0066
REVISION_ID = 0000
/* QUALITY DATA ELEMENTS */
DATA_QUALITY_ID = 1
DATA_QUALITY_DESC = "Data calculated based on original SPICE kernels"
/* TIME DATA ELEMENTS */
SPACECRAFT_CLOCK_START_COUNT = "1/0164914262.09049"
SPACECRAFT_CLOCK_STOP_COUNT = "1/0164914982.04981"
START_TIME = 2008-07-23T17:32:58.859Z
STOP_TIME = 2008-07-23T17:38:54.340Z
/* ORBITAL DATA ELEMENTS */
ASCENDING_NODE_LONGITUDE = 106.83
MAXIMUM_RESOLUTION = 148.4
FOOTPRINT_POINT_LATITUDE = (79.4797,79.8753,80.128,80.3614,80.5748 ,80.7677,80.9094,80.5372,80.2252, 79.9134,79.6013,79.2892,78.9773,78.6657 ,78.3544,78.0436,77.7333,77.4236, 77.1145,76.8061,76.4985,76.1917,75.8856 ,75.5804,75.276,74.9726,74.67,74.3684, 74.0678,73.7681,73.4694,73.1717,72.8751 ,72.5794,72.2848,71.9912,71.6987, 71.4073,71.1169,70.5394,69.9662,69.3974 ,68.8328,68.2727,67.7169,67.1655, 66.6185,66.0884,66.0657,66.018,65.9822, 65.9414,65.8955,65.8513,65.796,65.7354, 65.6696,65.5895,65.5127,65.4306,65.4941 ,66.0202,66.5502,67.0842,67.622,68.1636 ,68.7089,69.2579,69.8103,70.3662, 70.9253,71.4874,71.7696,72.0524,72.336, 72.6201,72.9048,73.19,73.4758,73.762, 74.0486,74.3355,74.6228,74.9102,75.1978 ,75.4855,75.7732,76.0608,76.3481, 76.6352,76.9218,77.2079,77.4932,77.7777 ,78.0611,78.3433,78.624,78.9031,79.1807 ,79.4797)
FOOTPRINT_POINT_LONGITUDE = (23.2724,26.5082,28.8749,31.3359, 33.8875,36.529,38.742,41.1392,41.8575, 42.5274,43.1543,43.7415,44.2927,44.8108 ,45.2986,45.7585,46.1928,46.6035, 46.9922,47.3608,47.7105,48.0429,48.359, 48.6599,48.9468,49.2204,49.4817,49.7314 ,49.9702,50.1989,50.4179,50.6279, 50.8294,51.0228,51.2086,51.3872,51.559, 51.7244,51.8836,52.185,52.4654,52.7268, 52.9708,53.1991,53.413,53.6138,53.8025, 53.9761,53.099,51.6589,50.7747,49.8908, 49.0076,48.2351,47.3528,46.4698,45.5879 ,44.5974,43.719,42.8406,42.0842,41.8317 ,41.5615,41.2715,40.9604,40.6262,40.268 ,39.8823,39.4672,39.0204,38.5378, 38.0158,37.7389,37.4513,37.1517,36.839, 36.514,36.1744,35.8194,35.4494,35.0629, 34.6584,34.2357,33.7936,33.331,32.8467, 32.3379,31.805,31.2449,30.6566,30.0386, 29.3877,28.7025,27.9805,27.2193,26.4159 ,25.5671,24.6695,23.728,23.2724)
ORBIT_NUMBER = 5853
ORBITAL_ECCENTRICITY = 0.57
ORBITAL_INCLINATION = 86.75
ORBITAL_SEMIMAJOR_AXIS = 8681.43
PERIAPSIS_ALTITUDE = 349.19
PERIAPSIS_ARGUMENT_ANGLE = 48.92
PERIAPSIS_TIME = 2008-07-23T17:18:46.000Z
SPACECRAFT_ORIENTATION = (0.0,1.0,0.0)
^MEX_ORIENTATION_DESC = "MEX_ORIENTATION_DESC.TXT"
SPACECRAFT_POINTING_MODE = ACROSSTRACK
^MEX_POINTING_DESC = "MEX_POINTING_DESC.TXT"
RIGHT_ASCENSION = -1e+32
DECLINATION = -1e+32
OFFSET_ANGLE = -1.5
SPACECRAFT_SOLAR_DISTANCE = 2.45475e+08
TARGET_NAME = MARS
/* CAMERA DATA ELEMENTS */
DETECTOR_TEMPERATURE = 17.9627
FOCAL_PLANE_TEMPERATURE = 7.156
INST_CMPRS_NAME = "DISCRETE COSINE TRANSFORMATION (DCT)"
INST_CMPRS_RATIO = 21.8773
INST_CMPRS_QUALITY = 0
INST_CMPRS_QUANTZ_TBL_ID = 0
INSTRUMENT_TEMPERATURE = 10.8262
LENS_TEMPERATURE = 7.7677
MACROPIXEL_SIZE = 4
MISSING_FRAMES = 0
PIXEL_SUBSAMPLING_FLAG = N
SIGNAL_CHAIN_ID = 2
/* RADIOMETRIC DATA ELEMENTS */
BANDWIDTH = 88.0
CENTER_FILTER_WAVELENGTH = 538.0
RADIANCE_OFFSET = 0.968627
RADIANCE_SCALING_FACTOR = 0.0102349
REFLECTANCE_SCALING_FACTOR = 0.000530989
MEX:REFLECTANCE_OFFSET = 0.0502524
/* IMAGE OBJECT DEFINITIONS */
OBJECT = IMAGE
  INTERCHANGE_FORMAT = BINARY
  LINES = 9277
  LINE_SAMPLES = 4603
  SAMPLE_TYPE = UNSIGNED_INTEGER
  SAMPLE_BITS = 8
  BANDS = 1
  BAND_STORAGE_TYPE = BAND_SEQUENTIAL
  MAXIMUM = 255
  MEAN = 65.0269
  MINIMUM = 1
  STANDARD_DEVIATION = 25.7379
END_OBJECT = IMAGE
/* MAP OBJECT DEFINITIONS */
OBJECT = IMAGE_MAP_PROJECTION
  ^DATA_SET_MAP_PROJECTION_CATALOG= "DSMAP.CAT"
  A_AXIS_RADIUS = 3396.0
  B_AXIS_RADIUS = 3396.0
  C_AXIS_RADIUS = 3396.0
  CENTER_LATITUDE = 0.0
  CENTER_LONGITUDE = 44.0
  COORDINATE_SYSTEM_NAME = PLANETOGRAPHIC
  COORDINATE_SYSTEM_TYPE = "BODY-FIXED ROTATING"
  EASTERNMOST_LONGITUDE = 53.9761
  FIRST_STANDARD_PARALLEL = "N/A"
  LINE_FIRST_PIXEL = 1
  LINE_LAST_PIXEL = 9277
  LINE_PROJECTION_OFFSET = 48016.625
  MAP_PROJECTION_ROTATION = 0.0
  MAP_PROJECTION_TYPE = SINUSOIDAL
  MAP_RESOLUTION = 592.713803866667
  MAP_SCALE = 0.1
  MAXIMUM_LATITUDE = 80.90940000000001
  MINIMUM_LATITUDE = 65.4306
  POSITIVE_LONGITUDE_DIRECTION = EAST
  REFERENCE_LATITUDE = "N/A"
  REFERENCE_LONGITUDE = "N/A"
  SAMPLE_FIRST_PIXEL = 1
  SAMPLE_LAST_PIXEL = 4603
  SAMPLE_PROJECTION_OFFSET = 2253.875
  SECOND_STANDARD_PARALLEL = "N/A"
  WESTERNMOST_LONGITUDE = 23.2724
END_OBJECT = IMAGE_MAP_PROJECTION
/* The JPEG2000 image data file associated with this label. */
OBJECT = COMPRESSED_FILE
  FILE_NAME = "H5853_0000_GR3.JP2"
  RECORD_TYPE = UNDEFINED
  FILE_RECORDS = UNK
  ENCODING_TYPE = "JP2"
  INTERCHANGE_FORMAT = BINARY
  UNCOMPRESSED_FILE_NAME = "H5853_0000_GR3.IMG"
  REQUIRED_STORAGE_BYTES = "42725046"
  ^DESCRIPTION = "JP2INFO.TXT"
END_OBJECT = COMPRESSED_FILE
END
