PDS_VERSION_ID = PDS3
/* FILE DATA ELEMENTS */
RECORD_TYPE = STREAM
/* POINTERS TO DATA OBJECTS */
^COMPRESSED_FILE = "H5855_0000_P13.JP2"
/* IDENTIFICATION DATA ELEMENTS */
DATA_SET_ID = "MEX-M-HRSC-5-REFDR-MAPPROJECTED-V3.0"
DATA_SET_NAME = "MARS EXPRESS HRSC MAP PROJECTED REFDR V3.0"
DETECTOR_ID = MEX_HRSC_P1
EVENT_TYPE = "MARS-REGIONAL-MAPPING-Vo-Im-Pf"
INSTRUMENT_HOST_ID = MEX
INSTRUMENT_HOST_NAME = "MARS EXPRESS"
INSTRUMENT_ID = HRSC
INSTRUMENT_NAME = "HIGH RESOLUTION STEREO CAMERA"
MISSION_NAME = "MARS EXPRESS"
MISSION_PHASE_NAME = ME_Phase_14
PROCESSING_LEVEL_ID = 3
PRODUCT_CREATION_TIME = 2016-05-16T00:43:14.000Z
PRODUCT_ID = "H5855_0000_P13.JP2"
RELEASE_ID = 0066
REVISION_ID = 0000
/* QUALITY DATA ELEMENTS */
DATA_QUALITY_ID = 1
DATA_QUALITY_DESC = "Data calculated based on original SPICE kernels"
/* TIME DATA ELEMENTS */
SPACECRAFT_CLOCK_START_COUNT = "1/0164963562.09057"
SPACECRAFT_CLOCK_STOP_COUNT = "1/0164964244.54989"
START_TIME = 2008-07-24T07:15:45.438Z
STOP_TIME = 2008-07-24T07:22:05.573Z
/* ORBITAL DATA ELEMENTS */
ASCENDING_NODE_LONGITUDE = 106.79
MAXIMUM_RESOLUTION = 85.2
FOOTPRINT_POINT_LATITUDE = (79.6091,79.7454,79.8604,79.9694, 80.0723,80.2037,80.2915,80.3727,80.4818 ,80.5459,80.603,80.6584,80.65,80.3391, 80.0295,79.7212,79.4144,79.109,78.8049, 78.502,78.1996,77.8986,77.5987,77.1551, 76.7096,76.2726,75.9807,75.6914,75.4032 ,75.1164,74.8318,74.5478,74.2654, 73.9842,73.7047,73.4258,73.1494,72.7367 ,72.4637,72.1922,71.6527,71.1189, 70.7223,70.328,69.8082,69.2934,68.7839, 68.2799,67.8892,67.395,66.9056,66.8715, 66.8671,66.8564,66.8415,66.8252,66.798, 66.7643,66.7244,66.6655,66.5821,66.5186 ,66.6714,67.1446,67.7589,68.2437, 68.7337,69.2286,69.729,70.2344,70.7445, 71.26,71.7802,72.3055,72.5701,72.8358, 73.1027,73.3706,73.6391,73.9097,74.1811 ,74.4537,74.7272,75.0018,75.2773, 75.5537,75.8313,76.1095,76.3884,76.6678 ,76.948,77.2299,77.5126,77.7953,78.0779 ,78.3612,78.645,78.9289,79.2121, 79.6091)
FOOTPRINT_POINT_LONGITUDE = (191.634,193.189,194.601,196.042, 197.512,199.581,201.116,202.677,205.064 ,206.685,208.329,210.202,211.948, 212.312,212.651,212.968,213.266,213.545 ,213.807,214.054,214.285,214.503, 214.709,215.004,215.269,215.523,215.678 ,215.829,215.972,216.108,216.24,216.365 ,216.485,216.6,216.71,216.815,216.918, 217.064,217.157,217.247,217.416,217.575 ,217.687,217.793,217.927,218.053, 218.172,218.285,218.369,218.471,218.568 ,217.354,215.993,214.907,213.96,213.15, 212.071,210.996,209.922,208.583,206.984 ,205.922,204.602,204.431,204.192,203.99 ,203.771,203.536,203.282,203.007, 202.711,202.389,202.041,201.663,201.462 ,201.252,201.033,200.805,200.568, 200.318,200.057,199.784,199.498,199.199 ,198.886,198.557,198.211,197.849,197.47 ,197.071,196.651,196.204,195.731, 195.235,194.713,194.159,193.571,192.947 ,192.29,191.634)
ORBIT_NUMBER = 5855
ORBITAL_ECCENTRICITY = 0.57
ORBITAL_INCLINATION = 86.76
ORBITAL_SEMIMAJOR_AXIS = 8680.6
PERIAPSIS_ALTITUDE = 348.73
PERIAPSIS_ARGUMENT_ANGLE = 48.57
PERIAPSIS_TIME = 2008-07-24T07:00:08.000Z
SPACECRAFT_ORIENTATION = (0.0,1.0,0.0)
^MEX_ORIENTATION_DESC = "MEX_ORIENTATION_DESC.TXT"
SPACECRAFT_POINTING_MODE = NADIR
^MEX_POINTING_DESC = "MEX_POINTING_DESC.TXT"
RIGHT_ASCENSION = -1e+32
DECLINATION = -1e+32
OFFSET_ANGLE = -1e+32
SPACECRAFT_SOLAR_DISTANCE = 2.45416e+08
TARGET_NAME = MARS
/* CAMERA DATA ELEMENTS */
DETECTOR_TEMPERATURE = 16.7393
FOCAL_PLANE_TEMPERATURE = 7.156
INST_CMPRS_NAME = "DISCRETE COSINE TRANSFORMATION (DCT)"
INST_CMPRS_RATIO = 12.9774
INST_CMPRS_QUALITY = 0
INST_CMPRS_QUANTZ_TBL_ID = 0
INSTRUMENT_TEMPERATURE = 10.6223
LENS_TEMPERATURE = 7.7677
MACROPIXEL_SIZE = 2
MISSING_FRAMES = 3
PIXEL_SUBSAMPLING_FLAG = N
SIGNAL_CHAIN_ID = 3
/* RADIOMETRIC DATA ELEMENTS */
BANDWIDTH = 174.0
CENTER_FILTER_WAVELENGTH = 675.0
RADIANCE_OFFSET = 2.2891
RADIANCE_SCALING_FACTOR = 0.0288129
REFLECTANCE_SCALING_FACTOR = 0.000933419
MEX:REFLECTANCE_OFFSET = 0.0741576
/* IMAGE OBJECT DEFINITIONS */
OBJECT = IMAGE
  INTERCHANGE_FORMAT = BINARY
  LINES = 17019
  LINE_SAMPLES = 7398
  SAMPLE_TYPE = UNSIGNED_INTEGER
  SAMPLE_BITS = 8
  BANDS = 1
  BAND_STORAGE_TYPE = BAND_SEQUENTIAL
  MAXIMUM = 255
  MEAN = 78.6055
  MINIMUM = 1
  STANDARD_DEVIATION = 32.4114
END_OBJECT = IMAGE
/* MAP OBJECT DEFINITIONS */
OBJECT = IMAGE_MAP_PROJECTION
  ^DATA_SET_MAP_PROJECTION_CATALOG= "DSMAP.CAT"
  A_AXIS_RADIUS = 3396.0
  B_AXIS_RADIUS = 3396.0
  C_AXIS_RADIUS = 3396.0
  CENTER_LATITUDE = 0.0
  CENTER_LONGITUDE = 209.0
  COORDINATE_SYSTEM_NAME = PLANETOGRAPHIC
  COORDINATE_SYSTEM_TYPE = "BODY-FIXED ROTATING"
  EASTERNMOST_LONGITUDE = 218.568
  FIRST_STANDARD_PARALLEL = "N/A"
  LINE_FIRST_PIXEL = 1
  LINE_LAST_PIXEL = 17019
  LINE_PROJECTION_OFFSET = 95751.25
  MAP_PROJECTION_ROTATION = 0.0
  MAP_PROJECTION_TYPE = SINUSOIDAL
  MAP_RESOLUTION = 1185.42760773333
  MAP_SCALE = 0.05
  MAXIMUM_LATITUDE = 80.6584
  MINIMUM_LATITUDE = 66.51860000000001
  POSITIVE_LONGITUDE_DIRECTION = EAST
  REFERENCE_LATITUDE = "N/A"
  REFERENCE_LONGITUDE = "N/A"
  SAMPLE_FIRST_PIXEL = 1
  SAMPLE_LAST_PIXEL = 7398
  SAMPLE_PROJECTION_OFFSET = 3531.25
  SECOND_STANDARD_PARALLEL = "N/A"
  WESTERNMOST_LONGITUDE = 191.634
END_OBJECT = IMAGE_MAP_PROJECTION
/* The JPEG2000 image data file associated with this label. */
OBJECT = COMPRESSED_FILE
  FILE_NAME = "H5855_0000_P13.JP2"
  RECORD_TYPE = UNDEFINED
  FILE_RECORDS = UNK
  ENCODING_TYPE = "JP2"
  INTERCHANGE_FORMAT = BINARY
  UNCOMPRESSED_FILE_NAME = "H5855_0000_P13.IMG"
  REQUIRED_STORAGE_BYTES = "125936154"
  ^DESCRIPTION = "JP2INFO.TXT"
END_OBJECT = COMPRESSED_FILE
END
