PDS_VERSION_ID = PDS3
/* FILE DATA ELEMENTS */
RECORD_TYPE = STREAM
/* POINTERS TO DATA OBJECTS */
^COMPRESSED_FILE = "H5855_0000_P23.JP2"
/* IDENTIFICATION DATA ELEMENTS */
DATA_SET_ID = "MEX-M-HRSC-5-REFDR-MAPPROJECTED-V3.0"
DATA_SET_NAME = "MARS EXPRESS HRSC MAP PROJECTED REFDR V3.0"
DETECTOR_ID = MEX_HRSC_P2
EVENT_TYPE = "MARS-REGIONAL-MAPPING-Vo-Im-Pf"
INSTRUMENT_HOST_ID = MEX
INSTRUMENT_HOST_NAME = "MARS EXPRESS"
INSTRUMENT_ID = HRSC
INSTRUMENT_NAME = "HIGH RESOLUTION STEREO CAMERA"
MISSION_NAME = "MARS EXPRESS"
MISSION_PHASE_NAME = ME_Phase_14
PROCESSING_LEVEL_ID = 3
PRODUCT_CREATION_TIME = 2016-05-16T00:43:14.000Z
PRODUCT_ID = "H5855_0000_P23.JP2"
RELEASE_ID = 0066
REVISION_ID = 0000
/* QUALITY DATA ELEMENTS */
DATA_QUALITY_ID = 1
DATA_QUALITY_DESC = "Data calculated based on original SPICE kernels"
/* TIME DATA ELEMENTS */
SPACECRAFT_CLOCK_START_COUNT = "1/0164963562.09057"
SPACECRAFT_CLOCK_STOP_COUNT = "1/0164964244.54989"
START_TIME = 2008-07-24T07:13:16.020Z
STOP_TIME = 2008-07-24T07:17:43.662Z
/* ORBITAL DATA ELEMENTS */
ASCENDING_NODE_LONGITUDE = 106.79
MAXIMUM_RESOLUTION = 70.5
FOOTPRINT_POINT_LATITUDE = (79.9982,80.2144,80.387,80.4851,80.6008 ,80.7245,80.8545,80.3682,79.8438, 79.3121,79.0431,78.7396,78.4678,78.195, 77.7813,77.5044,77.2229,76.9376,76.5154 ,76.2281,75.7975,75.5115,75.0825, 74.7983,74.514,74.2306,73.9479,73.5249, 73.103,72.8232,72.4036,72.1245,71.8464, 71.5686,71.2915,71.0155,70.7397,70.4651 ,70.1905,69.9166,69.6435,69.371,69.0993 ,68.8282,68.5575,68.0187,67.4822, 66.9481,66.8877,66.8507,66.8251,66.7769 ,66.7389,66.6962,66.6165,66.5238, 66.4274,66.661,67.1862,67.7129,68.2421, 68.7736,69.0401,69.307,69.5747,69.8429, 70.1113,70.3806,70.6501,70.92,71.1903, 71.4613,71.7328,72.0046,72.2768,72.5495 ,72.8225,73.0959,73.3711,73.7812, 74.0558,74.3307,74.6059,74.8814,75.1568 ,75.4325,75.8447,76.1168,76.387,76.6551 ,76.9207,77.1842,77.4453,77.704,77.96, 78.2451,78.7457,79.238,79.7195,79.9982)
FOOTPRINT_POINT_LONGITUDE = (194.11,196.795,199.277,200.874,202.996 ,205.678,209.31,210.301,210.916,211.475 ,211.737,212.015,212.251,212.475, 212.795,212.995,213.194,213.39,213.646, 213.817,214.059,214.21,214.427,214.561, 214.691,214.816,214.934,215.104,215.264 ,215.364,215.509,215.602,215.69,215.776 ,215.858,215.937,216.013,216.087, 216.158,216.227,216.293,216.357,216.419 ,216.478,216.536,216.646,216.749, 216.845,215.817,214.161,213.337,212.107 ,211.289,210.474,209.156,207.847, 206.645,206.216,206.019,205.809,205.584 ,205.343,205.216,205.085,204.949, 204.808,204.662,204.511,204.354,204.191 ,204.023,203.848,203.666,203.477, 203.282,203.078,202.867,202.647,202.419 ,202.057,201.804,201.54,201.266,200.979 ,200.679,200.367,199.874,199.529, 199.172,198.802,198.419,198.02,197.605, 197.174,196.727,196.203,195.208,194.129 ,192.957,194.11)
ORBIT_NUMBER = 5855
ORBITAL_ECCENTRICITY = 0.57
ORBITAL_INCLINATION = 86.76
ORBITAL_SEMIMAJOR_AXIS = 8680.6
PERIAPSIS_ALTITUDE = 348.73
PERIAPSIS_ARGUMENT_ANGLE = 48.57
PERIAPSIS_TIME = 2008-07-24T07:00:08.000Z
SPACECRAFT_ORIENTATION = (0.0,1.0,0.0)
^MEX_ORIENTATION_DESC = "MEX_ORIENTATION_DESC.TXT"
SPACECRAFT_POINTING_MODE = NADIR
^MEX_POINTING_DESC = "MEX_POINTING_DESC.TXT"
RIGHT_ASCENSION = -1e+32
DECLINATION = -1e+32
OFFSET_ANGLE = -1e+32
SPACECRAFT_SOLAR_DISTANCE = 2.45416e+08
TARGET_NAME = MARS
/* CAMERA DATA ELEMENTS */
DETECTOR_TEMPERATURE = 18.1666
FOCAL_PLANE_TEMPERATURE = 7.156
INST_CMPRS_NAME = "DISCRETE COSINE TRANSFORMATION (DCT)"
INST_CMPRS_RATIO = 7.70126
INST_CMPRS_QUALITY = 0
INST_CMPRS_QUANTZ_TBL_ID = 0
INSTRUMENT_TEMPERATURE = 10.6223
LENS_TEMPERATURE = 7.7677
MACROPIXEL_SIZE = 2
MISSING_FRAMES = 4
PIXEL_SUBSAMPLING_FLAG = N
SIGNAL_CHAIN_ID = 3
/* RADIOMETRIC DATA ELEMENTS */
BANDWIDTH = 177.0
CENTER_FILTER_WAVELENGTH = 676.5
RADIANCE_OFFSET = 2.24573
RADIANCE_SCALING_FACTOR = 0.0286931
REFLECTANCE_SCALING_FACTOR = 0.000916304
MEX:REFLECTANCE_OFFSET = 0.0717166
/* IMAGE OBJECT DEFINITIONS */
OBJECT = IMAGE
  INTERCHANGE_FORMAT = BINARY
  LINES = 17019
  LINE_SAMPLES = 7398
  SAMPLE_TYPE = UNSIGNED_INTEGER
  SAMPLE_BITS = 8
  BANDS = 1
  BAND_STORAGE_TYPE = BAND_SEQUENTIAL
  MAXIMUM = 255
  MEAN = 69.1265
  MINIMUM = 1
  STANDARD_DEVIATION = 27.2659
END_OBJECT = IMAGE
/* MAP OBJECT DEFINITIONS */
OBJECT = IMAGE_MAP_PROJECTION
  ^DATA_SET_MAP_PROJECTION_CATALOG= "DSMAP.CAT"
  A_AXIS_RADIUS = 3396.0
  B_AXIS_RADIUS = 3396.0
  C_AXIS_RADIUS = 3396.0
  CENTER_LATITUDE = 0.0
  CENTER_LONGITUDE = 209.0
  COORDINATE_SYSTEM_NAME = PLANETOGRAPHIC
  COORDINATE_SYSTEM_TYPE = "BODY-FIXED ROTATING"
  EASTERNMOST_LONGITUDE = 216.845
  FIRST_STANDARD_PARALLEL = "N/A"
  LINE_FIRST_PIXEL = 1
  LINE_LAST_PIXEL = 17019
  LINE_PROJECTION_OFFSET = 95751.25
  MAP_PROJECTION_ROTATION = 0.0
  MAP_PROJECTION_TYPE = SINUSOIDAL
  MAP_RESOLUTION = 1185.42760773333
  MAP_SCALE = 0.05
  MAXIMUM_LATITUDE = 80.8545
  MINIMUM_LATITUDE = 66.42740000000001
  POSITIVE_LONGITUDE_DIRECTION = EAST
  REFERENCE_LATITUDE = "N/A"
  REFERENCE_LONGITUDE = "N/A"
  SAMPLE_FIRST_PIXEL = 1
  SAMPLE_LAST_PIXEL = 7398
  SAMPLE_PROJECTION_OFFSET = 3531.25
  SECOND_STANDARD_PARALLEL = "N/A"
  WESTERNMOST_LONGITUDE = 192.957
END_OBJECT = IMAGE_MAP_PROJECTION
/* The JPEG2000 image data file associated with this label. */
OBJECT = COMPRESSED_FILE
  FILE_NAME = "H5855_0000_P23.JP2"
  RECORD_TYPE = UNDEFINED
  FILE_RECORDS = UNK
  ENCODING_TYPE = "JP2"
  INTERCHANGE_FORMAT = BINARY
  UNCOMPRESSED_FILE_NAME = "H5855_0000_P23.IMG"
  REQUIRED_STORAGE_BYTES = "125936154"
  ^DESCRIPTION = "JP2INFO.TXT"
END_OBJECT = COMPRESSED_FILE
END
