PDS_VERSION_ID = PDS3
/* FILE DATA ELEMENTS */
RECORD_TYPE = STREAM
/* POINTERS TO DATA OBJECTS */
^COMPRESSED_FILE = "H5872_0000_IR3.JP2"
/* IDENTIFICATION DATA ELEMENTS */
DATA_SET_ID = "MEX-M-HRSC-5-REFDR-MAPPROJECTED-V3.0"
DATA_SET_NAME = "MARS EXPRESS HRSC MAP PROJECTED REFDR V3.0"
DETECTOR_ID = MEX_HRSC_IR
EVENT_TYPE = "MARS-REGIONAL-VARIABLE-Gl-La-Ot"
INSTRUMENT_HOST_ID = MEX
INSTRUMENT_HOST_NAME = "MARS EXPRESS"
INSTRUMENT_ID = HRSC
INSTRUMENT_NAME = "HIGH RESOLUTION STEREO CAMERA"
MISSION_NAME = "MARS EXPRESS"
MISSION_PHASE_NAME = ME_Phase_14
PROCESSING_LEVEL_ID = 3
PRODUCT_CREATION_TIME = 2016-05-16T00:43:14.000Z
PRODUCT_ID = "H5872_0000_IR3.JP2"
RELEASE_ID = 0066
REVISION_ID = 0000
/* QUALITY DATA ELEMENTS */
DATA_QUALITY_ID = 1
DATA_QUALITY_DESC = "Data calculated based on original SPICE kernels"
/* TIME DATA ELEMENTS */
SPACECRAFT_CLOCK_START_COUNT = "1/0165382266.09041"
SPACECRAFT_CLOCK_STOP_COUNT = "1/0165382828.61611"
START_TIME = 2008-07-29T03:33:23.730Z
STOP_TIME = 2008-07-29T03:39:53.173Z
/* ORBITAL DATA ELEMENTS */
ASCENDING_NODE_LONGITUDE = 106.45
MAXIMUM_RESOLUTION = 63.5
FOOTPRINT_POINT_LATITUDE = (83.0944,83.4967,83.7503,83.9421, 84.1418,84.2594,84.7274,85.3011,86.0091 ,86.2887,86.567,86.9733,87.2332,87.4825 ,87.7162,87.9273,88.1832,88.2971, 88.3527,88.343,88.2676,88.1337,87.9515, 87.7319,87.4839,87.2138,86.9277,86.4736 ,86.1583,85.8378,85.5159,85.1897,84.866 ,84.5389,84.2139,83.8868,83.5634, 83.2428,82.7605,82.4391,82.1186,81.7997 ,81.4822,81.1664,80.8522,80.5399, 80.2296,79.9201,79.6126,79.0773,79.0388 ,78.9492,78.7888,78.6387,78.5284, 78.3649,78.2459,78.1022,78.2917,78.8512 ,79.1315,79.4118,79.6921,79.9715, 80.2507,80.5288,80.8066,81.0831,81.3584 ,81.6321,81.903,82.1676,82.4314,82.6898 ,82.944,83.1922,83.4334,83.6663,83.997, 84.2019,84.3914,84.5637,84.7181,84.8532 ,85.0173,85.1326,85.1802,85.207,85.2097 ,85.1725,85.1204,85.005,84.9025,84.7222 ,84.5784,84.2621,83.9018,83.5082, 83.0879,83.0944)
FOOTPRINT_POINT_LONGITUDE = (177.939,173.291,169.673,166.401, 162.244,159.236,160.106,162.432,166.261 ,168.218,170.547,174.84,178.381,182.692 ,187.968,194.392,206.697,216.724, 227.859,239.39,250.426,260.264,268.626, 275.541,281.202,285.838,289.654,294.22, 296.672,298.742,300.506,302.02,303.338, 304.489,305.506,306.405,307.214,307.943 ,308.904,309.47,309.986,310.459,310.895 ,311.296,311.668,312.014,312.337, 312.636,312.917,312.694,310.682,307.373 ,303.28,300.343,298.495,296.085,294.514 ,292.781,291.207,289.987,289.32,288.611 ,287.856,287.056,286.2,285.288,284.307, 283.256,282.122,280.899,279.585,278.207 ,276.685,275.056,273.28,271.359,269.274 ,267.017,263.289,260.568,257.657, 254.579,251.327,247.899,242.49,236.824, 232.913,229.05,225.141,219.369,215.618, 210.224,206.779,201.987,198.962,193.531 ,188.756,184.598,180.975,177.939)
ORBIT_NUMBER = 5872
ORBITAL_ECCENTRICITY = 0.57
ORBITAL_INCLINATION = 86.75
ORBITAL_SEMIMAJOR_AXIS = 8682.37
PERIAPSIS_ALTITUDE = 347.96
PERIAPSIS_ARGUMENT_ANGLE = 45.59
PERIAPSIS_TIME = 2008-07-29T03:21:44.000Z
SPACECRAFT_ORIENTATION = (0.0,1.0,0.0)
^MEX_ORIENTATION_DESC = "MEX_ORIENTATION_DESC.TXT"
SPACECRAFT_POINTING_MODE = NADIR
^MEX_POINTING_DESC = "MEX_POINTING_DESC.TXT"
RIGHT_ASCENSION = -1e+32
DECLINATION = -1e+32
OFFSET_ANGLE = -1e+32
SPACECRAFT_SOLAR_DISTANCE = 2.44901e+08
TARGET_NAME = MARS
/* CAMERA DATA ELEMENTS */
DETECTOR_TEMPERATURE = 16.9432
FOCAL_PLANE_TEMPERATURE = 7.156
INST_CMPRS_NAME = "DISCRETE COSINE TRANSFORMATION (DCT)"
INST_CMPRS_RATIO = 8.66044
INST_CMPRS_QUALITY = 0
INST_CMPRS_QUANTZ_TBL_ID = 0
INSTRUMENT_TEMPERATURE = 11.0301
LENS_TEMPERATURE = 7.9716
MACROPIXEL_SIZE = 2
MISSING_FRAMES = 0
PIXEL_SUBSAMPLING_FLAG = N
SIGNAL_CHAIN_ID = 3
/* RADIOMETRIC DATA ELEMENTS */
BANDWIDTH = 81.0
CENTER_FILTER_WAVELENGTH = 955.5
RADIANCE_OFFSET = 0.444334
RADIANCE_SCALING_FACTOR = 0.00708875
REFLECTANCE_SCALING_FACTOR = 0.000917231
MEX:REFLECTANCE_OFFSET = 0.0574935
/* IMAGE OBJECT DEFINITIONS */
OBJECT = IMAGE
  INTERCHANGE_FORMAT = BINARY
  LINES = 16905
  LINE_SAMPLES = 15399
  SAMPLE_TYPE = UNSIGNED_INTEGER
  SAMPLE_BITS = 8
  BANDS = 1
  BAND_STORAGE_TYPE = BAND_SEQUENTIAL
  MAXIMUM = 255
  MEAN = 107.722
  MINIMUM = 1
  STANDARD_DEVIATION = 40.3422
END_OBJECT = IMAGE
/* MAP OBJECT DEFINITIONS */
OBJECT = IMAGE_MAP_PROJECTION
  ^DATA_SET_MAP_PROJECTION_CATALOG= "DSMAP.CAT"
  A_AXIS_RADIUS = 3396.0
  B_AXIS_RADIUS = 3396.0
  C_AXIS_RADIUS = 3396.0
  CENTER_LATITUDE = 90.0
  CENTER_LONGITUDE = 0.0
  COORDINATE_SYSTEM_NAME = PLANETOGRAPHIC
  COORDINATE_SYSTEM_TYPE = "BODY-FIXED ROTATING"
  EASTERNMOST_LONGITUDE = 312.917
  FIRST_STANDARD_PARALLEL = "N/A"
  LINE_FIRST_PIXEL = 1
  LINE_LAST_PIXEL = 16905
  LINE_PROJECTION_OFFSET = 8360.75
  MAP_PROJECTION_ROTATION = 0.0
  MAP_PROJECTION_TYPE = STEREOGRAPHIC
  MAP_RESOLUTION = 1185.42760773333
  MAP_SCALE = 0.05
  MAXIMUM_LATITUDE = 88.3527
  MINIMUM_LATITUDE = 78.1022
  POSITIVE_LONGITUDE_DIRECTION = EAST
  REFERENCE_LATITUDE = "N/A"
  REFERENCE_LONGITUDE = "N/A"
  SAMPLE_FIRST_PIXEL = 1
  SAMPLE_LAST_PIXEL = 15399
  SAMPLE_PROJECTION_OFFSET = 13018.25
  SECOND_STANDARD_PARALLEL = "N/A"
  WESTERNMOST_LONGITUDE = 159.236
END_OBJECT = IMAGE_MAP_PROJECTION
/* The JPEG2000 image data file associated with this label. */
OBJECT = COMPRESSED_FILE
  FILE_NAME = "H5872_0000_IR3.JP2"
  RECORD_TYPE = UNDEFINED
  FILE_RECORDS = UNK
  ENCODING_TYPE = "JP2"
  INTERCHANGE_FORMAT = BINARY
  UNCOMPRESSED_FILE_NAME = "H5872_0000_IR3.IMG"
  REQUIRED_STORAGE_BYTES = "260366292"
  ^DESCRIPTION = "JP2INFO.TXT"
END_OBJECT = COMPRESSED_FILE
END
