PDS_VERSION_ID = PDS3
/* FILE DATA ELEMENTS */
RECORD_TYPE = STREAM
/* POINTERS TO DATA OBJECTS */
^COMPRESSED_FILE = "H5888_0000_IR3.JP2"
/* IDENTIFICATION DATA ELEMENTS */
DATA_SET_ID = "MEX-M-HRSC-5-REFDR-MAPPROJECTED-V3.0"
DATA_SET_NAME = "MARS EXPRESS HRSC MAP PROJECTED REFDR V3.0"
DETECTOR_ID = MEX_HRSC_IR
EVENT_TYPE = "MARS-REGIONAL-VARIABLE-Gl-La-Ot"
INSTRUMENT_HOST_ID = MEX
INSTRUMENT_HOST_NAME = "MARS EXPRESS"
INSTRUMENT_ID = HRSC
INSTRUMENT_NAME = "HIGH RESOLUTION STEREO CAMERA"
MISSION_NAME = "MARS EXPRESS"
MISSION_PHASE_NAME = ME_Phase_14
PROCESSING_LEVEL_ID = 3
PRODUCT_CREATION_TIME = 2016-05-16T00:43:14.000Z
PRODUCT_ID = "H5888_0000_IR3.JP2"
RELEASE_ID = 0066
REVISION_ID = 0000
/* QUALITY DATA ELEMENTS */
DATA_QUALITY_ID = 1
DATA_QUALITY_DESC = "Data calculated based on original SPICE kernels"
/* TIME DATA ELEMENTS */
SPACECRAFT_CLOCK_START_COUNT = "1/0165776570.09058"
SPACECRAFT_CLOCK_STOP_COUNT = "1/0165777037.18071"
START_TIME = 2008-08-02T17:05:25.772Z
STOP_TIME = 2008-08-02T17:10:04.159Z
/* ORBITAL DATA ELEMENTS */
ASCENDING_NODE_LONGITUDE = 106.13
MAXIMUM_RESOLUTION = 70.1
FOOTPRINT_POINT_LATITUDE = (83.4597,83.7362,83.9454,84.2516,84.441 ,84.6494,84.7535,84.857,85.1594,85.6656 ,85.9666,86.4637,86.7587,87.142,87.5097 ,87.7689,87.9298,88.0786,88.2115, 88.3244,88.4125,88.4713,88.4968,88.4869 ,88.4417,88.3641,88.2573,88.0546, 87.8949,87.7208,87.5357,87.3419,87.1381 ,86.8229,86.6049,86.2762,86.0519, 85.8307,85.6043,85.3795,85.1538,84.9325 ,84.7058,84.4808,84.2557,84.031,83.6939 ,83.4699,83.2639,83.1894,83.1079, 83.0133,82.8477,82.722,82.5847,82.398, 82.1317,81.9556,81.7707,81.6186,81.8015 ,81.9831,82.1632,82.3413,82.6041, 82.7758,83.0291,83.2752,83.4341,83.5899 ,83.8138,83.9571,84.0946,84.2874, 84.4057,84.5154,84.6163,84.7079,84.7898 ,84.8616,84.9232,84.9743,85.0147, 85.0443,85.0631,85.0709,85.0681,85.0547 ,85.0307,84.9968,84.9001,84.7673, 84.6023,84.4595,84.3022,84.0118,83.7578 ,83.5565,83.3473,83.4597)
FOOTPRINT_POINT_LONGITUDE = (380.204,377.414,375.001,370.829, 367.718,363.596,361.134,358.283,358.632 ,360.841,362.428,365.693,368.174, 372.266,377.667,382.889,387.09,391.996, 397.693,404.251,411.722,419.913,428.613 ,437.443,445.989,453.911,461.037,470.06 ,475.07,479.364,483.041,486.204,488.945 ,492.401,494.354,496.844,498.263, 499.527,500.654,501.668,502.583,503.42, 504.175,504.867,505.502,506.086,506.879 ,507.359,505.999,502.95,500.303,497.727 ,494.001,491.615,489.31,486.546,483.152 ,481.174,479.277,477.822,476.914, 475.958,474.95,473.891,472.199,471.005, 469.074,466.981,465.503,463.918,461.411 ,459.608,457.709,454.698,452.595, 450.407,448.14,445.802,443.392,440.921, 438.395,435.825,433.215,430.58,427.927, 425.275,422.634,420.011,417.415,414.861 ,409.919,405.229,400.843,397.76,394.86, 390.427,387.225,385.011,382.949, 380.204)
ORBIT_NUMBER = 5888
ORBITAL_ECCENTRICITY = 0.57
ORBITAL_INCLINATION = 86.75
ORBITAL_SEMIMAJOR_AXIS = 8685.02
PERIAPSIS_ALTITUDE = 346.9
PERIAPSIS_ARGUMENT_ANGLE = 42.74
PERIAPSIS_TIME = 2008-08-02T16:52:33.000Z
SPACECRAFT_ORIENTATION = (0.0,1.0,0.0)
^MEX_ORIENTATION_DESC = "MEX_ORIENTATION_DESC.TXT"
SPACECRAFT_POINTING_MODE = NADIR
^MEX_POINTING_DESC = "MEX_POINTING_DESC.TXT"
RIGHT_ASCENSION = -1e+32
DECLINATION = -1e+32
OFFSET_ANGLE = -1e+32
SPACECRAFT_SOLAR_DISTANCE = 2.44388e+08
TARGET_NAME = MARS
/* CAMERA DATA ELEMENTS */
DETECTOR_TEMPERATURE = 17.351
FOCAL_PLANE_TEMPERATURE = 7.9716
INST_CMPRS_NAME = "DISCRETE COSINE TRANSFORMATION (DCT)"
INST_CMPRS_RATIO = 10.3124
INST_CMPRS_QUALITY = 0
INST_CMPRS_QUANTZ_TBL_ID = 0
INSTRUMENT_TEMPERATURE = 11.234
LENS_TEMPERATURE = 8.3794
MACROPIXEL_SIZE = 2
MISSING_FRAMES = 0
PIXEL_SUBSAMPLING_FLAG = N
SIGNAL_CHAIN_ID = 3
/* RADIOMETRIC DATA ELEMENTS */
BANDWIDTH = 81.0
CENTER_FILTER_WAVELENGTH = 955.5
RADIANCE_OFFSET = 0.404664
RADIANCE_SCALING_FACTOR = 0.00551815
REFLECTANCE_SCALING_FACTOR = 0.000711018
MEX:REFLECTANCE_OFFSET = 0.0521413
/* IMAGE OBJECT DEFINITIONS */
OBJECT = IMAGE
  INTERCHANGE_FORMAT = BINARY
  LINES = 13958
  LINE_SAMPLES = 8546
  SAMPLE_TYPE = UNSIGNED_INTEGER
  SAMPLE_BITS = 8
  BANDS = 1
  BAND_STORAGE_TYPE = BAND_SEQUENTIAL
  MAXIMUM = 255
  MEAN = 155.424
  MINIMUM = 1
  STANDARD_DEVIATION = 34.4937
END_OBJECT = IMAGE
/* MAP OBJECT DEFINITIONS */
OBJECT = IMAGE_MAP_PROJECTION
  ^DATA_SET_MAP_PROJECTION_CATALOG= "DSMAP.CAT"
  A_AXIS_RADIUS = 3396.0
  B_AXIS_RADIUS = 3396.0
  C_AXIS_RADIUS = 3396.0
  CENTER_LATITUDE = 90.0
  CENTER_LONGITUDE = 0.0
  COORDINATE_SYSTEM_NAME = PLANETOGRAPHIC
  COORDINATE_SYSTEM_TYPE = "BODY-FIXED ROTATING"
  EASTERNMOST_LONGITUDE = 147.359
  FIRST_STANDARD_PARALLEL = "N/A"
  LINE_FIRST_PIXEL = 1
  LINE_LAST_PIXEL = 13958
  LINE_PROJECTION_OFFSET = 6497.25
  MAP_PROJECTION_ROTATION = 0.0
  MAP_PROJECTION_TYPE = STEREOGRAPHIC
  MAP_RESOLUTION = 1185.42760773333
  MAP_SCALE = 0.05
  MAXIMUM_LATITUDE = 88.49679999999999
  MINIMUM_LATITUDE = 81.6186
  POSITIVE_LONGITUDE_DIRECTION = EAST
  REFERENCE_LATITUDE = "N/A"
  REFERENCE_LONGITUDE = "N/A"
  SAMPLE_FIRST_PIXEL = 1
  SAMPLE_LAST_PIXEL = 8546
  SAMPLE_PROJECTION_OFFSET = 59.25
  SECOND_STANDARD_PARALLEL = "N/A"
  WESTERNMOST_LONGITUDE = -1.717
END_OBJECT = IMAGE_MAP_PROJECTION
/* The JPEG2000 image data file associated with this label. */
OBJECT = COMPRESSED_FILE
  FILE_NAME = "H5888_0000_IR3.JP2"
  RECORD_TYPE = UNDEFINED
  FILE_RECORDS = UNK
  ENCODING_TYPE = "JP2"
  INTERCHANGE_FORMAT = BINARY
  UNCOMPRESSED_FILE_NAME = "H5888_0000_IR3.IMG"
  REQUIRED_STORAGE_BYTES = "119319252"
  ^DESCRIPTION = "JP2INFO.TXT"
END_OBJECT = COMPRESSED_FILE
END
