PDS_VERSION_ID = PDS3
/* FILE DATA ELEMENTS */
RECORD_TYPE = STREAM
/* POINTERS TO DATA OBJECTS */
^COMPRESSED_FILE = "H5904_0000_S23.JP2"
/* IDENTIFICATION DATA ELEMENTS */
DATA_SET_ID = "MEX-M-HRSC-5-REFDR-MAPPROJECTED-V3.0"
DATA_SET_NAME = "MARS EXPRESS HRSC MAP PROJECTED REFDR V3.0"
DETECTOR_ID = MEX_HRSC_S2
EVENT_TYPE = "MARS-REGIONAL-VARIABLE-Gl-La-Ot"
INSTRUMENT_HOST_ID = MEX
INSTRUMENT_HOST_NAME = "MARS EXPRESS"
INSTRUMENT_ID = HRSC
INSTRUMENT_NAME = "HIGH RESOLUTION STEREO CAMERA"
MISSION_NAME = "MARS EXPRESS"
MISSION_PHASE_NAME = ME_Phase_14
PROCESSING_LEVEL_ID = 3
PRODUCT_CREATION_TIME = 2016-05-16T03:10:51.000Z
PRODUCT_ID = "H5904_0000_S23.JP2"
RELEASE_ID = 0067
REVISION_ID = 0000
/* QUALITY DATA ELEMENTS */
DATA_QUALITY_ID = 1
DATA_QUALITY_DESC = "Data calculated based on original SPICE kernels"
/* TIME DATA ELEMENTS */
SPACECRAFT_CLOCK_START_COUNT = "1/0166170978.09056"
SPACECRAFT_CLOCK_STOP_COUNT = "1/0166171544.15132"
START_TIME = 2008-08-07T06:36:21.770Z
STOP_TIME = 2008-08-07T06:39:27.014Z
/* ORBITAL DATA ELEMENTS */
ASCENDING_NODE_LONGITUDE = 105.81
MAXIMUM_RESOLUTION = 71.5
FOOTPRINT_POINT_LATITUDE = (85.2264,85.6344,85.8778,86.0931, 86.3075,86.5206,86.7321,86.9418,87.1495 ,87.3549,87.5573,87.9256,87.8332, 87.6534,87.3816,87.1587,86.6717,86.3316 ,85.9742,85.6033,85.2305,84.9343, 84.6427,84.2506,84.049,83.6527,83.4497, 83.2448,83.0386,82.8305,82.6217,82.4105 ,82.1988,81.986,81.7728,81.4526,81.2393 ,81.0259,80.8124,80.5993,80.3863, 80.0672,79.8547,79.6367,79.32,79.1047, 78.8947,78.6834,78.4709,78.2621,78.2386 ,78.1998,78.1466,78.1063,78.0448, 77.9856,77.9114,77.829,77.6693,77.5554, 77.3904,77.2678,77.4658,77.7626,77.9603 ,78.1575,78.3539,78.5509,78.7473, 78.9434,79.1389,79.3342,79.5288,79.7227 ,79.916,80.109,80.3959,80.5864,80.7777, 80.9669,81.1522,81.4253,81.606,81.784, 81.9585,82.1299,82.4626,82.7067,82.8667 ,83.175,83.4734,83.686,83.8891,84.0794, 84.3178,84.5369,84.7322,84.9829,85.1153 ,85.2264)
FOOTPRINT_POINT_LONGITUDE = (279.155,280.32,281.137,281.953,282.87, 283.906,285.083,286.428,287.978,289.78, 291.892,296.984,303.459,309.187,315.534 ,319.481,325.844,329.059,331.798, 334.129,336.04,337.384,338.521,339.846, 340.467,341.531,342.03,342.504,342.951, 343.375,343.776,344.159,344.521,344.862 ,345.187,345.643,345.928,346.198, 346.456,346.701,346.934,347.264,347.471 ,347.683,347.96,348.146,348.312,348.474 ,348.633,348.782,347.709,346.28,344.688 ,343.637,342.251,341.05,339.693,338.355 ,336.056,334.612,332.728,331.444,331.11 ,330.586,330.22,329.842,329.449,329.041 ,328.617,328.177,327.719,327.243, 326.748,326.232,325.695,325.134,324.25, 323.628,322.975,322.296,321.593,320.489 ,319.712,318.905,318.067,317.196, 315.355,313.866,312.818,310.596,308.162 ,306.208,304.133,301.953,298.836, 295.473,291.889,286.036,281.902, 279.155)
ORBIT_NUMBER = 5904
ORBITAL_ECCENTRICITY = 0.57
ORBITAL_INCLINATION = 86.76
ORBITAL_SEMIMAJOR_AXIS = 8687.1
PERIAPSIS_ALTITUDE = 344.76
PERIAPSIS_ARGUMENT_ANGLE = 39.94
PERIAPSIS_TIME = 2008-08-07T06:23:30.000Z
SPACECRAFT_ORIENTATION = (0.0,1.0,0.0)
^MEX_ORIENTATION_DESC = "MEX_ORIENTATION_DESC.TXT"
SPACECRAFT_POINTING_MODE = NADIR
^MEX_POINTING_DESC = "MEX_POINTING_DESC.TXT"
RIGHT_ASCENSION = -1e+32
DECLINATION = -1e+32
OFFSET_ANGLE = -1e+32
SPACECRAFT_SOLAR_DISTANCE = 2.43849e+08
TARGET_NAME = MARS
/* CAMERA DATA ELEMENTS */
DETECTOR_TEMPERATURE = 18.1666
FOCAL_PLANE_TEMPERATURE = 7.156
INST_CMPRS_NAME = "DISCRETE COSINE TRANSFORMATION (DCT)"
INST_CMPRS_RATIO = 9.93532
INST_CMPRS_QUALITY = 0
INST_CMPRS_QUANTZ_TBL_ID = 0
INSTRUMENT_TEMPERATURE = 10.8262
LENS_TEMPERATURE = 7.7677
MACROPIXEL_SIZE = 2
MISSING_FRAMES = 0
PIXEL_SUBSAMPLING_FLAG = N
SIGNAL_CHAIN_ID = 1
/* RADIOMETRIC DATA ELEMENTS */
BANDWIDTH = 178.0
CENTER_FILTER_WAVELENGTH = 679.0
RADIANCE_OFFSET = 1.62418
RADIANCE_SCALING_FACTOR = 0.0363722
REFLECTANCE_SCALING_FACTOR = 0.00114535
MEX:REFLECTANCE_OFFSET = 0.051145
/* IMAGE OBJECT DEFINITIONS */
OBJECT = IMAGE
  INTERCHANGE_FORMAT = BINARY
  LINES = 6385
  LINE_SAMPLES = 5041
  SAMPLE_TYPE = UNSIGNED_INTEGER
  SAMPLE_BITS = 8
  BANDS = 1
  BAND_STORAGE_TYPE = BAND_SEQUENTIAL
  MAXIMUM = 255
  MEAN = 119.14
  MINIMUM = 1
  STANDARD_DEVIATION = 47.1527
END_OBJECT = IMAGE
/* MAP OBJECT DEFINITIONS */
OBJECT = IMAGE_MAP_PROJECTION
  ^DATA_SET_MAP_PROJECTION_CATALOG= "DSMAP.CAT"
  A_AXIS_RADIUS = 3396.0
  B_AXIS_RADIUS = 3396.0
  C_AXIS_RADIUS = 3396.0
  CENTER_LATITUDE = 0.0
  CENTER_LONGITUDE = 329.0
  COORDINATE_SYSTEM_NAME = PLANETOGRAPHIC
  COORDINATE_SYSTEM_TYPE = "BODY-FIXED ROTATING"
  EASTERNMOST_LONGITUDE = 348.782
  FIRST_STANDARD_PARALLEL = "N/A"
  LINE_FIRST_PIXEL = 1
  LINE_LAST_PIXEL = 6385
  LINE_PROJECTION_OFFSET = 52155.75
  MAP_PROJECTION_ROTATION = 0.0
  MAP_PROJECTION_TYPE = SINUSOIDAL
  MAP_RESOLUTION = 592.713803866667
  MAP_SCALE = 0.1
  MAXIMUM_LATITUDE = 87.9256
  MINIMUM_LATITUDE = 77.26779999999999
  POSITIVE_LONGITUDE_DIRECTION = EAST
  REFERENCE_LATITUDE = "N/A"
  REFERENCE_LONGITUDE = "N/A"
  SAMPLE_FIRST_PIXEL = 1
  SAMPLE_LAST_PIXEL = 5041
  SAMPLE_PROJECTION_OFFSET = 2561.25
  SECOND_STANDARD_PARALLEL = "N/A"
  WESTERNMOST_LONGITUDE = 279.155
END_OBJECT = IMAGE_MAP_PROJECTION
/* The JPEG2000 image data file associated with this label. */
OBJECT = COMPRESSED_FILE
  FILE_NAME = "H5904_0000_S23.JP2"
  RECORD_TYPE = UNDEFINED
  FILE_RECORDS = UNK
  ENCODING_TYPE = "JP2"
  INTERCHANGE_FORMAT = BINARY
  UNCOMPRESSED_FILE_NAME = "H5904_0000_S23.IMG"
  REQUIRED_STORAGE_BYTES = "32211990"
  ^DESCRIPTION = "JP2INFO.TXT"
END_OBJECT = COMPRESSED_FILE
END
