PDS_VERSION_ID = PDS3
/* FILE DATA ELEMENTS */
RECORD_TYPE = STREAM
/* POINTERS TO DATA OBJECTS */
^COMPRESSED_FILE = "H5918_0000_GR3.JP2"
/* IDENTIFICATION DATA ELEMENTS */
DATA_SET_ID = "MEX-M-HRSC-5-REFDR-MAPPROJECTED-V3.0"
DATA_SET_NAME = "MARS EXPRESS HRSC MAP PROJECTED REFDR V3.0"
DETECTOR_ID = MEX_HRSC_GREEN
EVENT_TYPE = "MARS-REGIONAL-VARIABLE-Gl-La-Ot"
INSTRUMENT_HOST_ID = MEX
INSTRUMENT_HOST_NAME = "MARS EXPRESS"
INSTRUMENT_ID = HRSC
INSTRUMENT_NAME = "HIGH RESOLUTION STEREO CAMERA"
MISSION_NAME = "MARS EXPRESS"
MISSION_PHASE_NAME = ME_Phase_14
PROCESSING_LEVEL_ID = 3
PRODUCT_CREATION_TIME = 2016-05-16T03:10:51.000Z
PRODUCT_ID = "H5918_0000_GR3.JP2"
RELEASE_ID = 0067
REVISION_ID = 0000
/* QUALITY DATA ELEMENTS */
DATA_QUALITY_ID = 1
DATA_QUALITY_DESC = "Data calculated based on original SPICE kernels"
/* TIME DATA ELEMENTS */
SPACECRAFT_CLOCK_START_COUNT = "1/0166515834.09078"
SPACECRAFT_CLOCK_STOP_COUNT = "1/0166516557.26562"
START_TIME = 2008-08-11T06:25:33.067Z
STOP_TIME = 2008-08-11T06:32:17.970Z
/* ORBITAL DATA ELEMENTS */
ASCENDING_NODE_LONGITUDE = 105.52
MAXIMUM_RESOLUTION = 65
FOOTPRINT_POINT_LATITUDE = (81.7012,81.8167,81.912,81.9858,82.0367 ,82.0635,82.4479,82.8553,83.2635, 83.6697,84.0741,84.4764,85.0775,85.4756 ,85.8716,86.2652,86.6576,87.0474, 87.4349,87.8201,88.2025,88.5812,88.9542 ,89.3154,89.6333,89.7057,89.4335,89.087 ,88.7271,88.3638,88.0,87.6365,87.2741, 86.9129,86.5532,86.195,85.8382,85.4832, 85.1296,84.7777,84.4275,83.7318,83.0427 ,82.3602,81.6843,81.0153,80.3524, 79.6959,79.5588,79.5686,79.5467,79.502, 79.4422,79.3813,79.3091,79.2264,79.0695 ,78.9256,79.5439,80.1648,80.7872, 81.4093,82.0303,82.6477,83.2582,83.8576 ,84.4397,84.8597,85.1279,85.3861, 85.6311,85.8601,86.0699,86.2566,86.4161 ,86.5443,86.6364,86.6894,86.7006, 86.6688,86.5949,86.4806,86.3294,86.1448 ,85.9311,85.6917,85.4308,85.1508, 84.8549,84.5445,84.2227,83.89,83.5484, 83.1987,82.8411,82.4772,81.923,81.5527, 81.7012)
FOOTPRINT_POINT_LONGITUDE = (232.604,229.734,226.755,223.685,220.53 ,217.299,214.903,214.778,214.639, 214.482,214.306,214.1,213.781,213.513, 213.187,212.769,212.307,211.691,210.896 ,209.835,208.329,206.029,202.09,193.973 ,170.279,101.77,64.9495,53.861,48.9758, 46.2802,44.5545,43.3546,42.4775,41.8104 ,41.2802,40.8702,40.5077,40.2124, 39.9575,39.7377,39.5449,39.2202,38.9585 ,38.7453,38.5697,38.4335,38.3044, 38.1897,35.6059,33.0411,29.242,26.4885, 24.0292,22.0905,20.1826,18.3101,15.3436 ,13.0467,12.0672,10.9395,9.6332,8.11324 ,6.32143,4.19155,1.63184,358.52,354.69, 351.214,348.564,345.578,342.228,338.47, 334.265,329.591,324.432,318.801,312.794 ,306.471,299.991,293.522,287.231, 281.246,275.671,270.559,265.932,261.773 ,258.06,254.747,251.798,249.161,246.813 ,244.707,242.82,241.12,239.58,238.186, 236.339,235.256,232.604)
ORBIT_NUMBER = 5918
ORBITAL_ECCENTRICITY = 0.571
ORBITAL_INCLINATION = 86.74
ORBITAL_SEMIMAJOR_AXIS = 8698.76
PERIAPSIS_ALTITUDE = 343.18
PERIAPSIS_ARGUMENT_ANGLE = 37.48
PERIAPSIS_TIME = 2008-08-11T06:13:00.000Z
SPACECRAFT_ORIENTATION = (0.0,1.0,0.0)
^MEX_ORIENTATION_DESC = "MEX_ORIENTATION_DESC.TXT"
SPACECRAFT_POINTING_MODE = ACROSSTRACK
^MEX_POINTING_DESC = "MEX_POINTING_DESC.TXT"
RIGHT_ASCENSION = -1e+32
DECLINATION = -1e+32
OFFSET_ANGLE = 1.67
SPACECRAFT_SOLAR_DISTANCE = 2.43357e+08
TARGET_NAME = MARS
/* CAMERA DATA ELEMENTS */
DETECTOR_TEMPERATURE = 18.1666
FOCAL_PLANE_TEMPERATURE = 7.5638
INST_CMPRS_NAME = "DISCRETE COSINE TRANSFORMATION (DCT)"
INST_CMPRS_RATIO = 10.8329
INST_CMPRS_QUALITY = 0
INST_CMPRS_QUANTZ_TBL_ID = 0
INSTRUMENT_TEMPERATURE = 11.0301
LENS_TEMPERATURE = 7.7677
MACROPIXEL_SIZE = 2
MISSING_FRAMES = 0
PIXEL_SUBSAMPLING_FLAG = N
SIGNAL_CHAIN_ID = 2
/* RADIOMETRIC DATA ELEMENTS */
BANDWIDTH = 88.0
CENTER_FILTER_WAVELENGTH = 538.0
RADIANCE_OFFSET = 0.740746
RADIANCE_SCALING_FACTOR = 0.0199711
REFLECTANCE_SCALING_FACTOR = 0.0010183
MEX:REFLECTANCE_OFFSET = 0.0377698
/* IMAGE OBJECT DEFINITIONS */
OBJECT = IMAGE
  INTERCHANGE_FORMAT = BINARY
  LINES = 20416
  LINE_SAMPLES = 15788
  SAMPLE_TYPE = UNSIGNED_INTEGER
  SAMPLE_BITS = 8
  BANDS = 1
  BAND_STORAGE_TYPE = BAND_SEQUENTIAL
  MAXIMUM = 255
  MEAN = 106.744
  MINIMUM = 1
  STANDARD_DEVIATION = 41.4527
END_OBJECT = IMAGE
/* MAP OBJECT DEFINITIONS */
OBJECT = IMAGE_MAP_PROJECTION
  ^DATA_SET_MAP_PROJECTION_CATALOG= "DSMAP.CAT"
  A_AXIS_RADIUS = 3396.0
  B_AXIS_RADIUS = 3396.0
  C_AXIS_RADIUS = 3396.0
  CENTER_LATITUDE = 90.0
  CENTER_LONGITUDE = 0.0
  COORDINATE_SYSTEM_NAME = PLANETOGRAPHIC
  COORDINATE_SYSTEM_TYPE = "BODY-FIXED ROTATING"
  EASTERNMOST_LONGITUDE = 360.0
  FIRST_STANDARD_PARALLEL = "N/A"
  LINE_FIRST_PIXEL = 1
  LINE_LAST_PIXEL = 20416
  LINE_PROJECTION_OFFSET = 7641.25
  MAP_PROJECTION_ROTATION = 0.0
  MAP_PROJECTION_TYPE = STEREOGRAPHIC
  MAP_RESOLUTION = 1185.42760773333
  MAP_SCALE = 0.05
  MAXIMUM_LATITUDE = 90.0
  MINIMUM_LATITUDE = 78.9256
  POSITIVE_LONGITUDE_DIRECTION = EAST
  REFERENCE_LATITUDE = "N/A"
  REFERENCE_LONGITUDE = "N/A"
  SAMPLE_FIRST_PIXEL = 1
  SAMPLE_LAST_PIXEL = 15788
  SAMPLE_PROJECTION_OFFSET = 8237.75
  SECOND_STANDARD_PARALLEL = "N/A"
  WESTERNMOST_LONGITUDE = 0.0
END_OBJECT = IMAGE_MAP_PROJECTION
/* The JPEG2000 image data file associated with this label. */
OBJECT = COMPRESSED_FILE
  FILE_NAME = "H5918_0000_GR3.JP2"
  RECORD_TYPE = UNDEFINED
  FILE_RECORDS = UNK
  ENCODING_TYPE = "JP2"
  INTERCHANGE_FORMAT = BINARY
  UNCOMPRESSED_FILE_NAME = "H5918_0000_GR3.IMG"
  REQUIRED_STORAGE_BYTES = "322375172"
  ^DESCRIPTION = "JP2INFO.TXT"
END_OBJECT = COMPRESSED_FILE
END
