PDS_VERSION_ID = PDS3
/* FILE DATA ELEMENTS */
RECORD_TYPE = STREAM
/* POINTERS TO DATA OBJECTS */
^COMPRESSED_FILE = "H5959_0000_S13.JP2"
/* IDENTIFICATION DATA ELEMENTS */
DATA_SET_ID = "MEX-M-HRSC-5-REFDR-MAPPROJECTED-V3.0"
DATA_SET_NAME = "MARS EXPRESS HRSC MAP PROJECTED REFDR V3.0"
DETECTOR_ID = MEX_HRSC_S1
EVENT_TYPE = "MARS-REGIONAL-VARIABLE-Gl-La-Ot"
INSTRUMENT_HOST_ID = MEX
INSTRUMENT_HOST_NAME = "MARS EXPRESS"
INSTRUMENT_ID = HRSC
INSTRUMENT_NAME = "HIGH RESOLUTION STEREO CAMERA"
MISSION_NAME = "MARS EXPRESS"
MISSION_PHASE_NAME = ME_Phase_14
PROCESSING_LEVEL_ID = 3
PRODUCT_CREATION_TIME = 2016-05-16T03:10:51.000Z
PRODUCT_ID = "H5959_0000_S13.JP2"
RELEASE_ID = 0067
REVISION_ID = 0000
/* QUALITY DATA ELEMENTS */
DATA_QUALITY_ID = 1
DATA_QUALITY_DESC = "Data calculated based on original SPICE kernels"
/* TIME DATA ELEMENTS */
SPACECRAFT_CLOCK_START_COUNT = "1/0167526270.09054"
SPACECRAFT_CLOCK_STOP_COUNT = "1/0167526971.44170"
START_TIME = 2008-08-22T23:08:30.218Z
STOP_TIME = 2008-08-22T23:16:13.308Z
/* ORBITAL DATA ELEMENTS */
ASCENDING_NODE_LONGITUDE = 104.7
MAXIMUM_RESOLUTION = 95.4
FOOTPRINT_POINT_LATITUDE = (80.1002,80.2421,80.3762,80.5021,80.702 ,80.804,80.8966,80.9798,81.0533,81.1168 ,81.1701,81.0396,81.3827,81.8992, 82.2356,82.5731,82.9057,83.2363,83.5654 ,83.891,84.2144,84.5331,85.0105,85.3243 ,85.6359,85.9449,86.2498,86.7065,87.004 ,87.451,87.7422,88.0302,88.3132,88.5905 ,88.8591,89.1132,89.3392,89.5019, 89.5339,89.4164,88.9832,88.4836,87.9715 ,87.4605,86.9553,86.4553,85.96,85.472, 84.9912,84.5205,84.4994,84.4743,84.4317 ,84.3173,84.1742,84.0035,83.7939, 83.5244,83.3604,83.1511,82.8531,82.5353 ,82.1997,82.0809,82.3923,82.6924, 82.9783,83.2466,83.4931,83.7133,83.9023 ,84.0548,84.1655,84.2297,84.2433, 84.2033,84.1358,84.0755,84.0006,83.862, 83.7544,83.5664,83.4266,83.2752,83.1119 ,82.9377,82.7532,82.5586,82.3542, 82.1411,81.919,81.689,81.4506,81.2049, 80.952,80.692,80.4255,80.1523,79.8731, 80.1002)
FOOTPRINT_POINT_LONGITUDE = (98.3525,96.8099,95.2235,93.5928, 90.6353,88.8905,87.1081,85.2882,83.4327 ,81.5456,79.6305,77.849,77.9726,78.1969 ,78.344,78.5156,78.6922,78.886,79.1021, 79.3337,79.5897,79.8606,80.3493,80.7165 ,81.1343,81.61,82.1442,83.1628,83.9609, 85.5783,86.9463,88.7116,91.0417,94.2794 ,99.0178,106.477,119.301,142.37,175.813 ,203.644,228.678,237.933,242.504, 245.212,247.011,248.292,249.247,249.997 ,250.606,251.122,245.975,241.464, 238.279,232.708,227.983,223.486,219.275 ,214.865,212.569,209.958,206.708, 203.709,200.944,197.755,195.291,192.568 ,189.557,186.234,182.578,178.575, 174.223,169.534,164.547,159.312,153.922 ,148.466,144.369,141.704,139.066, 135.196,132.71,129.091,126.786,124.567, 122.43,120.38,118.419,116.545,114.755, 113.05,111.425,109.88,108.409,107.011, 105.681,104.417,103.215,102.072,100.985 ,98.3525)
ORBIT_NUMBER = 5959
ORBITAL_ECCENTRICITY = 0.572
ORBITAL_INCLINATION = 86.76
ORBITAL_SEMIMAJOR_AXIS = 8712.63
PERIAPSIS_ALTITUDE = 338.26
PERIAPSIS_ARGUMENT_ANGLE = 30.26
PERIAPSIS_TIME = 2008-08-22T22:51:50.000Z
SPACECRAFT_ORIENTATION = (0.0,1.0,0.0)
^MEX_ORIENTATION_DESC = "MEX_ORIENTATION_DESC.TXT"
SPACECRAFT_POINTING_MODE = NADIR
^MEX_POINTING_DESC = "MEX_POINTING_DESC.TXT"
RIGHT_ASCENSION = -1e+32
DECLINATION = -1e+32
OFFSET_ANGLE = -1e+32
SPACECRAFT_SOLAR_DISTANCE = 2.41807e+08
TARGET_NAME = MARS
/* CAMERA DATA ELEMENTS */
DETECTOR_TEMPERATURE = 16.9432
FOCAL_PLANE_TEMPERATURE = 7.7677
INST_CMPRS_NAME = "DISCRETE COSINE TRANSFORMATION (DCT)"
INST_CMPRS_RATIO = 12.3657
INST_CMPRS_QUALITY = 0
INST_CMPRS_QUANTZ_TBL_ID = 0
INSTRUMENT_TEMPERATURE = 10.8262
LENS_TEMPERATURE = 8.1755
MACROPIXEL_SIZE = 2
MISSING_FRAMES = 0
PIXEL_SUBSAMPLING_FLAG = N
SIGNAL_CHAIN_ID = 1
/* RADIOMETRIC DATA ELEMENTS */
BANDWIDTH = 180.0
CENTER_FILTER_WAVELENGTH = 677.0
RADIANCE_OFFSET = 1.60849
RADIANCE_SCALING_FACTOR = 0.0302111
REFLECTANCE_SCALING_FACTOR = 0.000921598
MEX:REFLECTANCE_OFFSET = 0.0490675
/* IMAGE OBJECT DEFINITIONS */
OBJECT = IMAGE
  INTERCHANGE_FORMAT = BINARY
  LINES = 10196
  LINE_SAMPLES = 17490
  SAMPLE_TYPE = UNSIGNED_INTEGER
  SAMPLE_BITS = 8
  BANDS = 1
  BAND_STORAGE_TYPE = BAND_SEQUENTIAL
  MAXIMUM = 255
  MEAN = 130.269
  MINIMUM = 1
  STANDARD_DEVIATION = 55.3065
END_OBJECT = IMAGE
/* MAP OBJECT DEFINITIONS */
OBJECT = IMAGE_MAP_PROJECTION
  ^DATA_SET_MAP_PROJECTION_CATALOG= "DSMAP.CAT"
  A_AXIS_RADIUS = 3396.0
  B_AXIS_RADIUS = 3396.0
  C_AXIS_RADIUS = 3396.0
  CENTER_LATITUDE = 90.0
  CENTER_LONGITUDE = 0.0
  COORDINATE_SYSTEM_NAME = PLANETOGRAPHIC
  COORDINATE_SYSTEM_TYPE = "BODY-FIXED ROTATING"
  EASTERNMOST_LONGITUDE = 251.122
  FIRST_STANDARD_PARALLEL = "N/A"
  LINE_FIRST_PIXEL = 1
  LINE_LAST_PIXEL = 10196
  LINE_PROJECTION_OFFSET = 8458.25
  MAP_PROJECTION_ROTATION = 0.0
  MAP_PROJECTION_TYPE = STEREOGRAPHIC
  MAP_RESOLUTION = 1185.42760773333
  MAP_SCALE = 0.05
  MAXIMUM_LATITUDE = 89.5339
  MINIMUM_LATITUDE = 79.87309999999999
  POSITIVE_LONGITUDE_DIRECTION = EAST
  REFERENCE_LATITUDE = "N/A"
  REFERENCE_LONGITUDE = "N/A"
  SAMPLE_FIRST_PIXEL = 1
  SAMPLE_LAST_PIXEL = 17490
  SAMPLE_PROJECTION_OFFSET = 5648.75
  SECOND_STANDARD_PARALLEL = "N/A"
  WESTERNMOST_LONGITUDE = 77.849
END_OBJECT = IMAGE_MAP_PROJECTION
/* The JPEG2000 image data file associated with this label. */
OBJECT = COMPRESSED_FILE
  FILE_NAME = "H5959_0000_S13.JP2"
  RECORD_TYPE = UNDEFINED
  FILE_RECORDS = UNK
  ENCODING_TYPE = "JP2"
  INTERCHANGE_FORMAT = BINARY
  UNCOMPRESSED_FILE_NAME = "H5959_0000_S13.IMG"
  REQUIRED_STORAGE_BYTES = "178380510"
  ^DESCRIPTION = "JP2INFO.TXT"
END_OBJECT = COMPRESSED_FILE
END
