PDS_VERSION_ID = PDS3
/* FILE DATA ELEMENTS */
RECORD_TYPE = STREAM
/* POINTERS TO DATA OBJECTS */
^COMPRESSED_FILE = "H5962_0000_RE3.JP2"
/* IDENTIFICATION DATA ELEMENTS */
DATA_SET_ID = "MEX-M-HRSC-5-REFDR-MAPPROJECTED-V3.0"
DATA_SET_NAME = "MARS EXPRESS HRSC MAP PROJECTED REFDR V3.0"
DETECTOR_ID = MEX_HRSC_RED
EVENT_TYPE = "MARS-REGIONAL-VARIABLE-Gl-La-Ot"
INSTRUMENT_HOST_ID = MEX
INSTRUMENT_HOST_NAME = "MARS EXPRESS"
INSTRUMENT_ID = HRSC
INSTRUMENT_NAME = "HIGH RESOLUTION STEREO CAMERA"
MISSION_NAME = "MARS EXPRESS"
MISSION_PHASE_NAME = ME_Phase_14
PROCESSING_LEVEL_ID = 3
PRODUCT_CREATION_TIME = 2016-05-16T03:10:51.000Z
PRODUCT_ID = "H5962_0000_RE3.JP2"
RELEASE_ID = 0067
REVISION_ID = 0000
/* QUALITY DATA ELEMENTS */
DATA_QUALITY_ID = 1
DATA_QUALITY_DESC = "Data calculated based on original SPICE kernels"
/* TIME DATA ELEMENTS */
SPACECRAFT_CLOCK_START_COUNT = "1/0167600346.09066"
SPACECRAFT_CLOCK_STOP_COUNT = "1/0167601104.57836"
START_TIME = 2008-08-23T19:39:29.136Z
STOP_TIME = 2008-08-23T19:42:56.557Z
/* ORBITAL DATA ELEMENTS */
ASCENDING_NODE_LONGITUDE = 104.64
MAXIMUM_RESOLUTION = 85.9
FOOTPRINT_POINT_LATITUDE = (85.0957,85.3601,85.6229,86.0145,86.338 ,86.5626,86.8165,87.0985,87.3446, 87.5857,87.8197,88.1253,88.3862,88.5403 ,88.6092,88.6455,88.6471,88.6137, 88.5482,88.4546,88.2723,88.1292,87.9733 ,87.8073,87.6334,87.4535,87.2685, 87.0799,86.8866,86.6933,86.4975,86.2004 ,85.9998,85.6992,85.3947,85.1935, 84.9899,84.7858,84.5834,84.3797,84.1766 ,83.9736,83.6682,83.4644,83.1608, 82.7548,82.3483,82.1431,81.6371,81.2339 ,80.8324,80.5317,80.3476,80.3118, 80.2687,80.1808,80.0711,79.9961,79.8856 ,79.7784,79.6624,79.4814,79.3245, 79.1783,79.0246,79.105,79.4611,79.7273, 80.1671,80.4295,80.774,81.1162,81.5387, 82.0318,82.4286,82.8109,82.9602,83.105, 83.383,83.5182,83.6491,83.775,83.8971, 84.0137,84.1252,84.2299,84.3761,84.5098 ,84.6262,84.7262,84.7825,84.831,84.888, 84.9151,84.931,84.938,84.9309,84.9141, 84.887,85.0957)
FOOTPRINT_POINT_LONGITUDE = (206.076,205.213,204.253,202.592,200.95 ,199.626,197.896,195.601,193.167, 190.246,186.694,180.397,188.614,199.463 ,207.837,216.851,226.118,235.139,243.51 ,251.018,260.482,265.669,270.081, 273.835,277.049,279.806,282.194,284.269 ,286.114,287.697,289.111,290.956, 292.041,293.455,294.698,295.417,296.092 ,296.713,297.273,297.798,298.282,298.73 ,299.351,299.732,300.25,300.876,301.436 ,301.701,302.282,302.693,303.063, 303.318,301.575,299.982,298.404,295.812 ,293.282,291.792,289.843,288.174, 286.541,284.276,282.523,281.031,279.577 ,278.227,277.251,276.469,275.062,274.15 ,272.848,271.434,269.488,266.865, 264.407,261.663,260.473,259.235,256.6, 255.184,253.707,252.169,250.56,248.886, 247.143,245.341,242.506,239.492,236.346 ,233.05,230.787,228.463,224.874,222.422 ,219.995,216.305,213.835,211.374, 208.998,206.076)
ORBIT_NUMBER = 5962
ORBITAL_ECCENTRICITY = 0.572
ORBITAL_INCLINATION = 86.74
ORBITAL_SEMIMAJOR_AXIS = 8710.27
PERIAPSIS_ALTITUDE = 338.67
PERIAPSIS_ARGUMENT_ANGLE = 29.75
PERIAPSIS_TIME = 2008-08-23T19:23:59.000Z
SPACECRAFT_ORIENTATION = (0.0,1.0,0.0)
^MEX_ORIENTATION_DESC = "MEX_ORIENTATION_DESC.TXT"
SPACECRAFT_POINTING_MODE = NADIR
^MEX_POINTING_DESC = "MEX_POINTING_DESC.TXT"
RIGHT_ASCENSION = -1e+32
DECLINATION = -1e+32
OFFSET_ANGLE = -1e+32
SPACECRAFT_SOLAR_DISTANCE = 2.41687e+08
TARGET_NAME = MARS
/* CAMERA DATA ELEMENTS */
DETECTOR_TEMPERATURE = 18.1666
FOCAL_PLANE_TEMPERATURE = 7.5638
INST_CMPRS_NAME = "DISCRETE COSINE TRANSFORMATION (DCT)"
INST_CMPRS_RATIO = 8.00226
INST_CMPRS_QUALITY = 0
INST_CMPRS_QUANTZ_TBL_ID = 0
INSTRUMENT_TEMPERATURE = 10.6223
LENS_TEMPERATURE = 7.9716
MACROPIXEL_SIZE = 2
MISSING_FRAMES = 0
PIXEL_SUBSAMPLING_FLAG = N
SIGNAL_CHAIN_ID = 3
/* RADIOMETRIC DATA ELEMENTS */
BANDWIDTH = 48.0
CENTER_FILTER_WAVELENGTH = 748.0
RADIANCE_OFFSET = 0.362466
RADIANCE_SCALING_FACTOR = 0.00753692
REFLECTANCE_SCALING_FACTOR = 0.00100467
MEX:REFLECTANCE_OFFSET = 0.0483165
/* IMAGE OBJECT DEFINITIONS */
OBJECT = IMAGE
  INTERCHANGE_FORMAT = BINARY
  LINES = 5444
  LINE_SAMPLES = 6717
  SAMPLE_TYPE = UNSIGNED_INTEGER
  SAMPLE_BITS = 8
  BANDS = 1
  BAND_STORAGE_TYPE = BAND_SEQUENTIAL
  MAXIMUM = 255
  MEAN = 126.25
  MINIMUM = 1
  STANDARD_DEVIATION = 44.1046
END_OBJECT = IMAGE
/* MAP OBJECT DEFINITIONS */
OBJECT = IMAGE_MAP_PROJECTION
  ^DATA_SET_MAP_PROJECTION_CATALOG= "DSMAP.CAT"
  A_AXIS_RADIUS = 3396.0
  B_AXIS_RADIUS = 3396.0
  C_AXIS_RADIUS = 3396.0
  CENTER_LATITUDE = 0.0
  CENTER_LONGITUDE = 273.0
  COORDINATE_SYSTEM_NAME = PLANETOGRAPHIC
  COORDINATE_SYSTEM_TYPE = "BODY-FIXED ROTATING"
  EASTERNMOST_LONGITUDE = 303.318
  FIRST_STANDARD_PARALLEL = "N/A"
  LINE_FIRST_PIXEL = 1
  LINE_LAST_PIXEL = 5444
  LINE_PROJECTION_OFFSET = 52155.75
  MAP_PROJECTION_ROTATION = 0.0
  MAP_PROJECTION_TYPE = SINUSOIDAL
  MAP_RESOLUTION = 592.713803866667
  MAP_SCALE = 0.1
  MAXIMUM_LATITUDE = 88.64709999999999
  MINIMUM_LATITUDE = 79.02460000000001
  POSITIVE_LONGITUDE_DIRECTION = EAST
  REFERENCE_LATITUDE = "N/A"
  REFERENCE_LONGITUDE = "N/A"
  SAMPLE_FIRST_PIXEL = 1
  SAMPLE_LAST_PIXEL = 6717
  SAMPLE_PROJECTION_OFFSET = 3568.25
  SECOND_STANDARD_PARALLEL = "N/A"
  WESTERNMOST_LONGITUDE = 180.397
END_OBJECT = IMAGE_MAP_PROJECTION
/* The JPEG2000 image data file associated with this label. */
OBJECT = COMPRESSED_FILE
  FILE_NAME = "H5962_0000_RE3.JP2"
  RECORD_TYPE = UNDEFINED
  FILE_RECORDS = UNK
  ENCODING_TYPE = "JP2"
  INTERCHANGE_FORMAT = BINARY
  UNCOMPRESSED_FILE_NAME = "H5962_0000_RE3.IMG"
  REQUIRED_STORAGE_BYTES = "36600933"
  ^DESCRIPTION = "JP2INFO.TXT"
END_OBJECT = COMPRESSED_FILE
END
