PDS_VERSION_ID = PDS3
/* FILE DATA ELEMENTS */
RECORD_TYPE = STREAM
/* POINTERS TO DATA OBJECTS */
^COMPRESSED_FILE = "H5963_0000_S23.JP2"
/* IDENTIFICATION DATA ELEMENTS */
DATA_SET_ID = "MEX-M-HRSC-5-REFDR-MAPPROJECTED-V3.0"
DATA_SET_NAME = "MARS EXPRESS HRSC MAP PROJECTED REFDR V3.0"
DETECTOR_ID = MEX_HRSC_S2
EVENT_TYPE = "MARS-REGIONAL-VARIABLE-Gl-La-Ot"
INSTRUMENT_HOST_ID = MEX
INSTRUMENT_HOST_NAME = "MARS EXPRESS"
INSTRUMENT_ID = HRSC
INSTRUMENT_NAME = "HIGH RESOLUTION STEREO CAMERA"
MISSION_NAME = "MARS EXPRESS"
MISSION_PHASE_NAME = ME_Phase_14
PROCESSING_LEVEL_ID = 3
PRODUCT_CREATION_TIME = 2016-05-16T03:10:51.000Z
PRODUCT_ID = "H5963_0000_S23.JP2"
RELEASE_ID = 0067
REVISION_ID = 0000
/* QUALITY DATA ELEMENTS */
DATA_QUALITY_ID = 1
DATA_QUALITY_DESC = "Data calculated based on original SPICE kernels"
/* TIME DATA ELEMENTS */
SPACECRAFT_CLOCK_START_COUNT = "1/0167624825.07280"
SPACECRAFT_CLOCK_STOP_COUNT = "1/0167625564.06551"
START_TIME = 2008-08-24T02:27:08.614Z
STOP_TIME = 2008-08-24T02:31:50.596Z
/* ORBITAL DATA ELEMENTS */
ASCENDING_NODE_LONGITUDE = 104.62
MAXIMUM_RESOLUTION = 69.1
FOOTPRINT_POINT_LATITUDE = (78.5602,78.6686,78.8171,78.9348, 79.0386,79.1628,79.3704,79.942,80.6668, 81.3966,81.8406,82.4408,82.7453,83.0459 ,83.3511,83.658,83.9664,84.2759,84.5863 ,84.8975,85.2094,85.5218,85.8351, 86.1434,86.4484,86.7475,87.0436,87.4649 ,87.7331,88.096,88.3046,88.4723,88.5851 ,88.6303,88.6009,88.5018,88.346,88.1484 ,87.9206,87.6709,87.4084,87.1336, 86.8537,86.4232,86.1286,85.835,85.5398, 85.2437,84.9409,84.6395,84.4944,84.3739 ,84.2487,84.1085,83.808,83.6293,83.2122 ,82.9464,82.5427,82.9877,83.2007, 83.4066,83.6044,83.7931,83.972,84.1397, 84.296,84.4396,84.6277,84.7323,84.8196, 84.8882,84.9369,84.9664,84.9758,84.9645 ,84.9323,84.8797,84.7632,84.662,84.5427 ,84.3325,84.1732,84.0,83.813,83.6147, 83.4079,83.1929,82.97,82.626,82.2719, 82.0294,81.5379,81.1631,80.5294,80.1444 ,79.631,79.1148,78.5985,78.5602)
FOOTPRINT_POINT_LONGITUDE = (52.2265,50.6894,48.3355,46.1973, 44.0201,40.8195,39.5141,39.9168,40.5016 ,41.2043,41.694,42.4466,42.8743,43.346, 43.8631,44.4359,45.072,45.7826,46.5808, 47.4843,48.5136,49.6973,51.0709,52.6651 ,54.5339,56.7456,59.4115,64.5067, 68.9487,77.7776,85.6482,95.4566,107.202 ,120.348,133.62,145.691,155.852,164.023 ,170.518,175.699,179.793,183.149, 185.865,189.133,190.929,192.432,193.728 ,194.857,195.886,196.782,191.065, 187.564,184.599,181.774,176.86,174.443, 169.766,167.287,164.045,160.697,158.852 ,156.881,154.779,152.539,150.154, 147.621,144.929,142.077,137.509,134.295 ,130.953,127.507,123.992,120.397, 116.748,113.091,109.466,105.862,100.676 ,97.3587,94.1489,89.6177,86.7881, 84.1147,81.5792,79.2034,77.0035,74.9478 ,73.0223,70.3997,68.047,66.5977,64.0024 ,62.2727,59.7311,58.378,56.7649,55.3197 ,54.0256,52.2265)
ORBIT_NUMBER = 5963
ORBITAL_ECCENTRICITY = 0.572
ORBITAL_INCLINATION = 86.74
ORBITAL_SEMIMAJOR_AXIS = 8712.06
PERIAPSIS_ALTITUDE = 338.05
PERIAPSIS_ARGUMENT_ANGLE = 29.58
PERIAPSIS_TIME = 2008-08-24T02:14:41.000Z
SPACECRAFT_ORIENTATION = (0.0,1.0,0.0)
^MEX_ORIENTATION_DESC = "MEX_ORIENTATION_DESC.TXT"
SPACECRAFT_POINTING_MODE = NADIR
^MEX_POINTING_DESC = "MEX_POINTING_DESC.TXT"
RIGHT_ASCENSION = -1e+32
DECLINATION = -1e+32
OFFSET_ANGLE = -1e+32
SPACECRAFT_SOLAR_DISTANCE = 2.41647e+08
TARGET_NAME = MARS
/* CAMERA DATA ELEMENTS */
DETECTOR_TEMPERATURE = 18.5744
FOCAL_PLANE_TEMPERATURE = 7.5638
INST_CMPRS_NAME = "DISCRETE COSINE TRANSFORMATION (DCT)"
INST_CMPRS_RATIO = 11.4033
INST_CMPRS_QUALITY = 0
INST_CMPRS_QUANTZ_TBL_ID = 0
INSTRUMENT_TEMPERATURE = 10.8262
LENS_TEMPERATURE = 8.1755
MACROPIXEL_SIZE = 2
MISSING_FRAMES = 0
PIXEL_SUBSAMPLING_FLAG = N
SIGNAL_CHAIN_ID = 1
/* RADIOMETRIC DATA ELEMENTS */
BANDWIDTH = 178.0
CENTER_FILTER_WAVELENGTH = 679.0
RADIANCE_OFFSET = 1.33567
RADIANCE_SCALING_FACTOR = 0.0347449
REFLECTANCE_SCALING_FACTOR = 0.00107443
MEX:REFLECTANCE_OFFSET = 0.0413034
/* IMAGE OBJECT DEFINITIONS */
OBJECT = IMAGE
  INTERCHANGE_FORMAT = BINARY
  LINES = 18442
  LINE_SAMPLES = 13223
  SAMPLE_TYPE = UNSIGNED_INTEGER
  SAMPLE_BITS = 8
  BANDS = 1
  BAND_STORAGE_TYPE = BAND_SEQUENTIAL
  MAXIMUM = 255
  MEAN = 117.808
  MINIMUM = 1
  STANDARD_DEVIATION = 38.6416
END_OBJECT = IMAGE
/* MAP OBJECT DEFINITIONS */
OBJECT = IMAGE_MAP_PROJECTION
  ^DATA_SET_MAP_PROJECTION_CATALOG= "DSMAP.CAT"
  A_AXIS_RADIUS = 3396.0
  B_AXIS_RADIUS = 3396.0
  C_AXIS_RADIUS = 3396.0
  CENTER_LATITUDE = 90.0
  CENTER_LONGITUDE = 0.0
  COORDINATE_SYSTEM_NAME = PLANETOGRAPHIC
  COORDINATE_SYSTEM_TYPE = "BODY-FIXED ROTATING"
  EASTERNMOST_LONGITUDE = 196.782
  FIRST_STANDARD_PARALLEL = "N/A"
  LINE_FIRST_PIXEL = 1
  LINE_LAST_PIXEL = 18442
  LINE_PROJECTION_OFFSET = 8641.75
  MAP_PROJECTION_ROTATION = 0.0
  MAP_PROJECTION_TYPE = STEREOGRAPHIC
  MAP_RESOLUTION = 1185.42760773333
  MAP_SCALE = 0.05
  MAXIMUM_LATITUDE = 88.63030000000001
  MINIMUM_LATITUDE = 78.56019999999999
  POSITIVE_LONGITUDE_DIRECTION = EAST
  REFERENCE_LATITUDE = "N/A"
  REFERENCE_LONGITUDE = "N/A"
  SAMPLE_FIRST_PIXEL = 1
  SAMPLE_LAST_PIXEL = 13223
  SAMPLE_PROJECTION_OFFSET = 2073.25
  SECOND_STANDARD_PARALLEL = "N/A"
  WESTERNMOST_LONGITUDE = 39.5141
END_OBJECT = IMAGE_MAP_PROJECTION
/* The JPEG2000 image data file associated with this label. */
OBJECT = COMPRESSED_FILE
  FILE_NAME = "H5963_0000_S23.JP2"
  RECORD_TYPE = UNDEFINED
  FILE_RECORDS = UNK
  ENCODING_TYPE = "JP2"
  INTERCHANGE_FORMAT = BINARY
  UNCOMPRESSED_FILE_NAME = "H5963_0000_S23.IMG"
  REQUIRED_STORAGE_BYTES = "243898235"
  ^DESCRIPTION = "JP2INFO.TXT"
END_OBJECT = COMPRESSED_FILE
END
