PDS_VERSION_ID = PDS3
/* FILE DATA ELEMENTS */
RECORD_TYPE = STREAM
/* POINTERS TO DATA OBJECTS */
^COMPRESSED_FILE = "H6007_0000_ND3.JP2"
/* IDENTIFICATION DATA ELEMENTS */
DATA_SET_ID = "MEX-M-HRSC-5-REFDR-MAPPROJECTED-V3.0"
DATA_SET_NAME = "MARS EXPRESS HRSC MAP PROJECTED REFDR V3.0"
DETECTOR_ID = MEX_HRSC_NADIR
EVENT_TYPE = "MARS-REGIONAL-VARIABLE-Gl-La-Ot"
INSTRUMENT_HOST_ID = MEX
INSTRUMENT_HOST_NAME = "MARS EXPRESS"
INSTRUMENT_ID = HRSC
INSTRUMENT_NAME = "HIGH RESOLUTION STEREO CAMERA"
MISSION_NAME = "MARS EXPRESS"
MISSION_PHASE_NAME = ME_Phase_14
PROCESSING_LEVEL_ID = 3
PRODUCT_CREATION_TIME = 2016-05-16T03:58:19.000Z
PRODUCT_ID = "H6007_0000_ND3.JP2"
RELEASE_ID = 0068
REVISION_ID = 0000
/* QUALITY DATA ELEMENTS */
DATA_QUALITY_ID = 1
DATA_QUALITY_DESC = "Data calculated based on original SPICE kernels"
/* TIME DATA ELEMENTS */
SPACECRAFT_CLOCK_START_COUNT = "1/0168709246.09057"
SPACECRAFT_CLOCK_STOP_COUNT = "1/0168710357.46962"
START_TIME = 2008-09-05T15:42:56.971Z
STOP_TIME = 2008-09-05T15:50:18.924Z
/* ORBITAL DATA ELEMENTS */
ASCENDING_NODE_LONGITUDE = 103.74
MAXIMUM_RESOLUTION = 45.9
FOOTPRINT_POINT_LATITUDE = (79.8571,80.0695,80.2644,80.4246, 80.5477,80.6317,80.6748,80.684,81.0773, 81.4685,81.867,82.2542,82.6393,83.0223, 83.4034,83.7824,84.1594,84.5344,84.9073 ,85.2781,85.6467,86.0131,86.3773, 86.7389,87.0981,87.4543,87.8071,88.1557 ,88.4982,88.8311,89.1455,89.4139,89.55, 89.4491,89.1982,88.8969,88.578,88.2522, 87.5937,86.9349,86.2795,85.6289,84.9836 ,84.3441,83.7104,83.0828,82.4612, 81.8465,81.8899,81.9209,81.9208,81.8901 ,81.8295,81.74,81.5717,81.418,81.2397, 81.0385,80.8734,80.6353,80.4284,80.9557 ,81.4776,81.9915,82.4939,82.9804, 83.4463,83.8842,84.2859,84.6403,84.935, 85.156,85.2899,85.3207,85.3261,85.3056, 85.2589,85.1869,85.0899,84.9689,84.8254 ,84.6594,84.4759,84.2742,84.0556, 83.8217,83.5739,83.3134,83.0413,82.7587 ,82.4664,82.1652,81.8559,81.5389,81.215 ,80.8845,80.5397,80.1974,79.8571)
FOOTPRINT_POINT_LONGITUDE = (328.716,325.64,322.213,318.64,314.945, 311.143,307.255,305.158,305.023,304.875 ,304.714,304.539,304.362,304.163, 303.942,303.7,303.413,303.101,302.737, 302.339,301.859,301.307,300.64,299.816, 298.848,297.582,295.907,293.64,290.319, 285.124,276.011,257.687,221.263,182.322 ,161.773,151.72,146.101,142.563,138.427 ,136.073,134.559,133.498,132.72,132.115 ,131.637,131.236,130.897,130.607, 127.955,124.387,120.821,117.289,113.807 ,110.402,105.869,102.703,99.6603, 96.7518,94.66,91.989,89.9194,88.1248, 86.0775,83.7283,81.0179,77.875,74.2242, 69.9725,65.0284,59.3097,52.773,45.4484, 37.4757,33.3243,29.1178,24.9025,20.7259 ,16.6308,12.6575,8.8388,5.19849,1.76461 ,358.516,355.473,352.637,349.998, 347.548,345.276,343.17,341.218,339.409, 337.731,336.174,334.729,333.384,332.133 ,330.942,329.855,328.716)
ORBIT_NUMBER = 6007
ORBITAL_ECCENTRICITY = 0.572
ORBITAL_INCLINATION = 86.76
ORBITAL_SEMIMAJOR_AXIS = 8716.09
PERIAPSIS_ALTITUDE = 333.66
PERIAPSIS_ARGUMENT_ANGLE = 21.82
PERIAPSIS_TIME = 2008-09-05T15:25:47.000Z
SPACECRAFT_ORIENTATION = (0.0,1.0,0.0)
^MEX_ORIENTATION_DESC = "MEX_ORIENTATION_DESC.TXT"
SPACECRAFT_POINTING_MODE = ACROSSTRACK
^MEX_POINTING_DESC = "MEX_POINTING_DESC.TXT"
RIGHT_ASCENSION = -1e+32
DECLINATION = -1e+32
OFFSET_ANGLE = 1.08
SPACECRAFT_SOLAR_DISTANCE = 2.39799e+08
TARGET_NAME = MARS
/* CAMERA DATA ELEMENTS */
DETECTOR_TEMPERATURE = 18.1666
FOCAL_PLANE_TEMPERATURE = 7.7677
INST_CMPRS_NAME = "DISCRETE COSINE TRANSFORMATION (DCT)"
INST_CMPRS_RATIO = 7.31954
INST_CMPRS_QUALITY = 0
INST_CMPRS_QUANTZ_TBL_ID = 0
INSTRUMENT_TEMPERATURE = 10.6223
LENS_TEMPERATURE = 8.3794
MACROPIXEL_SIZE = 1
MISSING_FRAMES = 2
PIXEL_SUBSAMPLING_FLAG = N
SIGNAL_CHAIN_ID = 0
/* RADIOMETRIC DATA ELEMENTS */
BANDWIDTH = 177.0
CENTER_FILTER_WAVELENGTH = 677.5
RADIANCE_OFFSET = 1.46566
RADIANCE_SCALING_FACTOR = 0.0285948
REFLECTANCE_SCALING_FACTOR = 0.000873501
MEX:REFLECTANCE_OFFSET = 0.0447724
/* IMAGE OBJECT DEFINITIONS */
OBJECT = IMAGE
  INTERCHANGE_FORMAT = BINARY
  LINES = 16522
  LINE_SAMPLES = 20342
  SAMPLE_TYPE = UNSIGNED_INTEGER
  SAMPLE_BITS = 8
  BANDS = 1
  BAND_STORAGE_TYPE = BAND_SEQUENTIAL
  MAXIMUM = 255
  MEAN = 124.592
  MINIMUM = 1
  STANDARD_DEVIATION = 50.8915
END_OBJECT = IMAGE
/* MAP OBJECT DEFINITIONS */
OBJECT = IMAGE_MAP_PROJECTION
  ^DATA_SET_MAP_PROJECTION_CATALOG= "DSMAP.CAT"
  A_AXIS_RADIUS = 3396.0
  B_AXIS_RADIUS = 3396.0
  C_AXIS_RADIUS = 3396.0
  CENTER_LATITUDE = 90.0
  CENTER_LONGITUDE = 0.0
  COORDINATE_SYSTEM_NAME = PLANETOGRAPHIC
  COORDINATE_SYSTEM_TYPE = "BODY-FIXED ROTATING"
  EASTERNMOST_LONGITUDE = 360.0
  FIRST_STANDARD_PARALLEL = "N/A"
  LINE_FIRST_PIXEL = 1
  LINE_LAST_PIXEL = 16522
  LINE_PROJECTION_OFFSET = 6218.0
  MAP_PROJECTION_ROTATION = 0
  MAP_PROJECTION_TYPE = STEREOGRAPHIC
  MAP_RESOLUTION = 1185.42760773333
  MAP_SCALE = 0.05
  MAXIMUM_LATITUDE = 90.0
  MINIMUM_LATITUDE = 79.8571
  POSITIVE_LONGITUDE_DIRECTION = EAST
  REFERENCE_LATITUDE = "N/A"
  REFERENCE_LONGITUDE = "N/A"
  SAMPLE_FIRST_PIXEL = 1
  SAMPLE_LAST_PIXEL = 20342
  SAMPLE_PROJECTION_OFFSET = 8995.0
  SECOND_STANDARD_PARALLEL = "N/A"
  WESTERNMOST_LONGITUDE = 0.0
END_OBJECT = IMAGE_MAP_PROJECTION
/* The JPEG2000 image data file associated with this label. */
OBJECT = COMPRESSED_FILE
  FILE_NAME = "H6007_0000_ND3.JP2"
  RECORD_TYPE = UNDEFINED
  FILE_RECORDS = UNK
  ENCODING_TYPE = "JP2"
  INTERCHANGE_FORMAT = BINARY
  UNCOMPRESSED_FILE_NAME = "H6007_0000_ND3.IMG"
  REQUIRED_STORAGE_BYTES = "336151550"
  ^DESCRIPTION = "JP2INFO.TXT"
END_OBJECT = COMPRESSED_FILE
END
