PDS_VERSION_ID = PDS3
/* FILE DATA ELEMENTS */
RECORD_TYPE = STREAM
/* POINTERS TO DATA OBJECTS */
^COMPRESSED_FILE = "H6115_0000_ND3.JP2"
/* IDENTIFICATION DATA ELEMENTS */
DATA_SET_ID = "MEX-M-HRSC-5-REFDR-MAPPROJECTED-V3.0"
DATA_SET_NAME = "MARS EXPRESS HRSC MAP PROJECTED REFDR V3.0"
DETECTOR_ID = MEX_HRSC_NADIR
EVENT_TYPE = "MARS-GLOBAL-VARIABLE-Gl-Eo-Ot"
INSTRUMENT_HOST_ID = MEX
INSTRUMENT_HOST_NAME = "MARS EXPRESS"
INSTRUMENT_ID = HRSC
INSTRUMENT_NAME = "HIGH RESOLUTION STEREO CAMERA"
MISSION_NAME = "MARS EXPRESS"
MISSION_PHASE_NAME = ME_Phase_14
PROCESSING_LEVEL_ID = 3
PRODUCT_CREATION_TIME = 2016-05-16T04:11:33.000Z
PRODUCT_ID = "H6115_0000_ND3.JP2"
RELEASE_ID = 0069
REVISION_ID = 0000
/* QUALITY DATA ELEMENTS */
DATA_QUALITY_ID = 1
DATA_QUALITY_DESC = "Data calculated based on original SPICE kernels"
/* TIME DATA ELEMENTS */
SPACECRAFT_CLOCK_START_COUNT = "1/0171370932.08268"
SPACECRAFT_CLOCK_STOP_COUNT = "1/0171371803.40023"
START_TIME = 2008-10-06T11:03:04.344Z
STOP_TIME = 2008-10-06T11:14:33.463Z
/* ORBITAL DATA ELEMENTS */
ASCENDING_NODE_LONGITUDE = 101.56
MAXIMUM_RESOLUTION = 71.3
FOOTPRINT_POINT_LATITUDE = (78.5345,78.7493,78.883,79.0185,79.1348 ,79.231,79.3066,79.3608,79.3931,79.4032 ,79.3906,79.3285,79.2628,79.7224, 80.1774,80.6273,81.0723,81.5118,81.9459 ,82.3751,82.7977,83.214,83.6229,84.0247 ,84.4176,84.8008,85.173,85.5328,85.8771 ,86.2037,86.5077,86.7841,87.0273, 87.2298,87.3827,87.5119,87.3937,87.0652 ,86.5937,86.0379,85.4304,84.7958, 84.1457,83.4893,82.8295,82.17,81.5125, 80.8585,80.209,80.31,80.4388,80.5515, 80.6478,80.7273,80.7897,80.8349,80.8735 ,80.8434,80.7459,80.5839,80.3603,80.08, 79.792,79.4176,79.1403,79.696,80.2471, 80.7908,81.3237,81.8414,82.3368,82.8046 ,83.2351,83.6163,83.9353,84.1777, 84.3293,84.3773,84.3154,84.1412,84.014, 83.8605,83.6823,83.4807,83.2574,83.0137 ,82.7512,82.4711,82.1748,81.8634, 81.5382,81.1999,80.8498,80.4881,80.1162 ,79.7344,79.3432,78.9432,78.5345)
FOOTPRINT_POINT_LONGITUDE = (316.703,313.846,311.784,309.366, 306.885,304.35,301.768,299.147,296.496, 293.821,291.135,287.097,284.437,283.806 ,283.125,282.383,281.579,280.686,279.71 ,278.664,277.481,276.168,274.688, 273.039,271.159,269.014,266.551,263.723 ,260.426,256.592,252.087,246.802, 240.646,233.556,225.553,207.688,190.005 ,175.289,164.234,156.151,150.231, 145.765,142.319,139.572,137.353,135.521 ,133.986,132.679,131.552,129.238, 126.927,124.565,122.157,119.713,117.244 ,114.754,109.74,104.749,99.8403,95.0773 ,90.5104,86.1794,82.6056,78.7725, 73.3589,71.6186,69.6339,67.3603,64.7468 ,61.7329,58.2411,54.2038,49.5395, 44.1773,38.0822,31.2771,23.8715,16.0751 ,8.17378,0.478942,356.791,353.248, 349.87,346.668,343.649,340.813,338.159, 335.682,333.374,331.228,329.231,327.377 ,325.651,324.051,322.558,321.169, 319.875,318.668,316.703)
ORBIT_NUMBER = 6115
ORBITAL_ECCENTRICITY = 0.574
ORBITAL_INCLINATION = 86.75
ORBITAL_SEMIMAJOR_AXIS = 8732.32
PERIAPSIS_ALTITUDE = 322.82
PERIAPSIS_ARGUMENT_ANGLE = 2.85
PERIAPSIS_TIME = 2008-10-06T10:38:27.000Z
SPACECRAFT_ORIENTATION = (0.0,1.0,0.0)
^MEX_ORIENTATION_DESC = "MEX_ORIENTATION_DESC.TXT"
SPACECRAFT_POINTING_MODE = ACROSSTRACK
^MEX_POINTING_DESC = "MEX_POINTING_DESC.TXT"
RIGHT_ASCENSION = -1e+32
DECLINATION = -1e+32
OFFSET_ANGLE = 1.603
SPACECRAFT_SOLAR_DISTANCE = 2.3464e+08
TARGET_NAME = MARS
/* CAMERA DATA ELEMENTS */
DETECTOR_TEMPERATURE = 18.1666
FOCAL_PLANE_TEMPERATURE = 7.9716
INST_CMPRS_NAME = "DISCRETE COSINE TRANSFORMATION (DCT)"
INST_CMPRS_RATIO = 7.3213
INST_CMPRS_QUALITY = 0
INST_CMPRS_QUANTZ_TBL_ID = 0
INSTRUMENT_TEMPERATURE = 11.0301
LENS_TEMPERATURE = 7.9716
MACROPIXEL_SIZE = 1
MISSING_FRAMES = 0
PIXEL_SUBSAMPLING_FLAG = N
SIGNAL_CHAIN_ID = 0
/* RADIOMETRIC DATA ELEMENTS */
BANDWIDTH = 177.0
CENTER_FILTER_WAVELENGTH = 677.5
RADIANCE_OFFSET = 1.16152
RADIANCE_SCALING_FACTOR = 0.0266182
REFLECTANCE_SCALING_FACTOR = 0.0007785
MEX:REFLECTANCE_OFFSET = 0.0339709
/* IMAGE OBJECT DEFINITIONS */
OBJECT = IMAGE
  INTERCHANGE_FORMAT = BINARY
  LINES = 17689
  LINE_SAMPLES = 25043
  SAMPLE_TYPE = UNSIGNED_INTEGER
  SAMPLE_BITS = 8
  BANDS = 1
  BAND_STORAGE_TYPE = BAND_SEQUENTIAL
  MAXIMUM = 255
  MEAN = 116.208
  MINIMUM = 1
  STANDARD_DEVIATION = 54.9149
END_OBJECT = IMAGE
/* MAP OBJECT DEFINITIONS */
OBJECT = IMAGE_MAP_PROJECTION
  ^DATA_SET_MAP_PROJECTION_CATALOG= "DSMAP.CAT"
  A_AXIS_RADIUS = 3396.0
  B_AXIS_RADIUS = 3396.0
  C_AXIS_RADIUS = 3396.0
  CENTER_LATITUDE = 90.0
  CENTER_LONGITUDE = 0.0
  COORDINATE_SYSTEM_NAME = PLANETOGRAPHIC
  COORDINATE_SYSTEM_TYPE = "BODY-FIXED ROTATING"
  EASTERNMOST_LONGITUDE = 360.0
  FIRST_STANDARD_PARALLEL = "N/A"
  LINE_FIRST_PIXEL = 1
  LINE_LAST_PIXEL = 17689
  LINE_PROJECTION_OFFSET = 7631.0
  MAP_PROJECTION_ROTATION = 0
  MAP_PROJECTION_TYPE = STEREOGRAPHIC
  MAP_RESOLUTION = 1185.42760773333
  MAP_SCALE = 0.05
  MAXIMUM_LATITUDE = 90.0
  MINIMUM_LATITUDE = 78.53449999999999
  POSITIVE_LONGITUDE_DIRECTION = EAST
  REFERENCE_LATITUDE = "N/A"
  REFERENCE_LONGITUDE = "N/A"
  SAMPLE_FIRST_PIXEL = 1
  SAMPLE_LAST_PIXEL = 25043
  SAMPLE_PROJECTION_OFFSET = 12322.0
  SECOND_STANDARD_PARALLEL = "N/A"
  WESTERNMOST_LONGITUDE = 0.0
END_OBJECT = IMAGE_MAP_PROJECTION
/* The JPEG2000 image data file associated with this label. */
OBJECT = COMPRESSED_FILE
  FILE_NAME = "H6115_0000_ND3.JP2"
  RECORD_TYPE = UNDEFINED
  FILE_RECORDS = UNK
  ENCODING_TYPE = "JP2"
  INTERCHANGE_FORMAT = BINARY
  UNCOMPRESSED_FILE_NAME = "H6115_0000_ND3.IMG"
  REQUIRED_STORAGE_BYTES = "443060756"
  ^DESCRIPTION = "JP2INFO.TXT"
END_OBJECT = COMPRESSED_FILE
END
