PDS_VERSION_ID = PDS3
/* FILE DATA ELEMENTS */
RECORD_TYPE = STREAM
/* POINTERS TO DATA OBJECTS */
^COMPRESSED_FILE = "H6220_0000_S23.JP2"
/* IDENTIFICATION DATA ELEMENTS */
DATA_SET_ID = "MEX-M-HRSC-5-REFDR-MAPPROJECTED-V3.0"
DATA_SET_NAME = "MARS EXPRESS HRSC MAP PROJECTED REFDR V3.0"
DETECTOR_ID = MEX_HRSC_S2
EVENT_TYPE = "MARS-REGIONAL-STEREO-Vo-Mw"
INSTRUMENT_HOST_ID = MEX
INSTRUMENT_HOST_NAME = "MARS EXPRESS"
INSTRUMENT_ID = HRSC
INSTRUMENT_NAME = "HIGH RESOLUTION STEREO CAMERA"
MISSION_NAME = "MARS EXPRESS"
MISSION_PHASE_NAME = ME_Phase_15
PROCESSING_LEVEL_ID = 3
PRODUCT_CREATION_TIME = 2016-06-28T12:27:47.000Z
PRODUCT_ID = "H6220_0000_S23.JP2"
RELEASE_ID = 0070
REVISION_ID = 0000
/* QUALITY DATA ELEMENTS */
DATA_QUALITY_ID = 1
DATA_QUALITY_DESC = "Data calculated based on original SPICE kernels"
/* TIME DATA ELEMENTS */
SPACECRAFT_CLOCK_START_COUNT = "1/0173957318.09040"
SPACECRAFT_CLOCK_STOP_COUNT = "1/0173957660.55960"
START_TIME = 2008-11-05T09:28:41.615Z
STOP_TIME = 2008-11-05T09:31:56.093Z
/* ORBITAL DATA ELEMENTS */
ASCENDING_NODE_LONGITUDE = 99.46
MAXIMUM_RESOLUTION = 19.1
FOOTPRINT_POINT_LATITUDE = (12.2599,12.27,12.2804,12.2911,12.3022, 12.3136,12.4391,12.6564,13.0893,13.3091 ,13.5281,13.8421,14.2707,14.5968, 14.8146,15.1481,15.3696,15.7049,16.0438 ,16.2697,16.4913,16.723,16.9584,17.1964 ,17.4376,17.6812,17.9254,18.1734, 18.4238,18.6764,18.9332,19.1941,19.4574 ,19.853,20.2567,20.5244,20.9237,21.1938 ,21.5985,21.8709,22.2805,22.5567, 22.8496,23.1545,23.4456,23.7268,24.0124 ,24.2956,24.5818,24.7557,24.7468, 24.7316,24.722,24.7086,24.697,24.4102, 23.983,23.6998,23.4196,23.1268,22.8261, 22.5459,22.2607,21.9815,21.5675,21.2988 ,21.0295,20.7603,20.4923,20.2231, 19.9578,19.6888,19.423,19.1617,18.9008, 18.6438,18.2672,18.0164,17.7712,17.5281 ,17.2867,17.0467,16.8143,16.5863, 16.3544,16.1308,15.9095,15.6822,15.4605 ,15.2356,14.8979,14.5677,14.2392, 13.9225,13.4878,13.2671,13.0456,12.8286 ,12.6113,12.2599)
FOOTPRINT_POINT_LONGITUDE = (227.656,227.402,227.145,226.886, 226.624,226.358,226.091,226.084,226.07, 226.063,226.057,226.058,226.056,226.053 ,226.05,226.045,226.043,226.037,226.033 ,226.03,226.029,226.025,226.018,226.009 ,226.0,225.99,225.98,225.968,225.956, 225.942,225.927,225.91,225.891,225.866, 225.836,225.819,225.795,225.779,225.755 ,225.739,225.716,225.7,225.673,225.639, 225.616,225.6,225.583,225.567,225.552, 225.76,226.146,226.718,227.096,227.586, 227.945,227.938,227.928,227.922,227.915 ,227.909,227.904,227.898,227.893, 227.888,227.88,227.875,227.87,227.866, 227.862,227.857,227.853,227.85,227.846, 227.842,227.839,227.835,227.83,227.827, 227.824,227.82,227.817,227.814,227.81, 227.807,227.804,227.8,227.796,227.793, 227.79,227.787,227.782,227.778,227.773, 227.768,227.762,227.76,227.758,227.756, 227.754,227.656)
ORBIT_NUMBER = 6220
ORBITAL_ECCENTRICITY = 0.575
ORBITAL_INCLINATION = 86.75
ORBITAL_SEMIMAJOR_AXIS = 8730.84
PERIAPSIS_ALTITUDE = 314.07
PERIAPSIS_ARGUMENT_ANGLE = 344.36
PERIAPSIS_TIME = 2008-11-05T09:22:09.000Z
SPACECRAFT_ORIENTATION = (0.0,1.0,0.0)
^MEX_ORIENTATION_DESC = "MEX_ORIENTATION_DESC.TXT"
SPACECRAFT_POINTING_MODE = ACROSSTRACK
^MEX_POINTING_DESC = "MEX_POINTING_DESC.TXT"
RIGHT_ASCENSION = -1e+32
DECLINATION = -1e+32
OFFSET_ANGLE = 1.0
SPACECRAFT_SOLAR_DISTANCE = 2.29021e+08
TARGET_NAME = MARS
/* CAMERA DATA ELEMENTS */
DETECTOR_TEMPERATURE = 17.5549
FOCAL_PLANE_TEMPERATURE = 7.156
INST_CMPRS_NAME = "DISCRETE COSINE TRANSFORMATION (DCT)"
INST_CMPRS_RATIO = 6.07509
INST_CMPRS_QUALITY = 0
INST_CMPRS_QUANTZ_TBL_ID = 0
INSTRUMENT_TEMPERATURE = 10.6223
LENS_TEMPERATURE = 8.1755
MACROPIXEL_SIZE = 1
MISSING_FRAMES = 0
PIXEL_SUBSAMPLING_FLAG = N
SIGNAL_CHAIN_ID = 1
/* RADIOMETRIC DATA ELEMENTS */
BANDWIDTH = 178.0
CENTER_FILTER_WAVELENGTH = 679.0
RADIANCE_OFFSET = 0.980374
RADIANCE_SCALING_FACTOR = 0.017126
REFLECTANCE_SCALING_FACTOR = 0.000475697
MEX:REFLECTANCE_OFFSET = 0.0272312
/* IMAGE OBJECT DEFINITIONS */
OBJECT = IMAGE
  INTERCHANGE_FORMAT = BINARY
  LINES = 29490
  LINE_SAMPLES = 5747
  SAMPLE_TYPE = UNSIGNED_INTEGER
  SAMPLE_BITS = 8
  BANDS = 1
  BAND_STORAGE_TYPE = BAND_SEQUENTIAL
  MAXIMUM = 255
  MEAN = 103.091
  MINIMUM = 1
  STANDARD_DEVIATION = 31.385
END_OBJECT = IMAGE
/* MAP OBJECT DEFINITIONS */
OBJECT = IMAGE_MAP_PROJECTION
  ^DATA_SET_MAP_PROJECTION_CATALOG= "DSMAP.CAT"
  A_AXIS_RADIUS = 3396.0
  B_AXIS_RADIUS = 3396.0
  C_AXIS_RADIUS = 3396.0
  CENTER_LATITUDE = 0.0
  CENTER_LONGITUDE = 227.0
  COORDINATE_SYSTEM_NAME = PLANETOGRAPHIC
  COORDINATE_SYSTEM_TYPE = "BODY-FIXED ROTATING"
  EASTERNMOST_LONGITUDE = 227.945
  FIRST_STANDARD_PARALLEL = "N/A"
  LINE_FIRST_PIXEL = 1
  LINE_LAST_PIXEL = 29490
  LINE_PROJECTION_OFFSET = 58624.0
  MAP_PROJECTION_ROTATION = 0.0
  MAP_PROJECTION_TYPE = SINUSOIDAL
  MAP_RESOLUTION = 2370.85521546667
  MAP_SCALE = 0.025
  MAXIMUM_LATITUDE = 24.7557
  MINIMUM_LATITUDE = 12.2599
  POSITIVE_LONGITUDE_DIRECTION = EAST
  REFERENCE_LATITUDE = "N/A"
  REFERENCE_LONGITUDE = "N/A"
  SAMPLE_FIRST_PIXEL = 1
  SAMPLE_LAST_PIXEL = 5747
  SAMPLE_PROJECTION_OFFSET = 3448.0
  SECOND_STANDARD_PARALLEL = "N/A"
  WESTERNMOST_LONGITUDE = 225.552
END_OBJECT = IMAGE_MAP_PROJECTION
/* The JPEG2000 image data file associated with this label. */
OBJECT = COMPRESSED_FILE
  FILE_NAME = "H6220_0000_S23.JP2"
  RECORD_TYPE = UNDEFINED
  FILE_RECORDS = UNK
  ENCODING_TYPE = "JP2"
  INTERCHANGE_FORMAT = BINARY
  UNCOMPRESSED_FILE_NAME = "H6220_0000_S23.IMG"
  REQUIRED_STORAGE_BYTES = "169507765"
  ^DESCRIPTION = "JP2INFO.TXT"
END_OBJECT = COMPRESSED_FILE
END
