PDS_VERSION_ID = PDS3
/* FILE DATA ELEMENTS */
RECORD_TYPE = STREAM
/* POINTERS TO DATA OBJECTS */
^COMPRESSED_FILE = "H6224_0000_S23.JP2"
/* IDENTIFICATION DATA ELEMENTS */
DATA_SET_ID = "MEX-M-HRSC-5-REFDR-MAPPROJECTED-V3.0"
DATA_SET_NAME = "MARS EXPRESS HRSC MAP PROJECTED REFDR V3.0"
DETECTOR_ID = MEX_HRSC_S2
EVENT_TYPE = "MARS-REGIONAL-MAPPING-Vo-Im-Fl"
INSTRUMENT_HOST_ID = MEX
INSTRUMENT_HOST_NAME = "MARS EXPRESS"
INSTRUMENT_ID = HRSC
INSTRUMENT_NAME = "HIGH RESOLUTION STEREO CAMERA"
MISSION_NAME = "MARS EXPRESS"
MISSION_PHASE_NAME = ME_Phase_15
PROCESSING_LEVEL_ID = 3
PRODUCT_CREATION_TIME = 2016-06-28T12:27:47.000Z
PRODUCT_ID = "H6224_0000_S23.JP2"
RELEASE_ID = 0070
REVISION_ID = 0000
/* QUALITY DATA ELEMENTS */
DATA_QUALITY_ID = 2
DATA_QUALITY_DESC = "Data calculated based on photogrammetrically improved orbit and attitude data"
/* TIME DATA ELEMENTS */
SPACECRAFT_CLOCK_START_COUNT = "1/0174055878.09027"
SPACECRAFT_CLOCK_STOP_COUNT = "1/0174056121.24585"
START_TIME = 2008-11-06T12:51:21.595Z
STOP_TIME = 2008-11-06T12:53:24.357Z
/* ORBITAL DATA ELEMENTS */
ASCENDING_NODE_LONGITUDE = 99.37
MAXIMUM_RESOLUTION = 18.9
FOOTPRINT_POINT_LATITUDE = (10.5724,10.5716,10.5711,10.5709, 10.5709,10.6016,10.8916,11.0396,11.3317 ,11.4828,11.6359,11.7894,11.9424, 12.1675,12.3176,12.4675,12.7554,12.9067 ,13.063,13.218,13.3724,13.5258,13.6818, 13.8393,14.0752,14.2322,14.4676,14.7079 ,14.8682,15.0282,15.2682,15.5124, 15.6758,15.9207,16.0838,16.3327,16.4993 ,16.6656,16.8317,17.0845,17.254,17.4233 ,17.5925,17.7616,17.9306,18.1839, 18.3527,18.5213,18.5443,18.5435,18.5444 ,18.5455,18.5463,18.5468,18.5472, 18.5482,18.549,18.3796,18.2113,18.0409, 17.8719,17.7015,17.4487,17.2789,17.0249 ,16.8561,16.6944,16.5261,16.3598, 16.1103,15.8651,15.7014,15.4573,15.2944 ,15.1343,14.9741,14.8139,14.6536, 14.4145,14.2576,14.0221,13.8651,13.7076 ,13.5518,13.3983,13.2445,13.0134, 12.8594,12.6299,12.4786,12.3288,12.1783 ,12.0273,11.8766,11.727,11.5058,11.2108 ,10.9896,10.6244,10.5724)
FOOTPRINT_POINT_LONGITUDE = (187.85,187.603,187.355,187.108,186.86, 186.593,186.585,186.58,186.572,186.567, 186.56,186.553,186.548,186.541,186.537, 186.532,186.528,186.524,186.518,186.512 ,186.507,186.502,186.497,186.492, 186.484,186.478,186.47,186.462,186.457, 186.451,186.443,186.434,186.428,186.419 ,186.414,186.404,186.398,186.392, 186.386,186.377,186.37,186.364,186.358, 186.351,186.345,186.335,186.328,186.322 ,186.616,186.833,187.009,187.166, 187.323,187.519,187.676,187.93,188.184, 188.307,188.304,188.3,188.297,188.293, 188.288,188.284,188.279,188.276,188.274 ,188.27,188.267,188.263,188.258,188.255 ,188.251,188.248,188.246,188.243,188.24 ,188.238,188.234,188.231,188.228, 188.225,188.223,188.22,188.218,188.216, 188.212,188.21,188.207,188.205,188.203, 188.201,188.199,188.197,188.195,188.192 ,188.188,188.186,188.181,187.85)
ORBIT_NUMBER = 6224
ORBITAL_ECCENTRICITY = 0.575
ORBITAL_INCLINATION = 86.75
ORBITAL_SEMIMAJOR_AXIS = 8720.5
PERIAPSIS_ALTITUDE = 314.39
PERIAPSIS_ARGUMENT_ANGLE = 343.69
PERIAPSIS_TIME = 2008-11-06T12:45:04.000Z
SPACECRAFT_ORIENTATION = (0.0,1.0,0.0)
^MEX_ORIENTATION_DESC = "MEX_ORIENTATION_DESC.TXT"
SPACECRAFT_POINTING_MODE = ACROSSTRACK
^MEX_POINTING_DESC = "MEX_POINTING_DESC.TXT"
RIGHT_ASCENSION = -1e+32
DECLINATION = -1e+32
OFFSET_ANGLE = 0.12
SPACECRAFT_SOLAR_DISTANCE = 2.288e+08
TARGET_NAME = MARS
/* CAMERA DATA ELEMENTS */
DETECTOR_TEMPERATURE = 18.1666
FOCAL_PLANE_TEMPERATURE = 6.9521
INST_CMPRS_NAME = "DISCRETE COSINE TRANSFORMATION (DCT)"
INST_CMPRS_RATIO = 6.40894
INST_CMPRS_QUALITY = 0
INST_CMPRS_QUANTZ_TBL_ID = 0
INSTRUMENT_TEMPERATURE = 11.0301
LENS_TEMPERATURE = 8.3794
MACROPIXEL_SIZE = 1
MISSING_FRAMES = 0
PIXEL_SUBSAMPLING_FLAG = N
SIGNAL_CHAIN_ID = 1
/* RADIOMETRIC DATA ELEMENTS */
BANDWIDTH = 178.0
CENTER_FILTER_WAVELENGTH = 679.0
RADIANCE_OFFSET = 2.22473
RADIANCE_SCALING_FACTOR = 0.00652214
REFLECTANCE_SCALING_FACTOR = 0.000180812
MEX:REFLECTANCE_OFFSET = 0.0616758
/* IMAGE OBJECT DEFINITIONS */
OBJECT = IMAGE
  INTERCHANGE_FORMAT = BINARY
  LINES = 18844
  LINE_SAMPLES = 4944
  SAMPLE_TYPE = UNSIGNED_INTEGER
  SAMPLE_BITS = 8
  BANDS = 1
  BAND_STORAGE_TYPE = BAND_SEQUENTIAL
  MAXIMUM = 255
  MEAN = 99.8433
  MINIMUM = 1
  STANDARD_DEVIATION = 32.4054
END_OBJECT = IMAGE
/* MAP OBJECT DEFINITIONS */
OBJECT = IMAGE_MAP_PROJECTION
  ^DATA_SET_MAP_PROJECTION_CATALOG= "DSMAP.CAT"
  A_AXIS_RADIUS = 3396.0
  B_AXIS_RADIUS = 3396.0
  C_AXIS_RADIUS = 3396.0
  CENTER_LATITUDE = 0.0
  CENTER_LONGITUDE = 187.0
  COORDINATE_SYSTEM_NAME = PLANETOGRAPHIC
  COORDINATE_SYSTEM_TYPE = "BODY-FIXED ROTATING"
  EASTERNMOST_LONGITUDE = 188.307
  FIRST_STANDARD_PARALLEL = "N/A"
  LINE_FIRST_PIXEL = 1
  LINE_LAST_PIXEL = 18844
  LINE_PROJECTION_OFFSET = 43916.0
  MAP_PROJECTION_ROTATION = 0.0
  MAP_PROJECTION_TYPE = SINUSOIDAL
  MAP_RESOLUTION = 2370.85521546667
  MAP_SCALE = 0.025
  MAXIMUM_LATITUDE = 18.549
  MINIMUM_LATITUDE = 10.5709
  POSITIVE_LONGITUDE_DIRECTION = EAST
  REFERENCE_LATITUDE = "N/A"
  REFERENCE_LONGITUDE = "N/A"
  SAMPLE_FIRST_PIXEL = 1
  SAMPLE_LAST_PIXEL = 4944
  SAMPLE_PROJECTION_OFFSET = 1756.0
  SECOND_STANDARD_PARALLEL = "N/A"
  WESTERNMOST_LONGITUDE = 186.322
END_OBJECT = IMAGE_MAP_PROJECTION
/* The JPEG2000 image data file associated with this label. */
OBJECT = COMPRESSED_FILE
  FILE_NAME = "H6224_0000_S23.JP2"
  RECORD_TYPE = UNDEFINED
  FILE_RECORDS = UNK
  ENCODING_TYPE = "JP2"
  INTERCHANGE_FORMAT = BINARY
  UNCOMPRESSED_FILE_NAME = "H6224_0000_S23.IMG"
  REQUIRED_STORAGE_BYTES = "93189456"
  ^DESCRIPTION = "JP2INFO.TXT"
END_OBJECT = COMPRESSED_FILE
END
