PDS_VERSION_ID = PDS3
/* FILE DATA ELEMENTS */
RECORD_TYPE = STREAM
/* POINTERS TO DATA OBJECTS */
^COMPRESSED_FILE = "H6235_0000_ND3.JP2"
/* IDENTIFICATION DATA ELEMENTS */
DATA_SET_ID = "MEX-M-HRSC-5-REFDR-MAPPROJECTED-V3.0"
DATA_SET_NAME = "MARS EXPRESS HRSC MAP PROJECTED REFDR V3.0"
DETECTOR_ID = MEX_HRSC_NADIR
EVENT_TYPE = "MARS-REGIONAL-MAPPING-Vo"
INSTRUMENT_HOST_ID = MEX
INSTRUMENT_HOST_NAME = "MARS EXPRESS"
INSTRUMENT_ID = HRSC
INSTRUMENT_NAME = "HIGH RESOLUTION STEREO CAMERA"
MISSION_NAME = "MARS EXPRESS"
MISSION_PHASE_NAME = ME_Phase_15
PROCESSING_LEVEL_ID = 3
PRODUCT_CREATION_TIME = 2016-06-28T12:27:47.000Z
PRODUCT_ID = "H6235_0000_ND3.JP2"
RELEASE_ID = 0070
REVISION_ID = 0000
/* QUALITY DATA ELEMENTS */
DATA_QUALITY_ID = 1
DATA_QUALITY_DESC = "Data calculated based on original SPICE kernels"
/* TIME DATA ELEMENTS */
SPACECRAFT_CLOCK_START_COUNT = "1/0174326774.09033"
SPACECRAFT_CLOCK_STOP_COUNT = "1/0174326941.64430"
START_TIME = 2008-11-09T16:06:49.594Z
STOP_TIME = 2008-11-09T16:08:22.609Z
/* ORBITAL DATA ELEMENTS */
ASCENDING_NODE_LONGITUDE = 99.15
MAXIMUM_RESOLUTION = 14.7
FOOTPRINT_POINT_LATITUDE = (-2.42134,-2.42254,-2.42373,-2.42488, -2.42601,-2.42711,-2.27538,-2.0732, -1.87117,-1.69149,-1.57108,-1.45071, -1.3304,-1.21014,-1.08994,-0.969789, -0.849693,-0.729653,-0.609668,-0.489739 ,-0.369865,-0.250047,-0.130286, -0.0105819,0.109065,0.228654,0.348185, 0.467658,0.587073,0.706428,0.825725, 0.944961,1.06414,1.18326,1.30231, 1.42131,1.54024,1.65912,1.77793,1.89668 ,2.01536,2.13399,2.25255,2.37105, 2.48948,2.72616,2.96257,3.19873,3.31863 ,3.43973,3.46131,3.46329,3.46521, 3.46707,3.46885,3.47028,3.34909,3.22862 ,2.9923,2.75571,2.51886,2.40035,2.28176 ,2.16312,2.04441,1.92564,1.8068,1.68791 ,1.56895,1.44993,1.33085,1.21171, 1.09251,0.973243,0.853922,0.734541, 0.615101,0.495601,0.376044,0.256428, 0.136754,0.0170216,-0.102767,-0.222613, -0.342515,-0.462474,-0.582489,-0.702559 ,-0.822684,-0.942864,-1.0631,-1.18339, -1.30373,-1.42413,-1.54458,-1.66508, -1.8984,-2.10062,-2.30297,-2.42134)
FOOTPRINT_POINT_LONGITUDE = (166.32,166.12,165.919,165.716,165.513, 165.307,165.195,165.191,165.188,165.184 ,165.182,165.18,165.178,165.176,165.173 ,165.171,165.169,165.166,165.164, 165.162,165.159,165.157,165.154,165.152 ,165.149,165.147,165.144,165.142, 165.139,165.137,165.134,165.132,165.129 ,165.126,165.124,165.121,165.118, 165.116,165.113,165.11,165.107,165.104, 165.102,165.099,165.096,165.09,165.084, 165.079,165.076,165.072,165.394,165.626 ,165.856,166.085,166.313,166.532, 166.531,166.53,166.528,166.527,166.525, 166.524,166.523,166.522,166.521,166.521 ,166.52,166.519,166.518,166.517,166.516 ,166.516,166.515,166.514,166.513, 166.512,166.512,166.511,166.51,166.509, 166.509,166.508,166.507,166.507,166.506 ,166.505,166.505,166.504,166.503, 166.502,166.502,166.501,166.501,166.5, 166.499,166.499,166.497,166.496,166.495 ,166.32)
ORBIT_NUMBER = 6235
ORBITAL_ECCENTRICITY = 0.575
ORBITAL_INCLINATION = 86.75
ORBITAL_SEMIMAJOR_AXIS = 8719.15
PERIAPSIS_ALTITUDE = 313.9
PERIAPSIS_ARGUMENT_ANGLE = 341.78
PERIAPSIS_TIME = 2008-11-09T16:02:48.000Z
SPACECRAFT_ORIENTATION = (0.0,1.0,0.0)
^MEX_ORIENTATION_DESC = "MEX_ORIENTATION_DESC.TXT"
SPACECRAFT_POINTING_MODE = ACROSSTRACK
^MEX_POINTING_DESC = "MEX_POINTING_DESC.TXT"
RIGHT_ASCENSION = -1e+32
DECLINATION = -1e+32
OFFSET_ANGLE = 0.55
SPACECRAFT_SOLAR_DISTANCE = 2.2819e+08
TARGET_NAME = MARS
/* CAMERA DATA ELEMENTS */
DETECTOR_TEMPERATURE = 18.1666
FOCAL_PLANE_TEMPERATURE = 7.5638
INST_CMPRS_NAME = "DISCRETE COSINE TRANSFORMATION (DCT)"
INST_CMPRS_RATIO = 6.62872
INST_CMPRS_QUALITY = 0
INST_CMPRS_QUANTZ_TBL_ID = 0
INSTRUMENT_TEMPERATURE = 11.0301
LENS_TEMPERATURE = 8.1755
MACROPIXEL_SIZE = 1
MISSING_FRAMES = 0
PIXEL_SUBSAMPLING_FLAG = N
SIGNAL_CHAIN_ID = 0
/* RADIOMETRIC DATA ELEMENTS */
BANDWIDTH = 177.0
CENTER_FILTER_WAVELENGTH = 677.5
RADIANCE_OFFSET = 2.0471
RADIANCE_SCALING_FACTOR = 0.00577705
REFLECTANCE_SCALING_FACTOR = 0.000159802
MEX:REFLECTANCE_OFFSET = 0.0566258
/* IMAGE OBJECT DEFINITIONS */
OBJECT = IMAGE
  INTERCHANGE_FORMAT = BINARY
  LINES = 27977
  LINE_SAMPLES = 7183
  SAMPLE_TYPE = UNSIGNED_INTEGER
  SAMPLE_BITS = 8
  BANDS = 1
  BAND_STORAGE_TYPE = BAND_SEQUENTIAL
  MAXIMUM = 255
  MEAN = 119.962
  MINIMUM = 1
  STANDARD_DEVIATION = 43.4804
END_OBJECT = IMAGE
/* MAP OBJECT DEFINITIONS */
OBJECT = IMAGE_MAP_PROJECTION
  ^DATA_SET_MAP_PROJECTION_CATALOG= "DSMAP.CAT"
  A_AXIS_RADIUS = 3396.0
  B_AXIS_RADIUS = 3396.0
  C_AXIS_RADIUS = 3396.0
  CENTER_LATITUDE = 0.0
  CENTER_LONGITUDE = 166.0
  COORDINATE_SYSTEM_NAME = PLANETOGRAPHIC
  COORDINATE_SYSTEM_TYPE = "BODY-FIXED ROTATING"
  EASTERNMOST_LONGITUDE = 166.532
  FIRST_STANDARD_PARALLEL = "N/A"
  LINE_FIRST_PIXEL = 1
  LINE_LAST_PIXEL = 27977
  LINE_PROJECTION_OFFSET = 16464.0
  MAP_PROJECTION_ROTATION = 0.0
  MAP_PROJECTION_TYPE = SINUSOIDAL
  MAP_RESOLUTION = 4741.71043093333
  MAP_SCALE = 0.0125
  MAXIMUM_LATITUDE = 3.47028
  MINIMUM_LATITUDE = -2.42711
  POSITIVE_LONGITUDE_DIRECTION = EAST
  REFERENCE_LATITUDE = "N/A"
  REFERENCE_LONGITUDE = "N/A"
  SAMPLE_FIRST_PIXEL = 1
  SAMPLE_LAST_PIXEL = 7183
  SAMPLE_PROJECTION_OFFSET = 4624.0
  SECOND_STANDARD_PARALLEL = "N/A"
  WESTERNMOST_LONGITUDE = 165.072
END_OBJECT = IMAGE_MAP_PROJECTION
/* The JPEG2000 image data file associated with this label. */
OBJECT = COMPRESSED_FILE
  FILE_NAME = "H6235_0000_ND3.JP2"
  RECORD_TYPE = UNDEFINED
  FILE_RECORDS = UNK
  ENCODING_TYPE = "JP2"
  INTERCHANGE_FORMAT = BINARY
  UNCOMPRESSED_FILE_NAME = "H6235_0000_ND3.IMG"
  REQUIRED_STORAGE_BYTES = "200994706"
  ^DESCRIPTION = "JP2INFO.TXT"
END_OBJECT = COMPRESSED_FILE
END
