PDS_VERSION_ID = PDS3
/* FILE DATA ELEMENTS */
RECORD_TYPE = STREAM
/* POINTERS TO DATA OBJECTS */
^COMPRESSED_FILE = "H6241_0000_S23.JP2"
/* IDENTIFICATION DATA ELEMENTS */
DATA_SET_ID = "MEX-M-HRSC-5-REFDR-MAPPROJECTED-V3.0"
DATA_SET_NAME = "MARS EXPRESS HRSC MAP PROJECTED REFDR V3.0"
DETECTOR_ID = MEX_HRSC_S2
EVENT_TYPE = "MARS-REGIONAL-MAPPING-Vo-Te-Fl"
INSTRUMENT_HOST_ID = MEX
INSTRUMENT_HOST_NAME = "MARS EXPRESS"
INSTRUMENT_ID = HRSC
INSTRUMENT_NAME = "HIGH RESOLUTION STEREO CAMERA"
MISSION_NAME = "MARS EXPRESS"
MISSION_PHASE_NAME = ME_Phase_15
PROCESSING_LEVEL_ID = 3
PRODUCT_CREATION_TIME = 2016-06-28T12:27:47.000Z
PRODUCT_ID = "H6241_0000_S23.JP2"
RELEASE_ID = 0070
REVISION_ID = 0000
/* QUALITY DATA ELEMENTS */
DATA_QUALITY_ID = 2
DATA_QUALITY_DESC = "Data calculated based on photogrammetrically improved orbit and attitude data"
/* TIME DATA ELEMENTS */
SPACECRAFT_CLOCK_START_COUNT = "1/0174474644.08243"
SPACECRAFT_CLOCK_STOP_COUNT = "1/0174475003.00682"
START_TIME = 2008-11-11T09:10:47.614Z
STOP_TIME = 2008-11-11T09:14:52.966Z
/* ORBITAL DATA ELEMENTS */
ASCENDING_NODE_LONGITUDE = 99.03
MAXIMUM_RESOLUTION = 30.2
FOOTPRINT_POINT_LATITUDE = (-2.07546,-2.0747,-2.0736,-2.07218, -1.95702,-1.66795,-1.26727,-1.01052, -0.626109,-0.400016,0.0631763,0.372316, 0.682507,0.992117,1.30164,1.76792, 2.0793,2.54637,3.01366,3.32568,3.63687, 3.94577,4.40879,4.87207,5.18862,5.50553 ,5.82226,6.14324,6.46816,6.79223, 7.11855,7.45119,7.78306,8.11929,8.45981 ,8.79899,9.13958,9.48549,9.83054, 10.3571,10.7086,11.2468,11.6065,11.9711 ,12.3382,12.8954,13.2697,13.6492, 14.0306,14.0395,14.04,14.0395,14.0385, 14.0392,14.0384,13.846,13.4666,13.0902, 12.5255,12.1583,11.6101,11.2498,10.7121 ,10.3589,9.83171,9.4856,8.96768,8.6286, 8.11994,7.78753,7.45574,6.96012,6.63604 ,6.31197,5.98744,5.67087,5.20217, 4.72673,4.26141,3.95247,3.4861,3.17458, 2.86242,2.54885,2.24475,1.92749,1.61739 ,1.30706,0.996473,0.686546,0.375578, -0.0901037,-0.399792,-0.660318, -0.921243,-1.31246,-1.55415,-1.82279, -2.09656,-2.07546)
FOOTPRINT_POINT_LONGITUDE = (285.864,285.668,285.473,285.277,284.97 ,284.955,284.944,284.941,284.936, 284.944,284.935,284.929,284.923,284.917 ,284.911,284.9,284.892,284.881,284.869, 284.86,284.852,284.844,284.833,284.821, 284.812,284.804,284.795,284.786,284.776 ,284.767,284.757,284.747,284.737, 284.726,284.715,284.704,284.693,284.683 ,284.672,284.655,284.644,284.625, 284.613,284.601,284.588,284.568,284.555 ,284.541,284.526,284.795,285.028, 285.243,285.654,285.886,286.099,286.369 ,286.363,286.358,286.348,286.343, 286.336,286.331,286.324,286.32,286.313, 286.309,286.303,286.299,286.294,286.291 ,286.287,286.282,286.279,286.276, 286.273,286.271,286.268,286.263,286.259 ,286.257,286.253,286.251,286.248, 286.246,286.245,286.242,286.24,286.238, 286.236,286.235,286.233,286.231,286.23, 286.229,286.228,286.226,286.229,286.226 ,286.223,285.864)
ORBIT_NUMBER = 6241
ORBITAL_ECCENTRICITY = 0.575
ORBITAL_INCLINATION = 86.74
ORBITAL_SEMIMAJOR_AXIS = 8725.97
PERIAPSIS_ALTITUDE = 313.05
PERIAPSIS_ARGUMENT_ANGLE = 340.73
PERIAPSIS_TIME = 2008-11-11T09:06:57.000Z
SPACECRAFT_ORIENTATION = (0.0,1.0,0.0)
^MEX_ORIENTATION_DESC = "MEX_ORIENTATION_DESC.TXT"
SPACECRAFT_POINTING_MODE = ACROSSTRACK
^MEX_POINTING_DESC = "MEX_POINTING_DESC.TXT"
RIGHT_ASCENSION = -1e+32
DECLINATION = -1e+32
OFFSET_ANGLE = 0.17
SPACECRAFT_SOLAR_DISTANCE = 2.27857e+08
TARGET_NAME = MARS
/* CAMERA DATA ELEMENTS */
DETECTOR_TEMPERATURE = 18.3705
FOCAL_PLANE_TEMPERATURE = 8.3794
INST_CMPRS_NAME = "DISCRETE COSINE TRANSFORMATION (DCT)"
INST_CMPRS_RATIO = 9.90032
INST_CMPRS_QUALITY = 0
INST_CMPRS_QUANTZ_TBL_ID = 0
INSTRUMENT_TEMPERATURE = 11.0301
LENS_TEMPERATURE = 8.5833
MACROPIXEL_SIZE = 2
MISSING_FRAMES = 0
PIXEL_SUBSAMPLING_FLAG = N
SIGNAL_CHAIN_ID = 1
/* RADIOMETRIC DATA ELEMENTS */
BANDWIDTH = 178.0
CENTER_FILTER_WAVELENGTH = 679.0
RADIANCE_OFFSET = 2.1751
RADIANCE_SCALING_FACTOR = 0.0121213
REFLECTANCE_SCALING_FACTOR = 0.000333274
MEX:REFLECTANCE_OFFSET = 0.0598042
/* IMAGE OBJECT DEFINITIONS */
OBJECT = IMAGE
  INTERCHANGE_FORMAT = BINARY
  LINES = 38226
  LINE_SAMPLES = 4733
  SAMPLE_TYPE = UNSIGNED_INTEGER
  SAMPLE_BITS = 8
  BANDS = 1
  BAND_STORAGE_TYPE = BAND_SEQUENTIAL
  MAXIMUM = 255
  MEAN = 84.4983
  MINIMUM = 1
  STANDARD_DEVIATION = 26.003
END_OBJECT = IMAGE
/* MAP OBJECT DEFINITIONS */
OBJECT = IMAGE_MAP_PROJECTION
  ^DATA_SET_MAP_PROJECTION_CATALOG= "DSMAP.CAT"
  A_AXIS_RADIUS = 3396.0
  B_AXIS_RADIUS = 3396.0
  C_AXIS_RADIUS = 3396.0
  CENTER_LATITUDE = 0.0
  CENTER_LONGITUDE = 286.0
  COORDINATE_SYSTEM_NAME = PLANETOGRAPHIC
  COORDINATE_SYSTEM_TYPE = "BODY-FIXED ROTATING"
  EASTERNMOST_LONGITUDE = 286.369
  FIRST_STANDARD_PARALLEL = "N/A"
  LINE_FIRST_PIXEL = 1
  LINE_LAST_PIXEL = 38226
  LINE_PROJECTION_OFFSET = 33282.25
  MAP_PROJECTION_ROTATION = 0.0
  MAP_PROJECTION_TYPE = SINUSOIDAL
  MAP_RESOLUTION = 2370.85521546667
  MAP_SCALE = 0.025
  MAXIMUM_LATITUDE = 14.04
  MINIMUM_LATITUDE = -2.09656
  POSITIVE_LONGITUDE_DIRECTION = EAST
  REFERENCE_LATITUDE = "N/A"
  REFERENCE_LONGITUDE = "N/A"
  SAMPLE_FIRST_PIXEL = 1
  SAMPLE_LAST_PIXEL = 4733
  SAMPLE_PROJECTION_OFFSET = 3641.75
  SECOND_STANDARD_PARALLEL = "N/A"
  WESTERNMOST_LONGITUDE = 284.526
END_OBJECT = IMAGE_MAP_PROJECTION
/* The JPEG2000 image data file associated with this label. */
OBJECT = COMPRESSED_FILE
  FILE_NAME = "H6241_0000_S23.JP2"
  RECORD_TYPE = UNDEFINED
  FILE_RECORDS = UNK
  ENCODING_TYPE = "JP2"
  INTERCHANGE_FORMAT = BINARY
  UNCOMPRESSED_FILE_NAME = "H6241_0000_S23.IMG"
  REQUIRED_STORAGE_BYTES = "180947323"
  ^DESCRIPTION = "JP2INFO.TXT"
END_OBJECT = COMPRESSED_FILE
END
