PDS_VERSION_ID = PDS3
/* FILE DATA ELEMENTS */
RECORD_TYPE = STREAM
/* POINTERS TO DATA OBJECTS */
^COMPRESSED_FILE = "H6250_0000_BL3.JP2"
/* IDENTIFICATION DATA ELEMENTS */
DATA_SET_ID = "MEX-M-HRSC-5-REFDR-MAPPROJECTED-V3.0"
DATA_SET_NAME = "MARS EXPRESS HRSC MAP PROJECTED REFDR V3.0"
DETECTOR_ID = MEX_HRSC_BLUE
EVENT_TYPE = "MARS-REGIONAL-MAPPING-Vo-Im-Fl"
INSTRUMENT_HOST_ID = MEX
INSTRUMENT_HOST_NAME = "MARS EXPRESS"
INSTRUMENT_ID = HRSC
INSTRUMENT_NAME = "HIGH RESOLUTION STEREO CAMERA"
MISSION_NAME = "MARS EXPRESS"
MISSION_PHASE_NAME = ME_Phase_15
PROCESSING_LEVEL_ID = 3
PRODUCT_CREATION_TIME = 2016-06-28T12:27:47.000Z
PRODUCT_ID = "H6250_0000_BL3.JP2"
RELEASE_ID = 0070
REVISION_ID = 0000
/* QUALITY DATA ELEMENTS */
DATA_QUALITY_ID = 2
DATA_QUALITY_DESC = "Data calculated based on photogrammetrically improved orbit and attitude data"
/* TIME DATA ELEMENTS */
SPACECRAFT_CLOCK_START_COUNT = "1/0174696444.08253"
SPACECRAFT_CLOCK_STOP_COUNT = "1/0174696679.07235"
START_TIME = 2008-11-13T22:47:55.945Z
STOP_TIME = 2008-11-13T22:50:22.021Z
/* ORBITAL DATA ELEMENTS */
ASCENDING_NODE_LONGITUDE = 98.85
MAXIMUM_RESOLUTION = 61.4
FOOTPRINT_POINT_LATITUDE = (-1.5124,-1.5149,-1.51674,-1.51889, -1.52023,-1.43302,-1.25775,-1.08256, -0.907515,-0.732555,-0.557826,-0.382644 ,-0.120665,0.314308,0.575199,0.749114, 0.923042,1.27017,1.70973,1.88741, 2.06486,2.24202,2.41969,2.59893,2.78084 ,2.96208,3.23322,3.41445,3.59635, 3.78192,3.96718,4.15224,4.33701,4.61706 ,4.80615,4.99503,5.18375,5.37229, 5.66039,5.85307,6.04551,6.23788,6.53092 ,6.72731,6.92339,7.11914,7.31797, 7.51758,7.62324,7.62606,7.62978,7.63233 ,7.63419,7.43444,7.23403,7.03677, 6.84094,6.64479,6.44825,6.25336,6.06101 ,5.86845,5.67561,5.38727,5.19859, 5.00974,4.8207,4.63157,4.44399,4.25905, 4.0739,3.88856,3.70311,3.51874,3.33754, 3.15622,2.97475,2.7932,2.52169,2.34437, 2.16695,1.98928,1.8115,1.63361,1.45692, 1.10985,0.76222,0.588193,0.414138, 0.23992,0.0655484,-0.108956,-0.283781, -0.458965,-0.633439,-0.808269,-0.983397 ,-1.15841,-1.33376,-1.5124)
FOOTPRINT_POINT_LONGITUDE = (105.429,105.105,104.856,104.546, 104.346,104.168,104.164,104.16,104.156, 104.152,104.149,104.144,104.138,104.129 ,104.123,104.119,104.114,104.106, 104.094,104.089,104.085,104.081,104.076 ,104.07,104.064,104.06,104.054,104.049, 104.044,104.039,104.033,104.028,104.023 ,104.015,104.009,104.004,103.999, 103.993,103.984,103.978,103.973,103.967 ,103.957,103.951,103.945,103.939, 103.933,103.928,104.234,104.498,104.871 ,105.166,105.591,105.588,105.586, 105.583,105.581,105.579,105.576,105.574 ,105.572,105.57,105.568,105.564,105.562 ,105.56,105.558,105.556,105.554,105.552 ,105.55,105.548,105.546,105.544,105.542 ,105.541,105.539,105.537,105.535, 105.533,105.532,105.53,105.529,105.527, 105.526,105.523,105.52,105.519,105.518, 105.517,105.515,105.514,105.512,105.511 ,105.51,105.509,105.508,105.507,105.506 ,105.429)
ORBIT_NUMBER = 6250
ORBITAL_ECCENTRICITY = 0.575
ORBITAL_INCLINATION = 86.74
ORBITAL_SEMIMAJOR_AXIS = 8724.16
PERIAPSIS_ALTITUDE = 312.09
PERIAPSIS_ARGUMENT_ANGLE = 339.13
PERIAPSIS_TIME = 2008-11-13T22:43:05.000Z
SPACECRAFT_ORIENTATION = (0.0,1.0,0.0)
^MEX_ORIENTATION_DESC = "MEX_ORIENTATION_DESC.TXT"
SPACECRAFT_POINTING_MODE = NADIR
^MEX_POINTING_DESC = "MEX_POINTING_DESC.TXT"
RIGHT_ASCENSION = -1e+32
DECLINATION = -1e+32
OFFSET_ANGLE = -1e+32
SPACECRAFT_SOLAR_DISTANCE = 2.27356e+08
TARGET_NAME = MARS
/* CAMERA DATA ELEMENTS */
DETECTOR_TEMPERATURE = 16.3315
FOCAL_PLANE_TEMPERATURE = 7.7677
INST_CMPRS_NAME = "DISCRETE COSINE TRANSFORMATION (DCT)"
INST_CMPRS_RATIO = 4.6156
INST_CMPRS_QUALITY = 0
INST_CMPRS_QUANTZ_TBL_ID = 0
INSTRUMENT_TEMPERATURE = 11.234
LENS_TEMPERATURE = 8.1755
MACROPIXEL_SIZE = 4
MISSING_FRAMES = 0
PIXEL_SUBSAMPLING_FLAG = N
SIGNAL_CHAIN_ID = 2
/* RADIOMETRIC DATA ELEMENTS */
BANDWIDTH = 76.0
CENTER_FILTER_WAVELENGTH = 444.0
RADIANCE_OFFSET = 0.343476
RADIANCE_SCALING_FACTOR = 0.000854804
REFLECTANCE_SCALING_FACTOR = 4.53976e-05
MEX:REFLECTANCE_OFFSET = 0.0182416
/* IMAGE OBJECT DEFINITIONS */
OBJECT = IMAGE
  INTERCHANGE_FORMAT = BINARY
  LINES = 10864
  LINE_SAMPLES = 2080
  SAMPLE_TYPE = UNSIGNED_INTEGER
  SAMPLE_BITS = 8
  BANDS = 1
  BAND_STORAGE_TYPE = BAND_SEQUENTIAL
  MAXIMUM = 255
  MEAN = 119.309
  MINIMUM = 1
  STANDARD_DEVIATION = 27.292
END_OBJECT = IMAGE
/* MAP OBJECT DEFINITIONS */
OBJECT = IMAGE_MAP_PROJECTION
  ^DATA_SET_MAP_PROJECTION_CATALOG= "DSMAP.CAT"
  A_AXIS_RADIUS = 3396.0
  B_AXIS_RADIUS = 3396.0
  C_AXIS_RADIUS = 3396.0
  CENTER_LATITUDE = 0.0
  CENTER_LONGITUDE = 105.0
  COORDINATE_SYSTEM_NAME = PLANETOGRAPHIC
  COORDINATE_SYSTEM_TYPE = "BODY-FIXED ROTATING"
  EASTERNMOST_LONGITUDE = 105.591
  FIRST_STANDARD_PARALLEL = "N/A"
  LINE_FIRST_PIXEL = 1
  LINE_LAST_PIXEL = 10864
  LINE_PROJECTION_OFFSET = 9044.875
  MAP_PROJECTION_ROTATION = 0.0
  MAP_PROJECTION_TYPE = SINUSOIDAL
  MAP_RESOLUTION = 1185.42760773333
  MAP_SCALE = 0.05
  MAXIMUM_LATITUDE = 7.63419
  MINIMUM_LATITUDE = -1.52023
  POSITIVE_LONGITUDE_DIRECTION = EAST
  REFERENCE_LATITUDE = "N/A"
  REFERENCE_LONGITUDE = "N/A"
  SAMPLE_FIRST_PIXEL = 1
  SAMPLE_LAST_PIXEL = 2080
  SAMPLE_PROJECTION_OFFSET = 1331.375
  SECOND_STANDARD_PARALLEL = "N/A"
  WESTERNMOST_LONGITUDE = 103.928
END_OBJECT = IMAGE_MAP_PROJECTION
/* The JPEG2000 image data file associated with this label. */
OBJECT = COMPRESSED_FILE
  FILE_NAME = "H6250_0000_BL3.JP2"
  RECORD_TYPE = UNDEFINED
  FILE_RECORDS = UNK
  ENCODING_TYPE = "JP2"
  INTERCHANGE_FORMAT = BINARY
  UNCOMPRESSED_FILE_NAME = "H6250_0000_BL3.IMG"
  REQUIRED_STORAGE_BYTES = "22617920"
  ^DESCRIPTION = "JP2INFO.TXT"
END_OBJECT = COMPRESSED_FILE
END
