PDS_VERSION_ID = PDS3
/* FILE DATA ELEMENTS */
RECORD_TYPE = STREAM
/* POINTERS TO DATA OBJECTS */
^COMPRESSED_FILE = "H6250_0000_P13.JP2"
/* IDENTIFICATION DATA ELEMENTS */
DATA_SET_ID = "MEX-M-HRSC-5-REFDR-MAPPROJECTED-V3.0"
DATA_SET_NAME = "MARS EXPRESS HRSC MAP PROJECTED REFDR V3.0"
DETECTOR_ID = MEX_HRSC_P1
EVENT_TYPE = "MARS-REGIONAL-MAPPING-Vo-Im-Fl"
INSTRUMENT_HOST_ID = MEX
INSTRUMENT_HOST_NAME = "MARS EXPRESS"
INSTRUMENT_ID = HRSC
INSTRUMENT_NAME = "HIGH RESOLUTION STEREO CAMERA"
MISSION_NAME = "MARS EXPRESS"
MISSION_PHASE_NAME = ME_Phase_15
PROCESSING_LEVEL_ID = 3
PRODUCT_CREATION_TIME = 2016-06-28T12:27:47.000Z
PRODUCT_ID = "H6250_0000_P13.JP2"
RELEASE_ID = 0070
REVISION_ID = 0000
/* QUALITY DATA ELEMENTS */
DATA_QUALITY_ID = 2
DATA_QUALITY_DESC = "Data calculated based on photogrammetrically improved orbit and attitude data"
/* TIME DATA ELEMENTS */
SPACECRAFT_CLOCK_START_COUNT = "1/0174696444.08253"
SPACECRAFT_CLOCK_STOP_COUNT = "1/0174696679.07235"
START_TIME = 2008-11-13T22:48:25.882Z
STOP_TIME = 2008-11-13T22:51:01.949Z
/* ORBITAL DATA ELEMENTS */
ASCENDING_NODE_LONGITUDE = 98.85
MAXIMUM_RESOLUTION = 32.8
FOOTPRINT_POINT_LATITUDE = (-1.53343,-1.535,-1.53654,-1.53835, -1.54112,-1.3712,-1.1175,-0.779805, -0.442419,-0.271133,-0.0985493,0.077243 ,0.249686,0.507446,0.682376,0.857233, 1.0329,1.20774,1.46945,1.6477,1.91604, 2.09522,2.27461,2.54176,2.72226,2.90467 ,3.09029,3.26906,3.54796,3.73542,3.9202 ,4.10513,4.29445,4.48221,4.67031, 4.85827,5.04984,5.24155,5.43288,5.62356 ,5.8179,6.01276,6.20714,6.4015,6.59971, 6.89613,7.09349,7.2958,7.59902,7.61121, 7.61413,7.61724,7.61977,7.62165,7.62302 ,7.62512,7.32422,7.12341,6.92484, 6.62712,6.33091,6.13638,5.9413,5.64948, 5.45836,5.26688,5.07513,4.8834,4.69528, 4.50708,4.31841,4.03666,3.85174,3.6664, 3.48087,3.20389,3.02211,2.74865,2.56622 ,2.38391,2.20462,2.02673,1.84786, 1.66857,1.48915,1.31392,1.13846, 0.874847,0.699079,0.523307,0.351261, 0.0929113,-0.0793418,-0.337179, -0.508388,-0.678118,-0.931787,-1.1008, -1.43943,-1.53343)
FOOTPRINT_POINT_LONGITUDE = (105.195,104.964,104.761,104.545, 104.247,104.13,104.124,104.116,104.107, 104.102,104.098,104.095,104.091,104.084 ,104.08,104.074,104.07,104.065,104.057, 104.052,104.044,104.039,104.035,104.025 ,104.019,104.013,104.01,104.003,103.995 ,103.99,103.984,103.978,103.973,103.966 ,103.96,103.954,103.948,103.942,103.935 ,103.929,103.922,103.915,103.909, 103.902,103.895,103.885,103.878,103.871 ,103.861,104.136,104.344,104.655, 105.001,105.209,105.416,105.647,105.642 ,105.638,105.636,105.631,105.627, 105.624,105.621,105.616,105.614,105.611 ,105.608,105.605,105.603,105.6,105.598, 105.594,105.591,105.589,105.587,105.583 ,105.581,105.578,105.575,105.573, 105.572,105.569,105.567,105.565,105.563 ,105.561,105.56,105.557,105.555,105.553 ,105.552,105.549,105.547,105.544, 105.542,105.541,105.539,105.538,105.535 ,105.195)
ORBIT_NUMBER = 6250
ORBITAL_ECCENTRICITY = 0.575
ORBITAL_INCLINATION = 86.74
ORBITAL_SEMIMAJOR_AXIS = 8724.16
PERIAPSIS_ALTITUDE = 312.09
PERIAPSIS_ARGUMENT_ANGLE = 339.13
PERIAPSIS_TIME = 2008-11-13T22:43:05.000Z
SPACECRAFT_ORIENTATION = (0.0,1.0,0.0)
^MEX_ORIENTATION_DESC = "MEX_ORIENTATION_DESC.TXT"
SPACECRAFT_POINTING_MODE = NADIR
^MEX_POINTING_DESC = "MEX_POINTING_DESC.TXT"
RIGHT_ASCENSION = -1e+32
DECLINATION = -1e+32
OFFSET_ANGLE = -1e+32
SPACECRAFT_SOLAR_DISTANCE = 2.27356e+08
TARGET_NAME = MARS
/* CAMERA DATA ELEMENTS */
DETECTOR_TEMPERATURE = 17.1471
FOCAL_PLANE_TEMPERATURE = 7.7677
INST_CMPRS_NAME = "DISCRETE COSINE TRANSFORMATION (DCT)"
INST_CMPRS_RATIO = 8.51847
INST_CMPRS_QUALITY = 0
INST_CMPRS_QUANTZ_TBL_ID = 0
INSTRUMENT_TEMPERATURE = 11.234
LENS_TEMPERATURE = 8.1755
MACROPIXEL_SIZE = 2
MISSING_FRAMES = 0
PIXEL_SUBSAMPLING_FLAG = N
SIGNAL_CHAIN_ID = 3
/* RADIOMETRIC DATA ELEMENTS */
BANDWIDTH = 174.0
CENTER_FILTER_WAVELENGTH = 675.0
RADIANCE_OFFSET = 1.91946
RADIANCE_SCALING_FACTOR = 0.00839886
REFLECTANCE_SCALING_FACTOR = 0.000233516
MEX:REFLECTANCE_OFFSET = 0.0533673
/* IMAGE OBJECT DEFINITIONS */
OBJECT = IMAGE
  INTERCHANGE_FORMAT = BINARY
  LINES = 21728
  LINE_SAMPLES = 4160
  SAMPLE_TYPE = UNSIGNED_INTEGER
  SAMPLE_BITS = 8
  BANDS = 1
  BAND_STORAGE_TYPE = BAND_SEQUENTIAL
  MAXIMUM = 255
  MEAN = 107.715
  MINIMUM = 1
  STANDARD_DEVIATION = 28.2839
END_OBJECT = IMAGE
/* MAP OBJECT DEFINITIONS */
OBJECT = IMAGE_MAP_PROJECTION
  ^DATA_SET_MAP_PROJECTION_CATALOG= "DSMAP.CAT"
  A_AXIS_RADIUS = 3396.0
  B_AXIS_RADIUS = 3396.0
  C_AXIS_RADIUS = 3396.0
  CENTER_LATITUDE = 0.0
  CENTER_LONGITUDE = 105.0
  COORDINATE_SYSTEM_NAME = PLANETOGRAPHIC
  COORDINATE_SYSTEM_TYPE = "BODY-FIXED ROTATING"
  EASTERNMOST_LONGITUDE = 105.647
  FIRST_STANDARD_PARALLEL = "N/A"
  LINE_FIRST_PIXEL = 1
  LINE_LAST_PIXEL = 21728
  LINE_PROJECTION_OFFSET = 18090.25
  MAP_PROJECTION_ROTATION = 0.0
  MAP_PROJECTION_TYPE = SINUSOIDAL
  MAP_RESOLUTION = 2370.85521546667
  MAP_SCALE = 0.025
  MAXIMUM_LATITUDE = 7.62512
  MINIMUM_LATITUDE = -1.54112
  POSITIVE_LONGITUDE_DIRECTION = EAST
  REFERENCE_LATITUDE = "N/A"
  REFERENCE_LONGITUDE = "N/A"
  SAMPLE_FIRST_PIXEL = 1
  SAMPLE_LAST_PIXEL = 4160
  SAMPLE_PROJECTION_OFFSET = 2663.25
  SECOND_STANDARD_PARALLEL = "N/A"
  WESTERNMOST_LONGITUDE = 103.861
END_OBJECT = IMAGE_MAP_PROJECTION
/* The JPEG2000 image data file associated with this label. */
OBJECT = COMPRESSED_FILE
  FILE_NAME = "H6250_0000_P13.JP2"
  RECORD_TYPE = UNDEFINED
  FILE_RECORDS = UNK
  ENCODING_TYPE = "JP2"
  INTERCHANGE_FORMAT = BINARY
  UNCOMPRESSED_FILE_NAME = "H6250_0000_P13.IMG"
  REQUIRED_STORAGE_BYTES = "90413440"
  ^DESCRIPTION = "JP2INFO.TXT"
END_OBJECT = COMPRESSED_FILE
END
