PDS_VERSION_ID = PDS3
/* FILE DATA ELEMENTS */
RECORD_TYPE = STREAM
/* POINTERS TO DATA OBJECTS */
^COMPRESSED_FILE = "H6251_0000_P23.JP2"
/* IDENTIFICATION DATA ELEMENTS */
DATA_SET_ID = "MEX-M-HRSC-5-REFDR-MAPPROJECTED-V3.0"
DATA_SET_NAME = "MARS EXPRESS HRSC MAP PROJECTED REFDR V3.0"
DETECTOR_ID = MEX_HRSC_P2
EVENT_TYPE = "MARS-REGIONAL-MAPPING-Im-Fl"
INSTRUMENT_HOST_ID = MEX
INSTRUMENT_HOST_NAME = "MARS EXPRESS"
INSTRUMENT_ID = HRSC
INSTRUMENT_NAME = "HIGH RESOLUTION STEREO CAMERA"
MISSION_NAME = "MARS EXPRESS"
MISSION_PHASE_NAME = ME_Phase_15
PROCESSING_LEVEL_ID = 3
PRODUCT_CREATION_TIME = 2016-06-28T12:27:47.000Z
PRODUCT_ID = "H6251_0000_P23.JP2"
RELEASE_ID = 0070
REVISION_ID = 0000
/* QUALITY DATA ELEMENTS */
DATA_QUALITY_ID = 2
DATA_QUALITY_DESC = "Data calculated based on photogrammetrically improved orbit and attitude data"
/* TIME DATA ELEMENTS */
SPACECRAFT_CLOCK_START_COUNT = "1/0174721392.08253"
SPACECRAFT_CLOCK_STOP_COUNT = "1/0174721848.15520"
START_TIME = 2008-11-14T05:43:35.293Z
STOP_TIME = 2008-11-14T05:47:23.440Z
/* ORBITAL DATA ELEMENTS */
ASCENDING_NODE_LONGITUDE = 98.83
MAXIMUM_RESOLUTION = 50.1
FOOTPRINT_POINT_LATITUDE = (18.2539,18.2489,18.2464,18.243,18.24, 18.2365,18.3659,18.8203,19.2793,19.6282 ,20.0966,20.3323,20.6893,20.9279, 21.1692,21.4114,21.7781,22.1483,22.3951 ,22.6445,22.8948,23.1472,23.401,23.7858 ,24.1727,24.4334,24.6954,24.9581, 25.2242,25.6244,25.8926,26.1643,26.5738 ,26.847,27.1227,27.4011,27.6808,27.9635 ,28.2495,28.6792,28.9667,29.2564, 29.5493,29.8434,30.1396,30.6115,30.9157 ,31.2164,31.4258,31.432,31.4368,31.4404 ,31.4426,31.4445,31.4451,31.4437, 31.1395,30.8361,30.5343,30.0689,29.7745 ,29.4804,29.1855,28.7483,28.4623, 28.0359,27.7538,27.4771,27.1991,26.9172 ,26.6418,26.3674,26.1017,25.829,25.4259 ,25.1605,24.7656,24.5017,24.2416, 23.9827,23.7257,23.4697,23.2157,22.963, 22.7121,22.4617,22.2135,21.9663,21.7216 ,21.4769,21.235,20.8732,20.6342,20.3957 ,20.1593,19.9229,19.4571,18.9949, 18.5424,18.2539)
FOOTPRINT_POINT_LONGITUDE = (5.57534,5.03547,4.77661,4.43139, 4.12955,3.78422,3.41678,3.39548,3.37395 ,3.35718,3.33439,3.32284,3.30524, 3.29335,3.28136,3.26892,3.25,3.23025, 3.2178,3.20458,3.1915,3.17785,3.16418, 3.14254,3.12102,3.10597,3.0912,3.07612, 3.06061,3.03738,3.02164,3.00542,2.98075 ,2.96469,2.94841,2.93129,2.91395, 2.89615,2.87698,2.84923,2.83084,2.81237 ,2.79288,2.77333,2.75332,2.72122, 2.69888,2.67949,2.93791,3.51889,4.06429 ,4.67796,5.15544,5.531,5.80427,6.19303, 6.17578,6.15837,6.14122,6.11842,6.10364 ,6.08794,6.07137,6.04797,6.03456,6.0144 ,6.00142,5.99035,5.97826,5.96346, 5.95119,5.93937,5.93061,5.91826,5.90157 ,5.89104,5.8761,5.86553,5.85553,5.84606 ,5.83668,5.82744,5.81844,5.80978, 5.80127,5.79268,5.78442,5.77642,5.76871 ,5.76102,5.75353,5.74249,5.73536, 5.72828,5.72122,5.71437,5.70139,5.68842 ,5.67832,5.57534)
ORBIT_NUMBER = 6251
ORBITAL_ECCENTRICITY = 0.575
ORBITAL_INCLINATION = 86.74
ORBITAL_SEMIMAJOR_AXIS = 8719.8
PERIAPSIS_ALTITUDE = 312.79
PERIAPSIS_ARGUMENT_ANGLE = 338.96
PERIAPSIS_TIME = 2008-11-14T05:33:46.000Z
SPACECRAFT_ORIENTATION = (0.0,1.0,0.0)
^MEX_ORIENTATION_DESC = "MEX_ORIENTATION_DESC.TXT"
SPACECRAFT_POINTING_MODE = NADIR
^MEX_POINTING_DESC = "MEX_POINTING_DESC.TXT"
RIGHT_ASCENSION = -1e+32
DECLINATION = -1e+32
OFFSET_ANGLE = -1e+32
SPACECRAFT_SOLAR_DISTANCE = 2.273e+08
TARGET_NAME = MARS
/* CAMERA DATA ELEMENTS */
DETECTOR_TEMPERATURE = 18.5744
FOCAL_PLANE_TEMPERATURE = 7.5638
INST_CMPRS_NAME = "DISCRETE COSINE TRANSFORMATION (DCT)"
INST_CMPRS_RATIO = 6.14303
INST_CMPRS_QUALITY = 0
INST_CMPRS_QUANTZ_TBL_ID = 0
INSTRUMENT_TEMPERATURE = 11.234
LENS_TEMPERATURE = 7.9716
MACROPIXEL_SIZE = 2
MISSING_FRAMES = 3
PIXEL_SUBSAMPLING_FLAG = N
SIGNAL_CHAIN_ID = 3
/* RADIOMETRIC DATA ELEMENTS */
BANDWIDTH = 177.0
CENTER_FILTER_WAVELENGTH = 676.5
RADIANCE_OFFSET = 2.27861
RADIANCE_SCALING_FACTOR = 0.00915368
REFLECTANCE_SCALING_FACTOR = 0.000250755
MEX:REFLECTANCE_OFFSET = 0.06242
/* IMAGE OBJECT DEFINITIONS */
OBJECT = IMAGE
  INTERCHANGE_FORMAT = BINARY
  LINES = 15639
  LINE_SAMPLES = 3894
  SAMPLE_TYPE = UNSIGNED_INTEGER
  SAMPLE_BITS = 8
  BANDS = 1
  BAND_STORAGE_TYPE = BAND_SEQUENTIAL
  MAXIMUM = 255
  MEAN = 100.148
  MINIMUM = 1
  STANDARD_DEVIATION = 23.0382
END_OBJECT = IMAGE
/* MAP OBJECT DEFINITIONS */
OBJECT = IMAGE_MAP_PROJECTION
  ^DATA_SET_MAP_PROJECTION_CATALOG= "DSMAP.CAT"
  A_AXIS_RADIUS = 3396.0
  B_AXIS_RADIUS = 3396.0
  C_AXIS_RADIUS = 3396.0
  CENTER_LATITUDE = 0.0
  CENTER_LONGITUDE = 4.0
  COORDINATE_SYSTEM_NAME = PLANETOGRAPHIC
  COORDINATE_SYSTEM_TYPE = "BODY-FIXED ROTATING"
  EASTERNMOST_LONGITUDE = 6.19303
  FIRST_STANDARD_PARALLEL = "N/A"
  LINE_FIRST_PIXEL = 1
  LINE_LAST_PIXEL = 15639
  LINE_PROJECTION_OFFSET = 37248.25
  MAP_PROJECTION_ROTATION = 0.0
  MAP_PROJECTION_TYPE = SINUSOIDAL
  MAP_RESOLUTION = 1185.42760773333
  MAP_SCALE = 0.05
  MAXIMUM_LATITUDE = 31.4451
  MINIMUM_LATITUDE = 18.2365
  POSITIVE_LONGITUDE_DIRECTION = EAST
  REFERENCE_LATITUDE = "N/A"
  REFERENCE_LONGITUDE = "N/A"
  SAMPLE_FIRST_PIXEL = 1
  SAMPLE_LAST_PIXEL = 3894
  SAMPLE_PROJECTION_OFFSET = 1502.25
  SECOND_STANDARD_PARALLEL = "N/A"
  WESTERNMOST_LONGITUDE = 2.67949
END_OBJECT = IMAGE_MAP_PROJECTION
/* The JPEG2000 image data file associated with this label. */
OBJECT = COMPRESSED_FILE
  FILE_NAME = "H6251_0000_P23.JP2"
  RECORD_TYPE = UNDEFINED
  FILE_RECORDS = UNK
  ENCODING_TYPE = "JP2"
  INTERCHANGE_FORMAT = BINARY
  UNCOMPRESSED_FILE_NAME = "H6251_0000_P23.IMG"
  REQUIRED_STORAGE_BYTES = "60921630"
  ^DESCRIPTION = "JP2INFO.TXT"
END_OBJECT = COMPRESSED_FILE
END
