PDS_VERSION_ID = PDS3
/* FILE DATA ELEMENTS */
RECORD_TYPE = STREAM
/* POINTERS TO DATA OBJECTS */
^COMPRESSED_FILE = "H6253_0000_ND3.JP2"
/* IDENTIFICATION DATA ELEMENTS */
DATA_SET_ID = "MEX-M-HRSC-5-REFDR-MAPPROJECTED-V3.0"
DATA_SET_NAME = "MARS EXPRESS HRSC MAP PROJECTED REFDR V3.0"
DETECTOR_ID = MEX_HRSC_NADIR
EVENT_TYPE = "MARS-REGIONAL-MAPPING-Vo"
INSTRUMENT_HOST_ID = MEX
INSTRUMENT_HOST_NAME = "MARS EXPRESS"
INSTRUMENT_ID = HRSC
INSTRUMENT_NAME = "HIGH RESOLUTION STEREO CAMERA"
MISSION_NAME = "MARS EXPRESS"
MISSION_PHASE_NAME = ME_Phase_15
PROCESSING_LEVEL_ID = 3
PRODUCT_CREATION_TIME = 2016-06-28T12:27:47.000Z
PRODUCT_ID = "H6253_0000_ND3.JP2"
RELEASE_ID = 0070
REVISION_ID = 0000
/* QUALITY DATA ELEMENTS */
DATA_QUALITY_ID = 1
DATA_QUALITY_DESC = "Data calculated based on original SPICE kernels"
/* TIME DATA ELEMENTS */
SPACECRAFT_CLOCK_START_COUNT = "1/0174770333.07291"
SPACECRAFT_CLOCK_STOP_COUNT = "1/0174770529.28557"
START_TIME = 2008-11-14T19:19:29.065Z
STOP_TIME = 2008-11-14T19:21:27.072Z
/* ORBITAL DATA ELEMENTS */
ASCENDING_NODE_LONGITUDE = 98.79
MAXIMUM_RESOLUTION = 14.9
FOOTPRINT_POINT_LATITUDE = (-4.48411,-4.48616,-4.48757,-4.4895, -4.49069,-4.34249,-4.19445,-4.04651, -3.89864,-3.75084,-3.60314,-3.45552, -3.30799,-3.16055,-3.01319,-2.86592, -2.71874,-2.57165,-2.42464,-2.27773, -2.13091,-1.98417,-1.83753,-1.69098, -1.54452,-1.39816,-1.25189,-1.10572, -0.959636,-0.667764,-0.376278, -0.0851839,0.205515,0.495812,0.64463, 0.793437,0.942136,1.09073,1.23921, 1.38758,1.53584,1.76348,1.91535,2.0671, 2.21869,2.37021,2.5216,2.75339,2.90835, 2.92671,2.92842,2.92982,2.93205,2.93448 ,2.93606,2.93835,2.7833,2.55102,2.39954 ,2.24793,2.09621,1.94437,1.79241, 1.64033,1.41589,1.26743,1.11886, 0.970185,0.8214,0.672506,0.450615, 0.160046,-0.130924,-0.422289,-0.714046, -1.00619,-1.1524,-1.29871,-1.44511, -1.59161,-1.7382,-1.88488,-2.03166, -2.17852,-2.32548,-2.47253,-2.61966, -2.76689,-2.9142,-3.0616,-3.20909, -3.35667,-3.50433,-3.65207,-3.7999, -3.94782,-4.09582,-4.2439,-4.39206, -4.48411)
FOOTPRINT_POINT_LONGITUDE = (165.046,164.765,164.561,164.268, 164.077,163.973,163.971,163.968,163.965 ,163.962,163.959,163.956,163.953, 163.951,163.948,163.945,163.942,163.939 ,163.936,163.932,163.929,163.926, 163.923,163.92,163.917,163.913,163.91, 163.907,163.904,163.897,163.89,163.883, 163.876,163.869,163.865,163.861,163.858 ,163.854,163.85,163.846,163.842,163.837 ,163.832,163.828,163.825,163.821, 163.817,163.81,163.806,164.016,164.196, 164.347,164.588,164.86,165.041,165.336, 165.335,165.332,165.331,165.33,165.328, 165.327,165.325,165.324,165.322,165.321 ,165.32,165.318,165.317,165.316,165.314 ,165.312,165.31,165.308,165.306,165.304 ,165.303,165.302,165.301,165.3,165.299, 165.298,165.297,165.296,165.295,165.294 ,165.294,165.293,165.292,165.291,165.29 ,165.29,165.289,165.288,165.287,165.287 ,165.286,165.285,165.285,165.046)
ORBIT_NUMBER = 6253
ORBITAL_ECCENTRICITY = 0.575
ORBITAL_INCLINATION = 86.75
ORBITAL_SEMIMAJOR_AXIS = 8715.98
PERIAPSIS_ALTITUDE = 312.9
PERIAPSIS_ARGUMENT_ANGLE = 338.64
PERIAPSIS_TIME = 2008-11-14T19:15:11.000Z
SPACECRAFT_ORIENTATION = (0.0,1.0,0.0)
^MEX_ORIENTATION_DESC = "MEX_ORIENTATION_DESC.TXT"
SPACECRAFT_POINTING_MODE = ACROSSTRACK
^MEX_POINTING_DESC = "MEX_POINTING_DESC.TXT"
RIGHT_ASCENSION = -1e+32
DECLINATION = -1e+32
OFFSET_ANGLE = -0.1
SPACECRAFT_SOLAR_DISTANCE = 2.27189e+08
TARGET_NAME = MARS
/* CAMERA DATA ELEMENTS */
DETECTOR_TEMPERATURE = 18.1666
FOCAL_PLANE_TEMPERATURE = 7.9716
INST_CMPRS_NAME = "DISCRETE COSINE TRANSFORMATION (DCT)"
INST_CMPRS_RATIO = 6.86277
INST_CMPRS_QUALITY = 0
INST_CMPRS_QUANTZ_TBL_ID = 0
INSTRUMENT_TEMPERATURE = 11.4379
LENS_TEMPERATURE = 8.1755
MACROPIXEL_SIZE = 1
MISSING_FRAMES = 0
PIXEL_SUBSAMPLING_FLAG = N
SIGNAL_CHAIN_ID = 0
/* RADIOMETRIC DATA ELEMENTS */
BANDWIDTH = 177.0
CENTER_FILTER_WAVELENGTH = 677.5
RADIANCE_OFFSET = 2.44758
RADIANCE_SCALING_FACTOR = 0.0046901
REFLECTANCE_SCALING_FACTOR = 0.0001286
MEX:REFLECTANCE_OFFSET = 0.067111
/* IMAGE OBJECT DEFINITIONS */
OBJECT = IMAGE
  INTERCHANGE_FORMAT = BINARY
  LINES = 35219
  LINE_SAMPLES = 7503
  SAMPLE_TYPE = UNSIGNED_INTEGER
  SAMPLE_BITS = 8
  BANDS = 1
  BAND_STORAGE_TYPE = BAND_SEQUENTIAL
  MAXIMUM = 255
  MEAN = 114.435
  MINIMUM = 1
  STANDARD_DEVIATION = 39.827
END_OBJECT = IMAGE
/* MAP OBJECT DEFINITIONS */
OBJECT = IMAGE_MAP_PROJECTION
  ^DATA_SET_MAP_PROJECTION_CATALOG= "DSMAP.CAT"
  A_AXIS_RADIUS = 3396.0
  B_AXIS_RADIUS = 3396.0
  C_AXIS_RADIUS = 3396.0
  CENTER_LATITUDE = 0.0
  CENTER_LONGITUDE = 165.0
  COORDINATE_SYSTEM_NAME = PLANETOGRAPHIC
  COORDINATE_SYSTEM_TYPE = "BODY-FIXED ROTATING"
  EASTERNMOST_LONGITUDE = 165.336
  FIRST_STANDARD_PARALLEL = "N/A"
  LINE_FIRST_PIXEL = 1
  LINE_LAST_PIXEL = 35219
  LINE_PROJECTION_OFFSET = 13931.0
  MAP_PROJECTION_ROTATION = 0.0
  MAP_PROJECTION_TYPE = SINUSOIDAL
  MAP_RESOLUTION = 4741.71043093333
  MAP_SCALE = 0.0125
  MAXIMUM_LATITUDE = 2.93835
  MINIMUM_LATITUDE = -4.49069
  POSITIVE_LONGITUDE_DIRECTION = EAST
  REFERENCE_LATITUDE = "N/A"
  REFERENCE_LONGITUDE = "N/A"
  SAMPLE_FIRST_PIXEL = 1
  SAMPLE_LAST_PIXEL = 7503
  SAMPLE_PROJECTION_OFFSET = 5742.0
  SECOND_STANDARD_PARALLEL = "N/A"
  WESTERNMOST_LONGITUDE = 163.806
END_OBJECT = IMAGE_MAP_PROJECTION
/* The JPEG2000 image data file associated with this label. */
OBJECT = COMPRESSED_FILE
  FILE_NAME = "H6253_0000_ND3.JP2"
  RECORD_TYPE = UNDEFINED
  FILE_RECORDS = UNK
  ENCODING_TYPE = "JP2"
  INTERCHANGE_FORMAT = BINARY
  UNCOMPRESSED_FILE_NAME = "H6253_0000_ND3.IMG"
  REQUIRED_STORAGE_BYTES = "264278169"
  ^DESCRIPTION = "JP2INFO.TXT"
END_OBJECT = COMPRESSED_FILE
END
