PDS_VERSION_ID = PDS3
/* FILE DATA ELEMENTS */
RECORD_TYPE = STREAM
/* POINTERS TO DATA OBJECTS */
^COMPRESSED_FILE = "H6384_0000_IR3.JP2"
/* IDENTIFICATION DATA ELEMENTS */
DATA_SET_ID = "MEX-M-HRSC-5-REFDR-MAPPROJECTED-V3.0"
DATA_SET_NAME = "MARS EXPRESS HRSC MAP PROJECTED REFDR V3.0"
DETECTOR_ID = MEX_HRSC_IR
EVENT_TYPE = "MARS-REGIONAL-MAPPING-Im-Fl"
INSTRUMENT_HOST_ID = MEX
INSTRUMENT_HOST_NAME = "MARS EXPRESS"
INSTRUMENT_ID = HRSC
INSTRUMENT_NAME = "HIGH RESOLUTION STEREO CAMERA"
MISSION_NAME = "MARS EXPRESS"
MISSION_PHASE_NAME = ME_Phase_15
PROCESSING_LEVEL_ID = 3
PRODUCT_CREATION_TIME = 2016-06-28T13:49:36.000Z
PRODUCT_ID = "H6384_0000_IR3.JP2"
RELEASE_ID = 0071
REVISION_ID = 0000
/* QUALITY DATA ELEMENTS */
DATA_QUALITY_ID = 2
DATA_QUALITY_DESC = "Data calculated based on photogrammetrically improved orbit and attitude data"
/* TIME DATA ELEMENTS */
SPACECRAFT_CLOCK_START_COUNT = "1/0177999755.08362"
SPACECRAFT_CLOCK_STOP_COUNT = "1/0178000121.20890"
START_TIME = 2008-12-22T04:23:36.202Z
STOP_TIME = 2008-12-22T04:28:32.057Z
/* ORBITAL DATA ELEMENTS */
ASCENDING_NODE_LONGITUDE = 96.17
MAXIMUM_RESOLUTION = 59.7
FOOTPRINT_POINT_LATITUDE = (-29.3359,-29.3427,-29.349,-29.2305, -28.9539,-28.6781,-28.2641,-27.9358, -27.6067,-27.1162,-26.7897,-26.4645, -26.1396,-25.8159,-25.493,-25.1696, -24.8478,-24.5263,-24.2078,-23.8874, -23.4054,-22.9174,-22.5909,-22.0968, -21.7659,-21.4309,-21.0927,-20.7556, -20.2424,-19.8993,-19.3752,-19.0261, -18.6707,-18.3152,-17.9546,-17.5944, -17.23,-16.8648,-16.4941,-16.1228, -15.746,-15.1757,-14.5997,-14.2117, -13.8191,-13.425,-13.0273,-12.6239, -12.2222,-12.1946,-12.1796,-12.1643, -12.1466,-12.1393,-12.5436,-13.1464, -13.5452,-13.9386,-14.3296,-14.7191, -15.1009,-15.6783,-16.0497,-16.4226, -16.7968,-17.164,-17.5315,-17.8934, -18.254,-18.6092,-18.9655,-19.3152, -19.8413,-20.1845,-20.5292,-21.0409, -21.3775,-21.7136,-22.0456,-22.5438, -22.8694,-23.1955,-23.6816,-24.0003, -24.3218,-24.643,-24.9638,-25.2861, -25.6096,-25.9338,-26.2587,-26.5848, -26.911,-27.2381,-27.5652,-27.8944, -28.3645,-28.641,-28.9185,-29.3359)
FOOTPRINT_POINT_LONGITUDE = (4.68406,4.26023,3.8303,3.43283,3.43574 ,3.43822,3.44229,3.44498,3.44855, 3.45175,3.45384,3.45514,3.4564,3.45701, 3.45727,3.45824,3.45823,3.45828,3.45627 ,3.45615,3.45468,3.45155,3.45073, 3.44476,3.44176,3.43869,3.43551,3.43191 ,3.42427,3.41998,3.4124,3.40709,3.40113 ,3.39579,3.38949,3.38261,3.37452, 3.36648,3.35808,3.34972,3.3404,3.3268, 3.31162,3.30112,3.28998,3.27824,3.26564 ,3.2536,3.24,3.53933,3.97278,4.3655, 4.95748,5.23913,5.23158,5.22011,5.2126, 5.20507,5.19775,5.19047,5.1831,5.17315, 5.1651,5.15817,5.15135,5.14445,5.13753, 5.13073,5.1237,5.11685,5.10995,5.10308, 5.09281,5.086,5.07917,5.0691,5.0621, 5.05525,5.04845,5.03809,5.03128,5.02438 ,5.01398,5.00703,5.00011,4.99305, 4.98585,4.97861,4.9713,4.9639,4.9564, 4.94881,4.94111,4.9333,4.92538,4.91738, 4.90574,4.89879,4.89177,4.68406)
ORBIT_NUMBER = 6384
ORBITAL_ECCENTRICITY = 0.575
ORBITAL_INCLINATION = 86.75
ORBITAL_SEMIMAJOR_AXIS = 8687.47
PERIAPSIS_ALTITUDE = 307.08
PERIAPSIS_ARGUMENT_ANGLE = 315.81
PERIAPSIS_TIME = 2008-12-22T04:19:25.000Z
SPACECRAFT_ORIENTATION = (0.0,1.0,0.0)
^MEX_ORIENTATION_DESC = "MEX_ORIENTATION_DESC.TXT"
SPACECRAFT_POINTING_MODE = ACROSSTRACK
^MEX_POINTING_DESC = "MEX_POINTING_DESC.TXT"
RIGHT_ASCENSION = -1e+32
DECLINATION = -1e+32
OFFSET_ANGLE = 0.6
SPACECRAFT_SOLAR_DISTANCE = 2.19962e+08
TARGET_NAME = MARS
/* CAMERA DATA ELEMENTS */
DETECTOR_TEMPERATURE = 17.7588
FOCAL_PLANE_TEMPERATURE = 8.3794
INST_CMPRS_NAME = "DISCRETE COSINE TRANSFORMATION (DCT)"
INST_CMPRS_RATIO = 8.56426
INST_CMPRS_QUALITY = 0
INST_CMPRS_QUANTZ_TBL_ID = 0
INSTRUMENT_TEMPERATURE = 11.4379
LENS_TEMPERATURE = 8.9911
MACROPIXEL_SIZE = 4
MISSING_FRAMES = 0
PIXEL_SUBSAMPLING_FLAG = N
SIGNAL_CHAIN_ID = 2
/* RADIOMETRIC DATA ELEMENTS */
BANDWIDTH = 81.0
CENTER_FILTER_WAVELENGTH = 955.5
RADIANCE_OFFSET = 0.720967
RADIANCE_SCALING_FACTOR = 0.00532684
REFLECTANCE_SCALING_FACTOR = 0.000556018
MEX:REFLECTANCE_OFFSET = 0.0752549
/* IMAGE OBJECT DEFINITIONS */
OBJECT = IMAGE
  INTERCHANGE_FORMAT = BINARY
  LINES = 20415
  LINE_SAMPLES = 2228
  SAMPLE_TYPE = UNSIGNED_INTEGER
  SAMPLE_BITS = 8
  BANDS = 1
  BAND_STORAGE_TYPE = BAND_SEQUENTIAL
  MAXIMUM = 255
  MEAN = 139.973
  MINIMUM = 1
  STANDARD_DEVIATION = 29.6252
END_OBJECT = IMAGE
/* MAP OBJECT DEFINITIONS */
OBJECT = IMAGE_MAP_PROJECTION
  ^DATA_SET_MAP_PROJECTION_CATALOG= "DSMAP.CAT"
  A_AXIS_RADIUS = 3396.0
  B_AXIS_RADIUS = 3396.0
  C_AXIS_RADIUS = 3396.0
  CENTER_LATITUDE = 0.0
  CENTER_LONGITUDE = 4.0
  COORDINATE_SYSTEM_NAME = PLANETOGRAPHIC
  COORDINATE_SYSTEM_TYPE = "BODY-FIXED ROTATING"
  EASTERNMOST_LONGITUDE = 5.23913
  FIRST_STANDARD_PARALLEL = "N/A"
  LINE_FIRST_PIXEL = 1
  LINE_LAST_PIXEL = 20415
  LINE_PROJECTION_OFFSET = -14417.875
  MAP_PROJECTION_ROTATION = 0.0
  MAP_PROJECTION_TYPE = SINUSOIDAL
  MAP_RESOLUTION = 1185.42760773333
  MAP_SCALE = 0.05
  MAXIMUM_LATITUDE = -12.1393
  MINIMUM_LATITUDE = -29.349
  POSITIVE_LONGITUDE_DIRECTION = EAST
  REFERENCE_LATITUDE = "N/A"
  REFERENCE_LONGITUDE = "N/A"
  SAMPLE_FIRST_PIXEL = 1
  SAMPLE_LAST_PIXEL = 2228
  SAMPLE_PROJECTION_OFFSET = 868.125
  SECOND_STANDARD_PARALLEL = "N/A"
  WESTERNMOST_LONGITUDE = 3.24
END_OBJECT = IMAGE_MAP_PROJECTION
/* The JPEG2000 image data file associated with this label. */
OBJECT = COMPRESSED_FILE
  FILE_NAME = "H6384_0000_IR3.JP2"
  RECORD_TYPE = UNDEFINED
  FILE_RECORDS = UNK
  ENCODING_TYPE = "JP2"
  INTERCHANGE_FORMAT = BINARY
  UNCOMPRESSED_FILE_NAME = "H6384_0000_IR3.IMG"
  REQUIRED_STORAGE_BYTES = "45506900"
  ^DESCRIPTION = "JP2INFO.TXT"
END_OBJECT = COMPRESSED_FILE
END
