PDS_VERSION_ID = PDS3
/* FILE DATA ELEMENTS */
RECORD_TYPE = STREAM
/* POINTERS TO DATA OBJECTS */
^COMPRESSED_FILE = "H6384_0000_ND3.JP2"
/* IDENTIFICATION DATA ELEMENTS */
DATA_SET_ID = "MEX-M-HRSC-5-REFDR-MAPPROJECTED-V3.0"
DATA_SET_NAME = "MARS EXPRESS HRSC MAP PROJECTED REFDR V3.0"
DETECTOR_ID = MEX_HRSC_NADIR
EVENT_TYPE = "MARS-REGIONAL-MAPPING-Im-Fl"
INSTRUMENT_HOST_ID = MEX
INSTRUMENT_HOST_NAME = "MARS EXPRESS"
INSTRUMENT_ID = HRSC
INSTRUMENT_NAME = "HIGH RESOLUTION STEREO CAMERA"
MISSION_NAME = "MARS EXPRESS"
MISSION_PHASE_NAME = ME_Phase_15
PROCESSING_LEVEL_ID = 3
PRODUCT_CREATION_TIME = 2016-06-28T13:49:36.000Z
PRODUCT_ID = "H6384_0000_ND3.JP2"
RELEASE_ID = 0071
REVISION_ID = 0000
/* QUALITY DATA ELEMENTS */
DATA_QUALITY_ID = 2
DATA_QUALITY_DESC = "Data calculated based on photogrammetrically improved orbit and attitude data"
/* TIME DATA ELEMENTS */
SPACECRAFT_CLOCK_START_COUNT = "1/0177999755.08362"
SPACECRAFT_CLOCK_STOP_COUNT = "1/0178000121.20890"
START_TIME = 2008-12-22T04:23:09.065Z
STOP_TIME = 2008-12-22T04:27:46.068Z
/* ORBITAL DATA ELEMENTS */
ASCENDING_NODE_LONGITUDE = 96.17
MAXIMUM_RESOLUTION = 13.8
FOOTPRINT_POINT_LATITUDE = (-29.3778,-29.3716,-29.3639,-29.0741, -28.7873,-28.5008,-28.2146,-27.9287, -27.6431,-27.3576,-27.0727,-26.5035, -26.0014,-25.6629,-25.325,-24.9875, -24.6505,-24.3139,-23.9779,-23.6423, -23.3073,-22.9728,-22.6388,-22.3052, -21.9723,-21.6399,-21.3014,-20.9611, -20.6214,-20.2765,-19.9292,-19.5825, -19.0518,-18.6979,-18.158,-17.7971, -17.2466,-16.8789,-16.5047,-16.13, -15.56,-15.1784,-14.7895,-14.2033, -13.8083,-13.4088,-13.0074,-12.5996, -12.1722,-12.1705,-12.1672,-12.1646, -12.367,-12.7761,-13.3828,-13.7835, -14.1794,-14.5727,-14.9619,-15.3485, -15.7309,-16.1112,-16.4867,-16.8619, -17.2303,-17.7822,-18.1438,-18.6851, -19.0396,-19.5716,-19.919,-20.267, -20.6128,-20.9531,-21.2939,-21.6334, -21.9664,-22.2999,-22.634,-22.9686, -23.3036,-23.6392,-23.9753,-24.3119, -24.649,-24.9866,-25.3247,-25.6632, -26.0021,-26.5074,-27.0775,-27.363, -27.6488,-27.9349,-28.2213,-28.5079, -28.7949,-29.0821,-29.3695,-29.3778)
FOOTPRINT_POINT_LONGITUDE = (4.45195,4.01465,3.57025,3.45573, 3.45893,3.46233,3.4656,3.46893,3.47205, 3.47143,3.47695,3.48101,3.48379,3.48484 ,3.48611,3.48677,3.48818,3.48765, 3.48743,3.48705,3.4875,3.48556,3.48534, 3.48231,3.48007,3.47794,3.47564,3.47329 ,3.46968,3.46559,3.4623,3.45816,3.45201 ,3.44727,3.44049,3.43545,3.4252,3.41833 ,3.41114,3.40401,3.39192,3.38442, 3.37543,3.36245,3.35267,3.34196,3.33119 ,3.3212,3.51125,3.90011,4.45013,4.77671 ,5.16115,5.15521,5.14641,5.14082, 5.13474,5.12904,5.12313,5.11782,5.11204 ,5.1058,5.10018,5.09454,5.08887,5.08018 ,5.07445,5.0658,5.06007,5.05151,5.04544 ,5.03959,5.03368,5.02791,5.02185, 5.01586,5.00992,5.00391,4.99778,4.9916, 4.98532,4.97896,4.97252,4.96596,4.9593, 4.95252,4.9457,4.93877,4.93173,4.92107, 4.90875,4.90247,4.89609,4.88966,4.88312 ,4.87649,4.86978,4.86297,4.85607, 4.45195)
ORBIT_NUMBER = 6384
ORBITAL_ECCENTRICITY = 0.575
ORBITAL_INCLINATION = 86.75
ORBITAL_SEMIMAJOR_AXIS = 8687.47
PERIAPSIS_ALTITUDE = 307.08
PERIAPSIS_ARGUMENT_ANGLE = 315.81
PERIAPSIS_TIME = 2008-12-22T04:19:25.000Z
SPACECRAFT_ORIENTATION = (0.0,1.0,0.0)
^MEX_ORIENTATION_DESC = "MEX_ORIENTATION_DESC.TXT"
SPACECRAFT_POINTING_MODE = ACROSSTRACK
^MEX_POINTING_DESC = "MEX_POINTING_DESC.TXT"
RIGHT_ASCENSION = -1e+32
DECLINATION = -1e+32
OFFSET_ANGLE = 0.6
SPACECRAFT_SOLAR_DISTANCE = 2.19962e+08
TARGET_NAME = MARS
/* CAMERA DATA ELEMENTS */
DETECTOR_TEMPERATURE = 18.3705
FOCAL_PLANE_TEMPERATURE = 8.3794
INST_CMPRS_NAME = "DISCRETE COSINE TRANSFORMATION (DCT)"
INST_CMPRS_RATIO = 6.71308
INST_CMPRS_QUALITY = 0
INST_CMPRS_QUANTZ_TBL_ID = 0
INSTRUMENT_TEMPERATURE = 11.4379
LENS_TEMPERATURE = 8.9911
MACROPIXEL_SIZE = 1
MISSING_FRAMES = 0
PIXEL_SUBSAMPLING_FLAG = N
SIGNAL_CHAIN_ID = 0
/* RADIOMETRIC DATA ELEMENTS */
BANDWIDTH = 177.0
CENTER_FILTER_WAVELENGTH = 677.5
RADIANCE_OFFSET = 2.67375
RADIANCE_SCALING_FACTOR = 0.0203351
REFLECTANCE_SCALING_FACTOR = 0.000522666
MEX:REFLECTANCE_OFFSET = 0.0687225
/* IMAGE OBJECT DEFINITIONS */
OBJECT = IMAGE
  INTERCHANGE_FORMAT = BINARY
  LINES = 81658
  LINE_SAMPLES = 8909
  SAMPLE_TYPE = UNSIGNED_INTEGER
  SAMPLE_BITS = 8
  BANDS = 1
  BAND_STORAGE_TYPE = BAND_SEQUENTIAL
  MAXIMUM = 255
  MEAN = 141.635
  MINIMUM = 1
  STANDARD_DEVIATION = 29.0103
END_OBJECT = IMAGE
/* MAP OBJECT DEFINITIONS */
OBJECT = IMAGE_MAP_PROJECTION
  ^DATA_SET_MAP_PROJECTION_CATALOG= "DSMAP.CAT"
  A_AXIS_RADIUS = 3396.0
  B_AXIS_RADIUS = 3396.0
  C_AXIS_RADIUS = 3396.0
  CENTER_LATITUDE = 0.0
  CENTER_LONGITUDE = 4.0
  COORDINATE_SYSTEM_NAME = PLANETOGRAPHIC
  COORDINATE_SYSTEM_TYPE = "BODY-FIXED ROTATING"
  EASTERNMOST_LONGITUDE = 5.16115
  FIRST_STANDARD_PARALLEL = "N/A"
  LINE_FIRST_PIXEL = 1
  LINE_LAST_PIXEL = 81658
  LINE_PROJECTION_OFFSET = -57670.0
  MAP_PROJECTION_ROTATION = 0.0
  MAP_PROJECTION_TYPE = SINUSOIDAL
  MAP_RESOLUTION = 4741.71043093333
  MAP_SCALE = 0.0125
  MAXIMUM_LATITUDE = -12.1646
  MINIMUM_LATITUDE = -29.3778
  POSITIVE_LONGITUDE_DIRECTION = EAST
  REFERENCE_LATITUDE = "N/A"
  REFERENCE_LONGITUDE = "N/A"
  SAMPLE_FIRST_PIXEL = 1
  SAMPLE_LAST_PIXEL = 8909
  SAMPLE_PROJECTION_OFFSET = 3474.0
  SECOND_STANDARD_PARALLEL = "N/A"
  WESTERNMOST_LONGITUDE = 3.3212
END_OBJECT = IMAGE_MAP_PROJECTION
/* The JPEG2000 image data file associated with this label. */
OBJECT = COMPRESSED_FILE
  FILE_NAME = "H6384_0000_ND3.JP2"
  RECORD_TYPE = UNDEFINED
  FILE_RECORDS = UNK
  ENCODING_TYPE = "JP2"
  INTERCHANGE_FORMAT = BINARY
  UNCOMPRESSED_FILE_NAME = "H6384_0000_ND3.IMG"
  REQUIRED_STORAGE_BYTES = "727526758"
  ^DESCRIPTION = "JP2INFO.TXT"
END_OBJECT = COMPRESSED_FILE
END
