PDS_VERSION_ID = PDS3
/* FILE DATA ELEMENTS */
RECORD_TYPE = STREAM
/* POINTERS TO DATA OBJECTS */
^COMPRESSED_FILE = "H6384_0000_P13.JP2"
/* IDENTIFICATION DATA ELEMENTS */
DATA_SET_ID = "MEX-M-HRSC-5-REFDR-MAPPROJECTED-V3.0"
DATA_SET_NAME = "MARS EXPRESS HRSC MAP PROJECTED REFDR V3.0"
DETECTOR_ID = MEX_HRSC_P1
EVENT_TYPE = "MARS-REGIONAL-MAPPING-Im-Fl"
INSTRUMENT_HOST_ID = MEX
INSTRUMENT_HOST_NAME = "MARS EXPRESS"
INSTRUMENT_ID = HRSC
INSTRUMENT_NAME = "HIGH RESOLUTION STEREO CAMERA"
MISSION_NAME = "MARS EXPRESS"
MISSION_PHASE_NAME = ME_Phase_15
PROCESSING_LEVEL_ID = 3
PRODUCT_CREATION_TIME = 2016-06-28T13:49:36.000Z
PRODUCT_ID = "H6384_0000_P13.JP2"
RELEASE_ID = 0071
REVISION_ID = 0000
/* QUALITY DATA ELEMENTS */
DATA_QUALITY_ID = 2
DATA_QUALITY_DESC = "Data calculated based on photogrammetrically improved orbit and attitude data"
/* TIME DATA ELEMENTS */
SPACECRAFT_CLOCK_START_COUNT = "1/0177999755.08362"
SPACECRAFT_CLOCK_STOP_COUNT = "1/0178000121.20890"
START_TIME = 2008-12-22T04:23:30.488Z
STOP_TIME = 2008-12-22T04:28:21.940Z
/* ORBITAL DATA ELEMENTS */
ASCENDING_NODE_LONGITUDE = 96.17
MAXIMUM_RESOLUTION = 58.3
FOOTPRINT_POINT_LATITUDE = (-29.3391,-29.3437,-29.3474,-29.3624, -29.0845,-28.8074,-28.5303,-27.9771, -27.6636,-27.1706,-26.843,-26.5159, -26.1894,-25.8638,-25.539,-25.2141, -24.8907,-24.5665,-24.2456,-23.9234, -23.4446,-23.1223,-22.794,-22.4661, -22.1422,-21.8091,-21.3095,-20.9719, -20.6331,-20.1224,-19.7765,-19.432, -19.0798,-18.7288,-18.1938,-17.8365, -17.4742,-17.1122,-16.7443,-16.376, -16.002,-15.6278,-15.247,-14.673, -14.2868,-13.8957,-13.5023,-13.1065, -12.7043,-12.1885,-12.1804,-12.1632, -12.1491,-12.1416,-12.3422,-12.7452, -13.3448,-13.7416,-14.1324,-14.7136, -15.0968,-15.672,-16.2309,-16.6018, -17.1556,-17.5196,-17.8824,-18.2397, -18.5976,-18.9493,-19.4793,-19.9955, -20.34,-20.8499,-21.1904,-21.5231, -21.8572,-22.1902,-22.5165,-22.8445, -23.1712,-23.6522,-23.9731,-24.2963, -24.6195,-24.9424,-25.2664,-25.5917, -25.9176,-26.2441,-26.5716,-26.8993, -27.2278,-27.5564,-27.885,-28.1618, -28.439,-28.7168,-28.9949,-29.3391)
FOOTPRINT_POINT_LONGITUDE = (4.77146,4.35278,3.92807,3.43882, 3.44221,3.44492,3.44779,3.45323,3.45647 ,3.4603,3.46222,3.46383,3.4653,3.46624, 3.46665,3.4676,3.46747,3.46844,3.46657, 3.46645,3.46262,3.46336,3.46219,3.46104 ,3.45665,3.45385,3.44959,3.4466,3.44231 ,3.43563,3.43132,3.42646,3.42153, 3.41601,3.40813,3.40222,3.39502,3.38727 ,3.37946,3.37134,3.36302,3.35437, 3.34562,3.33103,3.32129,3.31054,3.29991 ,3.28735,3.27622,3.2588,3.64637,4.14522 ,4.70992,4.99926,5.21796,5.21074, 5.20007,5.19324,5.18593,5.17559,5.16868 ,5.15924,5.14838,5.14185,5.13201,5.1254 ,5.11886,5.1122,5.10557,5.09904,5.08945 ,5.07931,5.07269,5.06287,5.05629,5.0497 ,5.04309,5.03649,5.02984,5.02319, 5.01647,5.00647,4.99966,4.99288,4.98596 ,4.9789,4.97179,4.96461,4.95734,4.94996 ,4.9425,4.93492,4.92724,4.91945,4.9116, 4.90489,4.89811,4.89124,4.88428, 4.77146)
ORBIT_NUMBER = 6384
ORBITAL_ECCENTRICITY = 0.575
ORBITAL_INCLINATION = 86.75
ORBITAL_SEMIMAJOR_AXIS = 8687.47
PERIAPSIS_ALTITUDE = 307.08
PERIAPSIS_ARGUMENT_ANGLE = 315.81
PERIAPSIS_TIME = 2008-12-22T04:19:25.000Z
SPACECRAFT_ORIENTATION = (0.0,1.0,0.0)
^MEX_ORIENTATION_DESC = "MEX_ORIENTATION_DESC.TXT"
SPACECRAFT_POINTING_MODE = ACROSSTRACK
^MEX_POINTING_DESC = "MEX_POINTING_DESC.TXT"
RIGHT_ASCENSION = -1e+32
DECLINATION = -1e+32
OFFSET_ANGLE = 0.6
SPACECRAFT_SOLAR_DISTANCE = 2.19962e+08
TARGET_NAME = MARS
/* CAMERA DATA ELEMENTS */
DETECTOR_TEMPERATURE = 17.7588
FOCAL_PLANE_TEMPERATURE = 8.3794
INST_CMPRS_NAME = "DISCRETE COSINE TRANSFORMATION (DCT)"
INST_CMPRS_RATIO = 9.05534
INST_CMPRS_QUALITY = 0
INST_CMPRS_QUANTZ_TBL_ID = 0
INSTRUMENT_TEMPERATURE = 11.4379
LENS_TEMPERATURE = 8.9911
MACROPIXEL_SIZE = 4
MISSING_FRAMES = 0
PIXEL_SUBSAMPLING_FLAG = N
SIGNAL_CHAIN_ID = 3
/* RADIOMETRIC DATA ELEMENTS */
BANDWIDTH = 174.0
CENTER_FILTER_WAVELENGTH = 675.0
RADIANCE_OFFSET = 3.07046
RADIANCE_SCALING_FACTOR = 0.0196174
REFLECTANCE_SCALING_FACTOR = 0.000510528
MEX:REFLECTANCE_OFFSET = 0.0799065
/* IMAGE OBJECT DEFINITIONS */
OBJECT = IMAGE
  INTERCHANGE_FORMAT = BINARY
  LINES = 20415
  LINE_SAMPLES = 2228
  SAMPLE_TYPE = UNSIGNED_INTEGER
  SAMPLE_BITS = 8
  BANDS = 1
  BAND_STORAGE_TYPE = BAND_SEQUENTIAL
  MAXIMUM = 255
  MEAN = 147.281
  MINIMUM = 1
  STANDARD_DEVIATION = 28.1945
END_OBJECT = IMAGE
/* MAP OBJECT DEFINITIONS */
OBJECT = IMAGE_MAP_PROJECTION
  ^DATA_SET_MAP_PROJECTION_CATALOG= "DSMAP.CAT"
  A_AXIS_RADIUS = 3396.0
  B_AXIS_RADIUS = 3396.0
  C_AXIS_RADIUS = 3396.0
  CENTER_LATITUDE = 0.0
  CENTER_LONGITUDE = 4.0
  COORDINATE_SYSTEM_NAME = PLANETOGRAPHIC
  COORDINATE_SYSTEM_TYPE = "BODY-FIXED ROTATING"
  EASTERNMOST_LONGITUDE = 5.21796
  FIRST_STANDARD_PARALLEL = "N/A"
  LINE_FIRST_PIXEL = 1
  LINE_LAST_PIXEL = 20415
  LINE_PROJECTION_OFFSET = -14417.875
  MAP_PROJECTION_ROTATION = 0.0
  MAP_PROJECTION_TYPE = SINUSOIDAL
  MAP_RESOLUTION = 1185.42760773333
  MAP_SCALE = 0.05
  MAXIMUM_LATITUDE = -12.1416
  MINIMUM_LATITUDE = -29.3624
  POSITIVE_LONGITUDE_DIRECTION = EAST
  REFERENCE_LATITUDE = "N/A"
  REFERENCE_LONGITUDE = "N/A"
  SAMPLE_FIRST_PIXEL = 1
  SAMPLE_LAST_PIXEL = 2228
  SAMPLE_PROJECTION_OFFSET = 868.125
  SECOND_STANDARD_PARALLEL = "N/A"
  WESTERNMOST_LONGITUDE = 3.2588
END_OBJECT = IMAGE_MAP_PROJECTION
/* The JPEG2000 image data file associated with this label. */
OBJECT = COMPRESSED_FILE
  FILE_NAME = "H6384_0000_P13.JP2"
  RECORD_TYPE = UNDEFINED
  FILE_RECORDS = UNK
  ENCODING_TYPE = "JP2"
  INTERCHANGE_FORMAT = BINARY
  UNCOMPRESSED_FILE_NAME = "H6384_0000_P13.IMG"
  REQUIRED_STORAGE_BYTES = "45506900"
  ^DESCRIPTION = "JP2INFO.TXT"
END_OBJECT = COMPRESSED_FILE
END
