PDS_VERSION_ID = PDS3
/* FILE DATA ELEMENTS */
RECORD_TYPE = STREAM
/* POINTERS TO DATA OBJECTS */
^COMPRESSED_FILE = "H6384_0000_P23.JP2"
/* IDENTIFICATION DATA ELEMENTS */
DATA_SET_ID = "MEX-M-HRSC-5-REFDR-MAPPROJECTED-V3.0"
DATA_SET_NAME = "MARS EXPRESS HRSC MAP PROJECTED REFDR V3.0"
DETECTOR_ID = MEX_HRSC_P2
EVENT_TYPE = "MARS-REGIONAL-MAPPING-Im-Fl"
INSTRUMENT_HOST_ID = MEX
INSTRUMENT_HOST_NAME = "MARS EXPRESS"
INSTRUMENT_ID = HRSC
INSTRUMENT_NAME = "HIGH RESOLUTION STEREO CAMERA"
MISSION_NAME = "MARS EXPRESS"
MISSION_PHASE_NAME = ME_Phase_15
PROCESSING_LEVEL_ID = 3
PRODUCT_CREATION_TIME = 2016-06-28T13:49:36.000Z
PRODUCT_ID = "H6384_0000_P23.JP2"
RELEASE_ID = 0071
REVISION_ID = 0000
/* QUALITY DATA ELEMENTS */
DATA_QUALITY_ID = 2
DATA_QUALITY_DESC = "Data calculated based on photogrammetrically improved orbit and attitude data"
/* TIME DATA ELEMENTS */
SPACECRAFT_CLOCK_START_COUNT = "1/0177999755.08362"
SPACECRAFT_CLOCK_STOP_COUNT = "1/0178000121.20890"
START_TIME = 2008-12-22T04:22:48.901Z
STOP_TIME = 2008-12-22T04:27:14.358Z
/* ORBITAL DATA ELEMENTS */
ASCENDING_NODE_LONGITUDE = 96.17
MAXIMUM_RESOLUTION = 55.7
FOOTPRINT_POINT_LATITUDE = (-29.4118,-29.3983,-29.3828,-29.3652, -28.9053,-28.6135,-28.3216,-28.0303, -27.7392,-27.448,-27.0113,-26.5751, -26.2843,-25.9938,-25.7031,-25.4129, -25.1231,-24.7915,-24.445,-24.0994, -23.7557,-23.2376,-22.8929,-22.55, -22.2039,-21.8602,-21.5169,-21.1741, -20.6602,-20.3169,-19.9756,-19.6249, -19.2747,-18.9252,-18.568,-18.2106, -17.6697,-17.3027,-16.9364,-16.5629, -16.1893,-15.812,-15.4303,-15.0499, -14.66,-14.272,-13.8768,-13.4799, -13.077,-12.6737,-12.2627,-12.1586, -12.1711,-12.1746,-12.1772,-12.1807, -12.5929,-12.9981,-13.4034,-13.7991, -14.1992,-14.7841,-15.1732,-15.7418, -16.1261,-16.4998,-17.0572,-17.4229, -17.7901,-18.1513,-18.5095,-18.8681, -19.2199,-19.7449,-20.0955,-20.4378, -20.7802,-21.2949,-21.6385,-21.9823, -22.4989,-22.8435,-23.1885,-23.534, -23.8792,-24.2254,-24.7453,-25.0926, -25.3836,-25.6742,-26.1105,-26.4013, -26.6922,-26.9838,-27.4213,-27.7133, -28.1504,-28.5885,-28.8805,-29.4118)
FOOTPRINT_POINT_LONGITUDE = (4.84081,4.44222,4.03787,3.62737, 3.47379,3.47779,3.48136,3.48518,3.48885 ,3.49196,3.49611,3.49993,3.50189, 3.50385,3.50522,3.50672,3.50818,3.50953 ,3.50962,3.51003,3.5116,3.51068,3.50992 ,3.51027,3.50715,3.50559,3.50388, 3.50206,3.49838,3.4947,3.49208,3.48866, 3.48509,3.48146,3.47741,3.47351,3.4666, 3.46053,3.45433,3.44796,3.44171,3.43444 ,3.42736,3.42059,3.41232,3.40487, 3.39597,3.38683,3.37668,3.36749,3.35599 ,3.78595,4.31674,4.61154,4.87205, 5.12079,5.11591,5.111,5.10604,5.10135, 5.09616,5.08878,5.08374,5.07678,5.07133 ,5.06641,5.05902,5.05406,5.04893, 5.04384,5.03875,5.0336,5.02843,5.02067, 5.01528,5.01002,5.00471,4.99656,4.99102 ,4.9854,4.97679,4.97095,4.96502,4.95898 ,4.95287,4.94663,4.93708,4.93058, 4.92506,4.91948,4.91095,4.90517,4.89931 ,4.89336,4.88428,4.87811,4.86871, 4.85909,4.85256,4.84081)
ORBIT_NUMBER = 6384
ORBITAL_ECCENTRICITY = 0.575
ORBITAL_INCLINATION = 86.75
ORBITAL_SEMIMAJOR_AXIS = 8687.47
PERIAPSIS_ALTITUDE = 307.08
PERIAPSIS_ARGUMENT_ANGLE = 315.81
PERIAPSIS_TIME = 2008-12-22T04:19:25.000Z
SPACECRAFT_ORIENTATION = (0.0,1.0,0.0)
^MEX_ORIENTATION_DESC = "MEX_ORIENTATION_DESC.TXT"
SPACECRAFT_POINTING_MODE = ACROSSTRACK
^MEX_POINTING_DESC = "MEX_POINTING_DESC.TXT"
RIGHT_ASCENSION = -1e+32
DECLINATION = -1e+32
OFFSET_ANGLE = 0.6
SPACECRAFT_SOLAR_DISTANCE = 2.19962e+08
TARGET_NAME = MARS
/* CAMERA DATA ELEMENTS */
DETECTOR_TEMPERATURE = 18.5744
FOCAL_PLANE_TEMPERATURE = 8.3794
INST_CMPRS_NAME = "DISCRETE COSINE TRANSFORMATION (DCT)"
INST_CMPRS_RATIO = 7.3397
INST_CMPRS_QUALITY = 0
INST_CMPRS_QUANTZ_TBL_ID = 0
INSTRUMENT_TEMPERATURE = 11.4379
LENS_TEMPERATURE = 8.9911
MACROPIXEL_SIZE = 4
MISSING_FRAMES = 0
PIXEL_SUBSAMPLING_FLAG = N
SIGNAL_CHAIN_ID = 3
/* RADIOMETRIC DATA ELEMENTS */
BANDWIDTH = 177.0
CENTER_FILTER_WAVELENGTH = 676.5
RADIANCE_OFFSET = 2.94461
RADIANCE_SCALING_FACTOR = 0.0197767
REFLECTANCE_SCALING_FACTOR = 0.000507346
MEX:REFLECTANCE_OFFSET = 0.07554
/* IMAGE OBJECT DEFINITIONS */
OBJECT = IMAGE
  INTERCHANGE_FORMAT = BINARY
  LINES = 20415
  LINE_SAMPLES = 2228
  SAMPLE_TYPE = UNSIGNED_INTEGER
  SAMPLE_BITS = 8
  BANDS = 1
  BAND_STORAGE_TYPE = BAND_SEQUENTIAL
  MAXIMUM = 255
  MEAN = 147.082
  MINIMUM = 1
  STANDARD_DEVIATION = 28.346
END_OBJECT = IMAGE
/* MAP OBJECT DEFINITIONS */
OBJECT = IMAGE_MAP_PROJECTION
  ^DATA_SET_MAP_PROJECTION_CATALOG= "DSMAP.CAT"
  A_AXIS_RADIUS = 3396.0
  B_AXIS_RADIUS = 3396.0
  C_AXIS_RADIUS = 3396.0
  CENTER_LATITUDE = 0.0
  CENTER_LONGITUDE = 4.0
  COORDINATE_SYSTEM_NAME = PLANETOGRAPHIC
  COORDINATE_SYSTEM_TYPE = "BODY-FIXED ROTATING"
  EASTERNMOST_LONGITUDE = 5.12079
  FIRST_STANDARD_PARALLEL = "N/A"
  LINE_FIRST_PIXEL = 1
  LINE_LAST_PIXEL = 20415
  LINE_PROJECTION_OFFSET = -14417.875
  MAP_PROJECTION_ROTATION = 0.0
  MAP_PROJECTION_TYPE = SINUSOIDAL
  MAP_RESOLUTION = 1185.42760773333
  MAP_SCALE = 0.05
  MAXIMUM_LATITUDE = -12.1586
  MINIMUM_LATITUDE = -29.4118
  POSITIVE_LONGITUDE_DIRECTION = EAST
  REFERENCE_LATITUDE = "N/A"
  REFERENCE_LONGITUDE = "N/A"
  SAMPLE_FIRST_PIXEL = 1
  SAMPLE_LAST_PIXEL = 2228
  SAMPLE_PROJECTION_OFFSET = 868.125
  SECOND_STANDARD_PARALLEL = "N/A"
  WESTERNMOST_LONGITUDE = 3.35599
END_OBJECT = IMAGE_MAP_PROJECTION
/* The JPEG2000 image data file associated with this label. */
OBJECT = COMPRESSED_FILE
  FILE_NAME = "H6384_0000_P23.JP2"
  RECORD_TYPE = UNDEFINED
  FILE_RECORDS = UNK
  ENCODING_TYPE = "JP2"
  INTERCHANGE_FORMAT = BINARY
  UNCOMPRESSED_FILE_NAME = "H6384_0000_P23.IMG"
  REQUIRED_STORAGE_BYTES = "45506900"
  ^DESCRIPTION = "JP2INFO.TXT"
END_OBJECT = COMPRESSED_FILE
END
