PDS_VERSION_ID = PDS3
/* FILE DATA ELEMENTS */
RECORD_TYPE = STREAM
/* POINTERS TO DATA OBJECTS */
^COMPRESSED_FILE = "H6392_0000_P13.JP2"
/* IDENTIFICATION DATA ELEMENTS */
DATA_SET_ID = "MEX-M-HRSC-5-REFDR-MAPPROJECTED-V3.0"
DATA_SET_NAME = "MARS EXPRESS HRSC MAP PROJECTED REFDR V3.0"
DETECTOR_ID = MEX_HRSC_P1
EVENT_TYPE = "MARS-REGIONAL-MAPPING-Te-Im-Fl"
INSTRUMENT_HOST_ID = MEX
INSTRUMENT_HOST_NAME = "MARS EXPRESS"
INSTRUMENT_ID = HRSC
INSTRUMENT_NAME = "HIGH RESOLUTION STEREO CAMERA"
MISSION_NAME = "MARS EXPRESS"
MISSION_PHASE_NAME = ME_Phase_15
PROCESSING_LEVEL_ID = 3
PRODUCT_CREATION_TIME = 2016-06-28T13:49:36.000Z
PRODUCT_ID = "H6392_0000_P13.JP2"
RELEASE_ID = 0071
REVISION_ID = 0000
/* QUALITY DATA ELEMENTS */
DATA_QUALITY_ID = 2
DATA_QUALITY_DESC = "Data calculated based on photogrammetrically improved orbit and attitude data"
/* TIME DATA ELEMENTS */
SPACECRAFT_CLOCK_START_COUNT = "1/0178196870.09046"
SPACECRAFT_CLOCK_STOP_COUNT = "1/0178197184.15029"
START_TIME = 2008-12-24T11:08:40.888Z
STOP_TIME = 2008-12-24T11:12:50.672Z
/* ORBITAL DATA ELEMENTS */
ASCENDING_NODE_LONGITUDE = 96.01
MAXIMUM_RESOLUTION = 52
FOOTPRINT_POINT_LATITUDE = (-37.824,-37.8257,-37.8264,-37.4179, -37.1394,-36.8522,-36.5655,-36.2792, -35.993,-35.5648,-35.2794,-34.9944, -34.5632,-34.2702,-33.9768,-33.6841, -33.3922,-33.1012,-32.8094,-32.5179, -32.2265,-31.9359,-31.6446,-31.207, -30.9199,-30.4897,-30.0645,-29.7787, -29.2976,-28.9582,-28.618,-28.2784, -27.9398,-27.6027,-27.2653,-26.9286, -26.5926,-26.2574,-25.9228,-25.5889, -25.2559,-24.9236,-24.5862,-24.2464, -23.9075,-23.5637,-23.2176,-22.8723, -22.52,-22.2989,-22.2855,-22.2766, -22.6254,-23.1481,-23.4949,-23.8403, -24.1797,-24.5198,-24.8585,-25.1917, -25.5255,-25.86,-26.3637,-26.6991, -27.0362,-27.3735,-27.7122,-28.0504, -28.3894,-28.7296,-29.0694,-29.4092, -29.8681,-30.2991,-30.5866,-30.875, -31.1631,-31.4516,-31.7442,-32.1816, -32.4673,-32.7583,-33.0521,-33.3469, -33.6393,-33.9308,-34.224,-34.5185, -34.8099,-35.0946,-35.3801,-35.8095, -36.0985,-36.391,-36.6771,-36.9595, -37.2451,-37.5244,-37.8028,-37.824)
FOOTPRINT_POINT_LONGITUDE = (282.768,282.347,281.917,281.741, 281.754,281.767,281.78,281.791,281.803, 281.819,281.83,281.84,281.854,281.863, 281.873,281.882,281.89,281.897,281.905, 281.913,281.922,281.929,281.938,281.952 ,281.955,281.961,281.96,281.964,281.971 ,281.974,281.978,281.982,281.986, 281.987,281.99,281.993,281.995,281.996, 281.998,281.999,282.0,282.0,282.001, 282.001,282.0,281.999,281.998,281.997, 281.995,282.319,282.991,283.396,283.616 ,283.604,283.596,283.588,283.58,283.572 ,283.564,283.556,283.548,283.539, 283.527,283.518,283.509,283.5,283.491, 283.482,283.473,283.464,283.454,283.445 ,283.432,283.419,283.411,283.402, 283.393,283.384,283.375,283.361,283.352 ,283.343,283.333,283.322,283.312, 283.302,283.292,283.281,283.271,283.26, 283.25,283.233,283.222,283.209,283.198, 283.187,283.175,283.164,283.152, 282.768)
ORBIT_NUMBER = 6392
ORBITAL_ECCENTRICITY = 0.575
ORBITAL_INCLINATION = 86.75
ORBITAL_SEMIMAJOR_AXIS = 8686.22
PERIAPSIS_ALTITUDE = 306.51
PERIAPSIS_ARGUMENT_ANGLE = 314.44
PERIAPSIS_TIME = 2008-12-24T11:06:27.000Z
SPACECRAFT_ORIENTATION = (0.0,1.0,0.0)
^MEX_ORIENTATION_DESC = "MEX_ORIENTATION_DESC.TXT"
SPACECRAFT_POINTING_MODE = ACROSSTRACK
^MEX_POINTING_DESC = "MEX_POINTING_DESC.TXT"
RIGHT_ASCENSION = -1e+32
DECLINATION = -1e+32
OFFSET_ANGLE = 0.8
SPACECRAFT_SOLAR_DISTANCE = 2.19536e+08
TARGET_NAME = MARS
/* CAMERA DATA ELEMENTS */
DETECTOR_TEMPERATURE = 17.1471
FOCAL_PLANE_TEMPERATURE = 7.7677
INST_CMPRS_NAME = "DISCRETE COSINE TRANSFORMATION (DCT)"
INST_CMPRS_RATIO = 13.555
INST_CMPRS_QUALITY = 0
INST_CMPRS_QUANTZ_TBL_ID = 0
INSTRUMENT_TEMPERATURE = 10.8262
LENS_TEMPERATURE = 8.3794
MACROPIXEL_SIZE = 4
MISSING_FRAMES = 0
PIXEL_SUBSAMPLING_FLAG = N
SIGNAL_CHAIN_ID = 3
/* RADIOMETRIC DATA ELEMENTS */
BANDWIDTH = 174.0
CENTER_FILTER_WAVELENGTH = 675.0
RADIANCE_OFFSET = 1.89411
RADIANCE_SCALING_FACTOR = 0.0176008
REFLECTANCE_SCALING_FACTOR = 0.000456274
MEX:REFLECTANCE_OFFSET = 0.0491018
/* IMAGE OBJECT DEFINITIONS */
OBJECT = IMAGE
  INTERCHANGE_FORMAT = BINARY
  LINES = 18464
  LINE_SAMPLES = 1933
  SAMPLE_TYPE = UNSIGNED_INTEGER
  SAMPLE_BITS = 8
  BANDS = 1
  BAND_STORAGE_TYPE = BAND_SEQUENTIAL
  MAXIMUM = 255
  MEAN = 110.321
  MINIMUM = 1
  STANDARD_DEVIATION = 18.4657
END_OBJECT = IMAGE
/* MAP OBJECT DEFINITIONS */
OBJECT = IMAGE_MAP_PROJECTION
  ^DATA_SET_MAP_PROJECTION_CATALOG= "DSMAP.CAT"
  A_AXIS_RADIUS = 3396.0
  B_AXIS_RADIUS = 3396.0
  C_AXIS_RADIUS = 3396.0
  CENTER_LATITUDE = 0.0
  CENTER_LONGITUDE = 283.0
  COORDINATE_SYSTEM_NAME = PLANETOGRAPHIC
  COORDINATE_SYSTEM_TYPE = "BODY-FIXED ROTATING"
  EASTERNMOST_LONGITUDE = 283.616
  FIRST_STANDARD_PARALLEL = "N/A"
  LINE_FIRST_PIXEL = 1
  LINE_LAST_PIXEL = 18464
  LINE_PROJECTION_OFFSET = -26443.125
  MAP_PROJECTION_ROTATION = 0.0
  MAP_PROJECTION_TYPE = SINUSOIDAL
  MAP_RESOLUTION = 1185.42760773333
  MAP_SCALE = 0.05
  MAXIMUM_LATITUDE = -22.2766
  MINIMUM_LATITUDE = -37.8264
  POSITIVE_LONGITUDE_DIRECTION = EAST
  REFERENCE_LATITUDE = "N/A"
  REFERENCE_LONGITUDE = "N/A"
  SAMPLE_FIRST_PIXEL = 1
  SAMPLE_LAST_PIXEL = 1933
  SAMPLE_PROJECTION_OFFSET = 1284.125
  SECOND_STANDARD_PARALLEL = "N/A"
  WESTERNMOST_LONGITUDE = 281.741
END_OBJECT = IMAGE_MAP_PROJECTION
/* The JPEG2000 image data file associated with this label. */
OBJECT = COMPRESSED_FILE
  FILE_NAME = "H6392_0000_P13.JP2"
  RECORD_TYPE = UNDEFINED
  FILE_RECORDS = UNK
  ENCODING_TYPE = "JP2"
  INTERCHANGE_FORMAT = BINARY
  UNCOMPRESSED_FILE_NAME = "H6392_0000_P13.IMG"
  REQUIRED_STORAGE_BYTES = "35710242"
  ^DESCRIPTION = "JP2INFO.TXT"
END_OBJECT = COMPRESSED_FILE
END
