PDS_VERSION_ID = PDS3
/* FILE DATA ELEMENTS */
RECORD_TYPE = STREAM
/* POINTERS TO DATA OBJECTS */
^COMPRESSED_FILE = "H6393_0000_GR3.JP2"
/* IDENTIFICATION DATA ELEMENTS */
DATA_SET_ID = "MEX-M-HRSC-5-REFDR-MAPPROJECTED-V3.0"
DATA_SET_NAME = "MARS EXPRESS HRSC MAP PROJECTED REFDR V3.0"
DETECTOR_ID = MEX_HRSC_GREEN
EVENT_TYPE = "MARS-REGIONAL-MAPPING-Te-Mw"
INSTRUMENT_HOST_ID = MEX
INSTRUMENT_HOST_NAME = "MARS EXPRESS"
INSTRUMENT_ID = HRSC
INSTRUMENT_NAME = "HIGH RESOLUTION STEREO CAMERA"
MISSION_NAME = "MARS EXPRESS"
MISSION_PHASE_NAME = ME_Phase_15
PROCESSING_LEVEL_ID = 3
PRODUCT_CREATION_TIME = 2016-06-28T13:49:36.000Z
PRODUCT_ID = "H6393_0000_GR3.JP2"
RELEASE_ID = 0071
REVISION_ID = 0000
/* QUALITY DATA ELEMENTS */
DATA_QUALITY_ID = 2
DATA_QUALITY_DESC = "Data calculated based on photogrammetrically improved orbit and attitude data"
/* TIME DATA ELEMENTS */
SPACECRAFT_CLOCK_START_COUNT = "1/0178221488.08251"
SPACECRAFT_CLOCK_STOP_COUNT = "1/0178221745.07766"
START_TIME = 2008-12-24T17:58:44.975Z
STOP_TIME = 2008-12-24T18:01:56.143Z
/* ORBITAL DATA ELEMENTS */
ASCENDING_NODE_LONGITUDE = 95.99
MAXIMUM_RESOLUTION = 50.3
FOOTPRINT_POINT_LATITUDE = (-40.0768,-40.0677,-40.0568,-40.0424, -39.8149,-39.5833,-39.236,-39.0047, -38.6581,-38.4271,-38.1961,-37.8387, -37.6,-37.3614,-37.1228,-36.8844, -36.6454,-36.4076,-36.0511,-35.8135, -35.4571,-35.2198,-34.9751,-34.7299, -34.485,-34.2404,-33.9955,-33.6291, -33.2635,-33.0197,-32.6544,-32.4098, -32.167,-31.9244,-31.6821,-31.4396, -31.1973,-30.9552,-30.7133,-30.4716, -30.2301,-29.9888,-29.7478,-29.5071, -29.2315,-28.9448,-28.6584,-28.3723, -28.0861,-27.8004,-27.7242,-27.7266, -27.7283,-27.7299,-28.0158,-28.3019, -28.5884,-28.8754,-29.1628,-29.5727, -29.9345,-30.1761,-30.418,-30.6604, -31.0237,-31.2661,-31.5089,-31.7522, -31.9956,-32.2394,-32.4834,-32.7276, -32.972,-33.2165,-33.4611,-33.7059, -33.951,-34.3185,-34.6865,-34.932, -35.2981,-35.536,-35.774,-36.0121, -36.2503,-36.4879,-36.7265,-36.966, -37.2051,-37.4443,-37.6835,-37.9228, -38.2793,-38.5107,-38.7422,-38.974, -39.206,-39.5534,-39.7858,-40.0768)
FOOTPRINT_POINT_LONGITUDE = (182.181,181.754,181.311,180.807, 180.759,180.775,180.799,180.814,180.832 ,180.846,180.859,180.88,180.894,180.908 ,180.922,180.936,180.956,180.965, 180.979,180.989,181.006,181.016,181.03, 181.042,181.053,181.063,181.076,181.09, 181.101,181.109,181.122,181.141,181.147 ,181.152,181.156,181.163,181.171, 181.178,181.184,181.191,181.198,181.205 ,181.211,181.216,181.223,181.229, 181.234,181.24,181.249,181.257,181.726, 182.16,182.522,182.787,182.778,182.769, 182.76,182.75,182.741,182.727,182.715, 182.707,182.698,182.689,182.677,182.669 ,182.66,182.65,182.641,182.631,182.62, 182.61,182.6,182.589,182.579,182.568, 182.557,182.542,182.526,182.515,182.499 ,182.489,182.478,182.468,182.458,182.45 ,182.438,182.425,182.413,182.401, 182.389,182.376,182.359,182.347,182.336 ,182.324,182.311,182.294,182.281, 182.181)
ORBIT_NUMBER = 6393
ORBITAL_ECCENTRICITY = 0.575
ORBITAL_INCLINATION = 86.76
ORBITAL_SEMIMAJOR_AXIS = 8682.37
PERIAPSIS_ALTITUDE = 306.77
PERIAPSIS_ARGUMENT_ANGLE = 314.27
PERIAPSIS_TIME = 2008-12-24T17:57:17.000Z
SPACECRAFT_ORIENTATION = (0.0,1.0,0.0)
^MEX_ORIENTATION_DESC = "MEX_ORIENTATION_DESC.TXT"
SPACECRAFT_POINTING_MODE = ACROSSTRACK
^MEX_POINTING_DESC = "MEX_POINTING_DESC.TXT"
RIGHT_ASCENSION = -1e+32
DECLINATION = -1e+32
OFFSET_ANGLE = 1.3
SPACECRAFT_SOLAR_DISTANCE = 2.19483e+08
TARGET_NAME = MARS
/* CAMERA DATA ELEMENTS */
DETECTOR_TEMPERATURE = 17.9627
FOCAL_PLANE_TEMPERATURE = 7.7677
INST_CMPRS_NAME = "DISCRETE COSINE TRANSFORMATION (DCT)"
INST_CMPRS_RATIO = 11.0384
INST_CMPRS_QUALITY = 0
INST_CMPRS_QUANTZ_TBL_ID = 0
INSTRUMENT_TEMPERATURE = 10.8262
LENS_TEMPERATURE = 8.3794
MACROPIXEL_SIZE = 4
MISSING_FRAMES = 0
PIXEL_SUBSAMPLING_FLAG = N
SIGNAL_CHAIN_ID = 2
/* RADIOMETRIC DATA ELEMENTS */
BANDWIDTH = 88.0
CENTER_FILTER_WAVELENGTH = 538.0
RADIANCE_OFFSET = 1.24077
RADIANCE_SCALING_FACTOR = 0.00520923
REFLECTANCE_SCALING_FACTOR = 0.000216054
MEX:REFLECTANCE_OFFSET = 0.0514613
/* IMAGE OBJECT DEFINITIONS */
OBJECT = IMAGE
  INTERCHANGE_FORMAT = BINARY
  LINES = 14670
  LINE_SAMPLES = 2078
  SAMPLE_TYPE = UNSIGNED_INTEGER
  SAMPLE_BITS = 8
  BANDS = 1
  BAND_STORAGE_TYPE = BAND_SEQUENTIAL
  MAXIMUM = 255
  MEAN = 128.734
  MINIMUM = 1
  STANDARD_DEVIATION = 28.8697
END_OBJECT = IMAGE
/* MAP OBJECT DEFINITIONS */
OBJECT = IMAGE_MAP_PROJECTION
  ^DATA_SET_MAP_PROJECTION_CATALOG= "DSMAP.CAT"
  A_AXIS_RADIUS = 3396.0
  B_AXIS_RADIUS = 3396.0
  C_AXIS_RADIUS = 3396.0
  CENTER_LATITUDE = 0.0
  CENTER_LONGITUDE = 182.0
  COORDINATE_SYSTEM_NAME = PLANETOGRAPHIC
  COORDINATE_SYSTEM_TYPE = "BODY-FIXED ROTATING"
  EASTERNMOST_LONGITUDE = 182.787
  FIRST_STANDARD_PARALLEL = "N/A"
  LINE_FIRST_PIXEL = 1
  LINE_LAST_PIXEL = 14670
  LINE_PROJECTION_OFFSET = -32866.625
  MAP_PROJECTION_ROTATION = 0.0
  MAP_PROJECTION_TYPE = SINUSOIDAL
  MAP_RESOLUTION = 1185.42760773333
  MAP_SCALE = 0.05
  MAXIMUM_LATITUDE = -27.7242
  MINIMUM_LATITUDE = -40.0768
  POSITIVE_LONGITUDE_DIRECTION = EAST
  REFERENCE_LATITUDE = "N/A"
  REFERENCE_LONGITUDE = "N/A"
  SAMPLE_FIRST_PIXEL = 1
  SAMPLE_LAST_PIXEL = 2078
  SAMPLE_PROJECTION_OFFSET = 1249.125
  SECOND_STANDARD_PARALLEL = "N/A"
  WESTERNMOST_LONGITUDE = 180.759
END_OBJECT = IMAGE_MAP_PROJECTION
/* The JPEG2000 image data file associated with this label. */
OBJECT = COMPRESSED_FILE
  FILE_NAME = "H6393_0000_GR3.JP2"
  RECORD_TYPE = UNDEFINED
  FILE_RECORDS = UNK
  ENCODING_TYPE = "JP2"
  INTERCHANGE_FORMAT = BINARY
  UNCOMPRESSED_FILE_NAME = "H6393_0000_GR3.IMG"
  REQUIRED_STORAGE_BYTES = "30505040"
  ^DESCRIPTION = "JP2INFO.TXT"
END_OBJECT = COMPRESSED_FILE
END
