PDS_VERSION_ID = PDS3
/* FILE DATA ELEMENTS */
RECORD_TYPE = STREAM
/* POINTERS TO DATA OBJECTS */
^COMPRESSED_FILE = "H6395_0000_IR3.JP2"
/* IDENTIFICATION DATA ELEMENTS */
DATA_SET_ID = "MEX-M-HRSC-5-REFDR-MAPPROJECTED-V3.0"
DATA_SET_NAME = "MARS EXPRESS HRSC MAP PROJECTED REFDR V3.0"
DETECTOR_ID = MEX_HRSC_IR
EVENT_TYPE = "MARS-REGIONAL-MAPPING-Im-Fl"
INSTRUMENT_HOST_ID = MEX
INSTRUMENT_HOST_NAME = "MARS EXPRESS"
INSTRUMENT_ID = HRSC
INSTRUMENT_NAME = "HIGH RESOLUTION STEREO CAMERA"
MISSION_NAME = "MARS EXPRESS"
MISSION_PHASE_NAME = ME_Phase_15
PROCESSING_LEVEL_ID = 3
PRODUCT_CREATION_TIME = 2016-06-28T13:49:36.000Z
PRODUCT_ID = "H6395_0000_IR3.JP2"
RELEASE_ID = 0071
REVISION_ID = 0000
/* QUALITY DATA ELEMENTS */
DATA_QUALITY_ID = 2
DATA_QUALITY_DESC = "Data calculated based on photogrammetrically improved orbit and attitude data"
/* TIME DATA ELEMENTS */
SPACECRAFT_CLOCK_START_COUNT = "1/0178270836.08239"
SPACECRAFT_CLOCK_STOP_COUNT = "1/0178271126.00271"
START_TIME = 2008-12-25T07:41:31.609Z
STOP_TIME = 2008-12-25T07:45:20.165Z
/* ORBITAL DATA ELEMENTS */
ASCENDING_NODE_LONGITUDE = 95.95
MAXIMUM_RESOLUTION = 54.1
FOOTPRINT_POINT_LATITUDE = (-37.41,-37.4049,-37.401,-37.3975, -37.2923,-37.0397,-36.7796,-36.5194, -36.2591,-35.9994,-35.7401,-35.4814, -35.2233,-34.9661,-34.7033,-34.4373, -34.0403,-33.7734,-33.5086,-33.2439, -32.9862,-32.5902,-32.3243,-32.0595, -31.7975,-31.5361,-31.1439,-30.8834, -30.4935,-30.2334,-29.9639,-29.6563, -29.1976,-28.7325,-28.426,-28.1243, -27.8161,-27.5114,-27.2078,-26.9048, -26.603,-26.1504,-25.6985,-25.3986, -25.0903,-24.792,-24.4866,-24.1692, -23.699,-23.385,-23.3441,-23.3452, -23.3443,-23.3438,-23.3433,-23.5035, -23.8145,-24.1341,-24.4469,-24.9019, -25.2065,-25.5175,-25.8203,-26.1211, -26.4147,-26.7182,-27.1738,-27.4779, -27.9356,-28.2407,-28.5466,-28.854, -29.3185,-29.6265,-30.0825,-30.3416, -30.732,-30.9925,-31.2532,-31.515, -31.9078,-32.302,-32.565,-32.829, -33.0938,-33.3579,-33.756,-34.0212, -34.2872,-34.5529,-34.9499,-35.208, -35.5971,-35.8566,-36.1173,-36.3777, -36.638,-36.8984,-37.1568,-37.41)
FOOTPRINT_POINT_LONGITUDE = (343.61,343.245,342.997,342.789,342.371 ,342.378,342.384,342.391,342.398, 342.404,342.41,342.415,342.421,342.425, 342.43,342.435,342.441,342.446,342.451, 342.454,342.455,342.46,342.465,342.469, 342.471,342.473,342.477,342.478,342.481 ,342.482,342.483,342.483,342.483, 342.486,342.486,342.484,342.485,342.484 ,342.483,342.482,342.481,342.478, 342.476,342.474,342.472,342.465,342.462 ,342.462,342.457,342.454,342.787, 343.092,343.519,343.717,343.9,344.086, 344.08,344.077,344.072,344.062,344.056, 344.053,344.048,344.043,344.034,344.029 ,344.021,344.015,344.006,344.0,343.994, 343.988,343.98,343.974,343.964,343.959, 343.951,343.945,343.939,343.934,343.925 ,343.917,343.911,343.905,343.899, 343.893,343.884,343.878,343.872,343.865 ,343.855,343.849,343.84,343.833,343.827 ,343.821,343.814,343.807,343.8,343.61)
ORBIT_NUMBER = 6395
ORBITAL_ECCENTRICITY = 0.575
ORBITAL_INCLINATION = 86.76
ORBITAL_SEMIMAJOR_AXIS = 8682.08
PERIAPSIS_ALTITUDE = 306.53
PERIAPSIS_ARGUMENT_ANGLE = 313.91
PERIAPSIS_TIME = 2008-12-25T07:38:58.000Z
SPACECRAFT_ORIENTATION = (0.0,1.0,0.0)
^MEX_ORIENTATION_DESC = "MEX_ORIENTATION_DESC.TXT"
SPACECRAFT_POINTING_MODE = NADIR
^MEX_POINTING_DESC = "MEX_POINTING_DESC.TXT"
RIGHT_ASCENSION = -1e+32
DECLINATION = -1e+32
OFFSET_ANGLE = -1e+32
SPACECRAFT_SOLAR_DISTANCE = 2.19377e+08
TARGET_NAME = MARS
/* CAMERA DATA ELEMENTS */
DETECTOR_TEMPERATURE = 17.5549
FOCAL_PLANE_TEMPERATURE = 7.9716
INST_CMPRS_NAME = "DISCRETE COSINE TRANSFORMATION (DCT)"
INST_CMPRS_RATIO = 12.8308
INST_CMPRS_QUALITY = 0
INST_CMPRS_QUANTZ_TBL_ID = 0
INSTRUMENT_TEMPERATURE = 11.4379
LENS_TEMPERATURE = 8.5833
MACROPIXEL_SIZE = 4
MISSING_FRAMES = 0
PIXEL_SUBSAMPLING_FLAG = N
SIGNAL_CHAIN_ID = 2
/* RADIOMETRIC DATA ELEMENTS */
BANDWIDTH = 81.0
CENTER_FILTER_WAVELENGTH = 955.5
RADIANCE_OFFSET = 0.648487
RADIANCE_SCALING_FACTOR = 0.00308105
REFLECTANCE_SCALING_FACTOR = 0.000319894
MEX:REFLECTANCE_OFFSET = 0.0673301
/* IMAGE OBJECT DEFINITIONS */
OBJECT = IMAGE
  INTERCHANGE_FORMAT = BINARY
  LINES = 16713
  LINE_SAMPLES = 1783
  SAMPLE_TYPE = UNSIGNED_INTEGER
  SAMPLE_BITS = 8
  BANDS = 1
  BAND_STORAGE_TYPE = BAND_SEQUENTIAL
  MAXIMUM = 255
  MEAN = 124.995
  MINIMUM = 1
  STANDARD_DEVIATION = 24.263
END_OBJECT = IMAGE
/* MAP OBJECT DEFINITIONS */
OBJECT = IMAGE_MAP_PROJECTION
  ^DATA_SET_MAP_PROJECTION_CATALOG= "DSMAP.CAT"
  A_AXIS_RADIUS = 3396.0
  B_AXIS_RADIUS = 3396.0
  C_AXIS_RADIUS = 3396.0
  CENTER_LATITUDE = 0.0
  CENTER_LONGITUDE = 343.0
  COORDINATE_SYSTEM_NAME = PLANETOGRAPHIC
  COORDINATE_SYSTEM_TYPE = "BODY-FIXED ROTATING"
  EASTERNMOST_LONGITUDE = 344.086
  FIRST_STANDARD_PARALLEL = "N/A"
  LINE_FIRST_PIXEL = 1
  LINE_LAST_PIXEL = 16713
  LINE_PROJECTION_OFFSET = -27688.375
  MAP_PROJECTION_ROTATION = 0.0
  MAP_PROJECTION_TYPE = SINUSOIDAL
  MAP_RESOLUTION = 1185.42760773333
  MAP_SCALE = 0.05
  MAXIMUM_LATITUDE = -23.3433
  MINIMUM_LATITUDE = -37.41
  POSITIVE_LONGITUDE_DIRECTION = EAST
  REFERENCE_LATITUDE = "N/A"
  REFERENCE_LONGITUDE = "N/A"
  SAMPLE_FIRST_PIXEL = 1
  SAMPLE_LAST_PIXEL = 1783
  SAMPLE_PROJECTION_OFFSET = 612.375
  SECOND_STANDARD_PARALLEL = "N/A"
  WESTERNMOST_LONGITUDE = 342.371
END_OBJECT = IMAGE_MAP_PROJECTION
/* The JPEG2000 image data file associated with this label. */
OBJECT = COMPRESSED_FILE
  FILE_NAME = "H6395_0000_IR3.JP2"
  RECORD_TYPE = UNDEFINED
  FILE_RECORDS = UNK
  ENCODING_TYPE = "JP2"
  INTERCHANGE_FORMAT = BINARY
  UNCOMPRESSED_FILE_NAME = "H6395_0000_IR3.IMG"
  REQUIRED_STORAGE_BYTES = "29818892"
  ^DESCRIPTION = "JP2INFO.TXT"
END_OBJECT = COMPRESSED_FILE
END
